| Back to Workflows build report for BioC 3.9 |
This page was generated on 2019-10-16 13:50:16 -0400 (Wed, 16 Oct 2019).
| Package 3/27 | Hostname | OS / Arch | INSTALL | BUILD | ||||||
| BgeeCall 1.0.1 Julien Wollbrett
| malbec2 | Linux (Ubuntu 18.04.2 LTS) / x86_64 | OK | [ OK ] |
| Package: BgeeCall |
| Version: 1.0.1 |
| Command: /home/biocbuild/bbs-3.9-bioc/R/bin/R CMD build --keep-empty-dirs --no-resave-data BgeeCall |
| StartedAt: 2019-10-16 12:19:03 -0400 (Wed, 16 Oct 2019) |
| EndedAt: 2019-10-16 12:20:45 -0400 (Wed, 16 Oct 2019) |
| EllapsedTime: 101.6 seconds |
| RetCode: 0 |
| Status: OK |
| PackageFile: BgeeCall_1.0.1.tar.gz |
| PackageFileSize: 5.607 MiB |
############################################################################## ############################################################################## ### ### Running command: ### ### /home/biocbuild/bbs-3.9-bioc/R/bin/R CMD build --keep-empty-dirs --no-resave-data BgeeCall ### ############################################################################## ############################################################################## * checking for file ‘BgeeCall/DESCRIPTION’ ... OK * preparing ‘BgeeCall’: * checking DESCRIPTION meta-information ... OK * installing the package to build vignettes * creating vignettes ... OK * checking for LF line-endings in source and make files and shell scripts * checking for empty or unneeded directories * building ‘BgeeCall_1.0.1.tar.gz’