| Back to Multiple platform build/check report for BioC 3.9 | 
 | 
This page was generated on 2019-04-09 13:39:41 -0400 (Tue, 09 Apr 2019).
| Package 408/1703 | Hostname | OS / Arch | INSTALL | BUILD | CHECK | BUILD BIN | ||||||
| DeMixT 0.99.9 Zeya Wang 
 | malbec2 | Linux (Ubuntu 18.04.2 LTS) / x86_64 | OK | OK | OK |  | ||||||
| tokay2 | Windows Server 2012 R2 Standard / x64 | OK | OK | OK | OK |  | ||||||
| celaya2 | OS X 10.11.6 El Capitan / x86_64 | OK | OK | OK | OK |  | ||||||
| merida2 | OS X 10.11.6 El Capitan / x86_64 | [ OK ] | OK | OK | OK | 
| Package: DeMixT | 
| Version: 0.99.9 | 
| Command: /Library/Frameworks/R.framework/Versions/Current/Resources/bin/R CMD INSTALL DeMixT | 
| StartedAt: 2019-04-08 18:58:02 -0400 (Mon, 08 Apr 2019) | 
| EndedAt: 2019-04-08 18:58:53 -0400 (Mon, 08 Apr 2019) | 
| EllapsedTime: 50.1 seconds | 
| RetCode: 0 | 
| Status: OK | 
##############################################################################
##############################################################################
###
### Running command:
###
###   /Library/Frameworks/R.framework/Versions/Current/Resources/bin/R CMD INSTALL DeMixT
###
##############################################################################
##############################################################################
* installing to library ‘/Library/Frameworks/R.framework/Versions/3.6/Resources/library’
* installing *source* package ‘DeMixT’ ...
** libs
clang -I"/Library/Frameworks/R.framework/Resources/include" -DNDEBUG   -I/usr/local/include  -fopenmp -fPIC  -Wall -g -O2  -c DeMixT.c -o DeMixT.o
DeMixT.c:253:26: warning: implicit declaration of function 'Rprintf' is invalid in C99 [-Wimplicit-function-declaration]
      if (nHavepi != 1)  Rprintf("Iteration %d: updating purities\n", i+1);
                         ^
DeMixT.c:43:9: warning: unused variable 'nthread' [-Wunused-variable]
    int nthread=*thread;
        ^
2 warnings generated.
clang -I"/Library/Frameworks/R.framework/Resources/include" -DNDEBUG   -I/usr/local/include  -fopenmp -fPIC  -Wall -g -O2  -c init.c -o init.o
clang -I"/Library/Frameworks/R.framework/Resources/include" -DNDEBUG   -I/usr/local/include  -fopenmp -fPIC  -Wall -g -O2  -c registerDynamicSymbol.c -o registerDynamicSymbol.o
clang -dynamiclib -Wl,-headerpad_max_install_names -undefined dynamic_lookup -single_module -multiply_defined suppress -L/Library/Frameworks/R.framework/Resources/lib -L/usr/local/lib -o DeMixT.so DeMixT.o init.o registerDynamicSymbol.o -fopenmp -F/Library/Frameworks/R.framework/.. -framework R -Wl,-framework -Wl,CoreFoundation
installing to /Library/Frameworks/R.framework/Versions/3.6/Resources/library/DeMixT/libs
** R
** data
*** moving datasets to lazyload DB
** inst
** byte-compile and prepare package for lazy loading
** help
*** installing help indices
** building package indices
** installing vignettes
** testing if installed package can be loaded
* DONE (DeMixT)