| Back to Multiple platform build/check report for BioC 3.9 | 
 | 
This page was generated on 2019-04-09 13:39:41 -0400 (Tue, 09 Apr 2019).
| Package 408/1703 | Hostname | OS / Arch | INSTALL | BUILD | CHECK | BUILD BIN | ||||||
| DeMixT 0.99.9 Zeya Wang 
 | malbec2 | Linux (Ubuntu 18.04.2 LTS) / x86_64 | OK | OK | OK |  | ||||||
| tokay2 | Windows Server 2012 R2 Standard / x64 | OK | OK | OK | OK |  | ||||||
| celaya2 | OS X 10.11.6 El Capitan / x86_64 | OK | OK | OK | OK |  | ||||||
| merida2 | OS X 10.11.6 El Capitan / x86_64 | OK | OK | [ OK ] | OK | 
| Package: DeMixT | 
| Version: 0.99.9 | 
| Command: /Library/Frameworks/R.framework/Versions/Current/Resources/bin/R CMD check --install=check:DeMixT.install-out.txt --library=/Library/Frameworks/R.framework/Versions/Current/Resources/library --no-vignettes --timings DeMixT_0.99.9.tar.gz | 
| StartedAt: 2019-04-09 00:23:39 -0400 (Tue, 09 Apr 2019) | 
| EndedAt: 2019-04-09 00:26:12 -0400 (Tue, 09 Apr 2019) | 
| EllapsedTime: 153.0 seconds | 
| RetCode: 0 | 
| Status: OK | 
| CheckDir: DeMixT.Rcheck | 
| Warnings: 0 | 
##############################################################################
##############################################################################
###
### Running command:
###
###   /Library/Frameworks/R.framework/Versions/Current/Resources/bin/R CMD check --install=check:DeMixT.install-out.txt --library=/Library/Frameworks/R.framework/Versions/Current/Resources/library --no-vignettes --timings DeMixT_0.99.9.tar.gz
###
##############################################################################
##############################################################################
* using log directory ‘/Users/biocbuild/bbs-3.9-bioc/meat/DeMixT.Rcheck’
* using R Under development (unstable) (2018-11-27 r75683)
* using platform: x86_64-apple-darwin15.6.0 (64-bit)
* using session charset: UTF-8
* using option ‘--no-vignettes’
* checking for file ‘DeMixT/DESCRIPTION’ ... OK
* this is package ‘DeMixT’ version ‘0.99.9’
* checking package namespace information ... OK
* checking package dependencies ... OK
* checking if this is a source package ... OK
* checking if there is a namespace ... OK
* checking for hidden files and directories ... OK
* checking for portable file names ... OK
* checking for sufficient/correct file permissions ... OK
* checking whether package ‘DeMixT’ can be installed ... OK
* checking installed package size ... OK
* checking package directory ... OK
* checking ‘build’ directory ... OK
* checking DESCRIPTION meta-information ... OK
* checking top-level files ... OK
* checking for left-over files ... OK
* checking index information ... OK
* checking package subdirectories ... OK
* checking R files for non-ASCII characters ... OK
* checking R files for syntax errors ... OK
* checking whether the package can be loaded ... OK
* checking whether the package can be loaded with stated dependencies ... OK
* checking whether the package can be unloaded cleanly ... OK
* checking whether the namespace can be loaded with stated dependencies ... OK
* checking whether the namespace can be unloaded cleanly ... OK
* checking dependencies in R code ... OK
* checking S3 generic/method consistency ... OK
* checking replacement functions ... OK
* checking foreign function calls ... OK
* checking R code for possible problems ... OK
* checking Rd files ... OK
* checking Rd metadata ... OK
* checking Rd cross-references ... OK
* checking for missing documentation entries ... OK
* checking for code/documentation mismatches ... OK
* checking Rd \usage sections ... OK
* checking Rd contents ... OK
* checking for unstated dependencies in examples ... OK
* checking contents of ‘data’ directory ... OK
* checking data for non-ASCII characters ... OK
* checking data for ASCII and uncompressed saves ... OK
* checking line endings in C/C++/Fortran sources/headers ... OK
* checking line endings in Makefiles ... OK
* checking compilation flags in Makevars ... OK
* checking for GNU extensions in Makefiles ... OK
* checking for portable use of $(BLAS_LIBS) and $(LAPACK_LIBS) ... OK
* checking compiled code ... OK
* checking files in ‘vignettes’ ... OK
* checking examples ... OK
Examples with CPU or elapsed time > 5s
                  user system elapsed
DeMixT          38.621  2.465   3.163
DeMixT_S1       34.992  2.601   2.861
Optimum_KernelC 22.929  1.626   1.918
* checking for unstated dependencies in vignettes ... OK
* checking package vignettes in ‘inst/doc’ ... OK
* checking running R code from vignettes ... SKIPPED
* checking re-building of vignette outputs ... SKIPPED
* checking PDF version of manual ... OK
* DONE
Status: OK
DeMixT.Rcheck/00install.out
##############################################################################
##############################################################################
###
### Running command:
###
###   /Library/Frameworks/R.framework/Versions/Current/Resources/bin/R CMD INSTALL DeMixT
###
##############################################################################
##############################################################################
* installing to library ‘/Library/Frameworks/R.framework/Versions/3.6/Resources/library’
* installing *source* package ‘DeMixT’ ...
** libs
clang -I"/Library/Frameworks/R.framework/Resources/include" -DNDEBUG   -I/usr/local/include  -fopenmp -fPIC  -Wall -g -O2  -c DeMixT.c -o DeMixT.o
DeMixT.c:253:26: warning: implicit declaration of function 'Rprintf' is invalid in C99 [-Wimplicit-function-declaration]
      if (nHavepi != 1)  Rprintf("Iteration %d: updating purities\n", i+1);
                         ^
DeMixT.c:43:9: warning: unused variable 'nthread' [-Wunused-variable]
    int nthread=*thread;
        ^
2 warnings generated.
clang -I"/Library/Frameworks/R.framework/Resources/include" -DNDEBUG   -I/usr/local/include  -fopenmp -fPIC  -Wall -g -O2  -c init.c -o init.o
clang -I"/Library/Frameworks/R.framework/Resources/include" -DNDEBUG   -I/usr/local/include  -fopenmp -fPIC  -Wall -g -O2  -c registerDynamicSymbol.c -o registerDynamicSymbol.o
clang -dynamiclib -Wl,-headerpad_max_install_names -undefined dynamic_lookup -single_module -multiply_defined suppress -L/Library/Frameworks/R.framework/Resources/lib -L/usr/local/lib -o DeMixT.so DeMixT.o init.o registerDynamicSymbol.o -fopenmp -F/Library/Frameworks/R.framework/.. -framework R -Wl,-framework -Wl,CoreFoundation
installing to /Library/Frameworks/R.framework/Versions/3.6/Resources/library/DeMixT/libs
** R
** data
*** moving datasets to lazyload DB
** inst
** byte-compile and prepare package for lazy loading
** help
*** installing help indices
** building package indices
** installing vignettes
** testing if installed package can be loaded
* DONE (DeMixT)
DeMixT.Rcheck/DeMixT-Ex.timings
| name | user | system | elapsed | |
| DeMixT | 38.621 | 2.465 | 3.163 | |
| DeMixT_S1 | 34.992 | 2.601 | 2.861 | |
| DeMixT_S2 | 3.775 | 0.432 | 0.346 | |
| Optimum_KernelC | 22.929 | 1.626 | 1.918 | |
| test.data1.comp1 | 0.064 | 0.065 | 0.018 | |
| test.data1.truth | 0.019 | 0.015 | 0.005 | |
| test.data1.y | 0.074 | 0.044 | 0.016 | |
| test.data2.comp1 | 0.085 | 0.060 | 0.016 | |
| test.data2.comp2 | 0.057 | 0.061 | 0.015 | |
| test.data2.truth | 0.016 | 0.021 | 0.005 | |
| test.data2.y | 0.056 | 0.068 | 0.016 | |
| test.data3.comp1 | 0.066 | 0.081 | 0.019 | |
| test.data3.comp2 | 0.049 | 0.038 | 0.020 | |
| test.data3.truth | 0.001 | 0.001 | 0.004 | |
| test.data3.y | 0.011 | 0.002 | 0.013 | |