| Back to Multiple platform build/check report for BioC 3.9 |
|
This page was generated on 2019-10-16 13:04:39 -0400 (Wed, 16 Oct 2019).
| Package 415/1741 | Hostname | OS / Arch | INSTALL | BUILD | CHECK | BUILD BIN | ||||||
| DeMixT 1.0.4 Zeya Wang
| malbec2 | Linux (Ubuntu 18.04.2 LTS) / x86_64 | OK | OK | WARNINGS | |||||||
| tokay2 | Windows Server 2012 R2 Standard / x64 | OK | OK | WARNINGS | OK | |||||||
| celaya2 | OS X 10.11.6 El Capitan / x86_64 | OK | [ OK ] | WARNINGS | OK |
| Package: DeMixT |
| Version: 1.0.4 |
| Command: /Library/Frameworks/R.framework/Versions/Current/Resources/bin/R CMD build --keep-empty-dirs --no-resave-data DeMixT |
| StartedAt: 2019-10-16 00:07:45 -0400 (Wed, 16 Oct 2019) |
| EndedAt: 2019-10-16 00:09:08 -0400 (Wed, 16 Oct 2019) |
| EllapsedTime: 82.9 seconds |
| RetCode: 0 |
| Status: OK |
| PackageFile: DeMixT_1.0.4.tar.gz |
| PackageFileSize: 1.425 MiB |
##############################################################################
##############################################################################
###
### Running command:
###
### /Library/Frameworks/R.framework/Versions/Current/Resources/bin/R CMD build --keep-empty-dirs --no-resave-data DeMixT
###
##############################################################################
##############################################################################
* checking for file ‘DeMixT/DESCRIPTION’ ... OK
* preparing ‘DeMixT’:
* checking DESCRIPTION meta-information ... OK
* cleaning src
* installing the package to build vignettes
* creating vignettes ... OK
Warning: ‘inst/doc’ files
‘demixt.Rmd’, ‘demixt.html’, ‘demixt.R’
ignored as vignettes have been rebuilt.
Run R CMD build with --no-build-vignettes to prevent rebuilding.
* cleaning src
* checking for LF line-endings in source and make files and shell scripts
* checking for empty or unneeded directories
* looking to see if a ‘data/datalist’ file should be added
* building ‘DeMixT_1.0.4.tar.gz’