| Back to Multiple platform build/check report for BioC 3.9 |
|
This page was generated on 2019-04-09 13:37:40 -0400 (Tue, 09 Apr 2019).
| Package 20/1703 | Hostname | OS / Arch | INSTALL | BUILD | CHECK | BUILD BIN | ||||||
| AffiXcan 1.1.3 Alessandro Lussana
| malbec2 | Linux (Ubuntu 18.04.2 LTS) / x86_64 | OK | OK | OK | |||||||
| tokay2 | Windows Server 2012 R2 Standard / x64 | OK | OK | OK | OK | |||||||
| celaya2 | OS X 10.11.6 El Capitan / x86_64 | OK | OK | OK | OK | |||||||
| merida2 | OS X 10.11.6 El Capitan / x86_64 | OK | OK | [ OK ] | OK |
| Package: AffiXcan |
| Version: 1.1.3 |
| Command: /Library/Frameworks/R.framework/Versions/Current/Resources/bin/R CMD check --install=check:AffiXcan.install-out.txt --library=/Library/Frameworks/R.framework/Versions/Current/Resources/library --no-vignettes --timings AffiXcan_1.1.3.tar.gz |
| StartedAt: 2019-04-08 23:08:23 -0400 (Mon, 08 Apr 2019) |
| EndedAt: 2019-04-08 23:11:22 -0400 (Mon, 08 Apr 2019) |
| EllapsedTime: 178.7 seconds |
| RetCode: 0 |
| Status: OK |
| CheckDir: AffiXcan.Rcheck |
| Warnings: 0 |
##############################################################################
##############################################################################
###
### Running command:
###
### /Library/Frameworks/R.framework/Versions/Current/Resources/bin/R CMD check --install=check:AffiXcan.install-out.txt --library=/Library/Frameworks/R.framework/Versions/Current/Resources/library --no-vignettes --timings AffiXcan_1.1.3.tar.gz
###
##############################################################################
##############################################################################
* using log directory ‘/Users/biocbuild/bbs-3.9-bioc/meat/AffiXcan.Rcheck’
* using R Under development (unstable) (2018-11-27 r75683)
* using platform: x86_64-apple-darwin15.6.0 (64-bit)
* using session charset: UTF-8
* using option ‘--no-vignettes’
* checking for file ‘AffiXcan/DESCRIPTION’ ... OK
* this is package ‘AffiXcan’ version ‘1.1.3’
* package encoding: UTF-8
* checking package namespace information ... OK
* checking package dependencies ... OK
* checking if this is a source package ... OK
* checking if there is a namespace ... OK
* checking for hidden files and directories ... OK
* checking for portable file names ... OK
* checking for sufficient/correct file permissions ... OK
* checking whether package ‘AffiXcan’ can be installed ... OK
* checking installed package size ... OK
* checking package directory ... OK
* checking ‘build’ directory ... OK
* checking DESCRIPTION meta-information ... OK
* checking top-level files ... OK
* checking for left-over files ... OK
* checking index information ... OK
* checking package subdirectories ... OK
* checking R files for non-ASCII characters ... OK
* checking R files for syntax errors ... OK
* checking whether the package can be loaded ... OK
* checking whether the package can be loaded with stated dependencies ... OK
* checking whether the package can be unloaded cleanly ... OK
* checking whether the namespace can be loaded with stated dependencies ... OK
* checking whether the namespace can be unloaded cleanly ... OK
* checking dependencies in R code ... OK
* checking S3 generic/method consistency ... OK
* checking replacement functions ... OK
* checking foreign function calls ... OK
* checking R code for possible problems ... NOTE
affiXcanBs: no visible global function definition for ‘p.adjust’
affiXcanPcs: no visible global function definition for ‘setNames’
computeBs: no visible binding for global variable ‘V1’
computeBs: no visible global function definition for ‘lm’
computeBs: no visible global function definition for ‘anova’
computePca: no visible global function definition for ‘var’
computePca: no visible global function definition for ‘prcomp’
Undefined global functions or variables:
V1 anova lm p.adjust prcomp setNames var
Consider adding
importFrom("stats", "anova", "lm", "p.adjust", "prcomp", "setNames",
"var")
to your NAMESPACE file.
* checking Rd files ... OK
* checking Rd metadata ... OK
* checking Rd cross-references ... OK
* checking for missing documentation entries ... OK
* checking for code/documentation mismatches ... OK
* checking Rd \usage sections ... OK
* checking Rd contents ... OK
* checking for unstated dependencies in examples ... OK
* checking contents of ‘data’ directory ... OK
* checking data for non-ASCII characters ... OK
* checking data for ASCII and uncompressed saves ... OK
* checking files in ‘vignettes’ ... OK
* checking examples ... OK
Examples with CPU or elapsed time > 5s
user system elapsed
AffiXcan-package 9.033 7.251 9.579
* checking for unstated dependencies in vignettes ... OK
* checking package vignettes in ‘inst/doc’ ... OK
* checking running R code from vignettes ... SKIPPED
* checking re-building of vignette outputs ... SKIPPED
* checking PDF version of manual ... OK
* DONE
Status: 1 NOTE
See
‘/Users/biocbuild/bbs-3.9-bioc/meat/AffiXcan.Rcheck/00check.log’
for details.
AffiXcan.Rcheck/00install.out
############################################################################## ############################################################################## ### ### Running command: ### ### /Library/Frameworks/R.framework/Versions/Current/Resources/bin/R CMD INSTALL AffiXcan ### ############################################################################## ############################################################################## * installing to library ‘/Library/Frameworks/R.framework/Versions/3.6/Resources/library’ * installing *source* package ‘AffiXcan’ ... ** R ** data ** inst ** byte-compile and prepare package for lazy loading ** help *** installing help indices ** building package indices ** installing vignettes ** testing if installed package can be loaded * DONE (AffiXcan)
AffiXcan.Rcheck/AffiXcan-Ex.timings
| name | user | system | elapsed | |
| AffiXcan-package | 9.033 | 7.251 | 9.579 | |
| affiXcanBs | 0.001 | 0.001 | 0.002 | |
| affiXcanGReX | 0.003 | 0.000 | 0.003 | |
| affiXcanImpute | 0.003 | 0.000 | 0.003 | |
| affiXcanPca | 0.000 | 0.000 | 0.001 | |
| affiXcanPcs | 0.004 | 0.000 | 0.005 | |
| affiXcanTrain | 0.002 | 0.001 | 0.002 | |
| assoc2list | 0.001 | 0.000 | 0.001 | |
| computeBs | 0.003 | 0.000 | 0.003 | |
| computeExpr | 0.005 | 0.001 | 0.005 | |
| computePca | 0.002 | 0.001 | 0.002 | |
| computePcs | 0.002 | 0.000 | 0.003 | |
| exprMatrix | 0.012 | 0.002 | 0.014 | |
| overlookRegions | 0.001 | 0.000 | 0.000 | |
| regionAssoc | 0.007 | 0.002 | 0.010 | |
| trainingCovariates | 0.004 | 0.002 | 0.005 | |