| Back to Multiple platform build/check report for BioC 3.9 |
|
This page was generated on 2019-10-16 12:42:32 -0400 (Wed, 16 Oct 2019).
| Package 21/1741 | Hostname | OS / Arch | INSTALL | BUILD | CHECK | BUILD BIN | ||||||
| AffiXcan 1.2.0 Alessandro Lussana
| malbec2 | Linux (Ubuntu 18.04.2 LTS) / x86_64 | OK | OK | OK | |||||||
| tokay2 | Windows Server 2012 R2 Standard / x64 | OK | OK | OK | [ OK ] | |||||||
| celaya2 | OS X 10.11.6 El Capitan / x86_64 | OK | OK | OK | OK |
| Package: AffiXcan |
| Version: 1.2.0 |
| Command: rm -rf AffiXcan.buildbin-libdir && mkdir AffiXcan.buildbin-libdir && C:\Users\biocbuild\bbs-3.9-bioc\R\bin\R.exe CMD INSTALL --merge-multiarch --build --library=AffiXcan.buildbin-libdir AffiXcan_1.2.0.tar.gz |
| StartedAt: 2019-10-16 08:38:43 -0400 (Wed, 16 Oct 2019) |
| EndedAt: 2019-10-16 08:39:28 -0400 (Wed, 16 Oct 2019) |
| EllapsedTime: 44.2 seconds |
| RetCode: 0 |
| Status: OK |
| PackageFile: AffiXcan_1.2.0.zip |
| PackageFileSize: 2.03 MiB |
##############################################################################
##############################################################################
###
### Running command:
###
### rm -rf AffiXcan.buildbin-libdir && mkdir AffiXcan.buildbin-libdir && C:\Users\biocbuild\bbs-3.9-bioc\R\bin\R.exe CMD INSTALL --merge-multiarch --build --library=AffiXcan.buildbin-libdir AffiXcan_1.2.0.tar.gz
###
##############################################################################
##############################################################################
install for i386
* installing *source* package 'AffiXcan' ...
** using staged installation
** R
** data
** inst
** byte-compile and prepare package for lazy loading
** help
*** installing help indices
converting help for package 'AffiXcan'
finding HTML links ... done
AffiXcan-package html
affiXcanBs html
affiXcanGReX html
affiXcanImpute html
affiXcanPca html
affiXcanPcs html
affiXcanTrain html
assoc2list html
computeBs html
computeExpr html
computePca html
computePcs html
exprMatrix html
overlookRegions html
regionAssoc html
trainingCovariates html
** building package indices
** installing vignettes
** testing if installed package can be loaded from temporary location
** testing if installed package can be loaded from final location
** testing if installed package keeps a record of temporary installation path
install for x64
* installing *source* package 'AffiXcan' ...
** testing if installed package can be loaded
* MD5 sums
packaged installation of 'AffiXcan' as AffiXcan_1.2.0.zip
* DONE (AffiXcan)