| Back to Multiple platform build/check report for BioC 3.9 |
|
This page was generated on 2019-10-16 12:16:24 -0400 (Wed, 16 Oct 2019).
| Package 21/1741 | Hostname | OS / Arch | INSTALL | BUILD | CHECK | BUILD BIN | ||||||
| AffiXcan 1.2.0 Alessandro Lussana
| malbec2 | Linux (Ubuntu 18.04.2 LTS) / x86_64 | OK | OK | [ OK ] | |||||||
| tokay2 | Windows Server 2012 R2 Standard / x64 | OK | OK | OK | OK | |||||||
| celaya2 | OS X 10.11.6 El Capitan / x86_64 | OK | OK | OK | OK |
| Package: AffiXcan |
| Version: 1.2.0 |
| Command: /home/biocbuild/bbs-3.9-bioc/R/bin/R CMD check --install=check:AffiXcan.install-out.txt --library=/home/biocbuild/bbs-3.9-bioc/R/library --no-vignettes --timings AffiXcan_1.2.0.tar.gz |
| StartedAt: 2019-10-15 23:38:51 -0400 (Tue, 15 Oct 2019) |
| EndedAt: 2019-10-15 23:41:40 -0400 (Tue, 15 Oct 2019) |
| EllapsedTime: 169.0 seconds |
| RetCode: 0 |
| Status: OK |
| CheckDir: AffiXcan.Rcheck |
| Warnings: 0 |
##############################################################################
##############################################################################
###
### Running command:
###
### /home/biocbuild/bbs-3.9-bioc/R/bin/R CMD check --install=check:AffiXcan.install-out.txt --library=/home/biocbuild/bbs-3.9-bioc/R/library --no-vignettes --timings AffiXcan_1.2.0.tar.gz
###
##############################################################################
##############################################################################
* using log directory ‘/home/biocbuild/bbs-3.9-bioc/meat/AffiXcan.Rcheck’
* using R version 3.6.1 (2019-07-05)
* using platform: x86_64-pc-linux-gnu (64-bit)
* using session charset: UTF-8
* using option ‘--no-vignettes’
* checking for file ‘AffiXcan/DESCRIPTION’ ... OK
* this is package ‘AffiXcan’ version ‘1.2.0’
* package encoding: UTF-8
* checking package namespace information ... OK
* checking package dependencies ... OK
* checking if this is a source package ... OK
* checking if there is a namespace ... OK
* checking for hidden files and directories ... OK
* checking for portable file names ... OK
* checking for sufficient/correct file permissions ... OK
* checking whether package ‘AffiXcan’ can be installed ... OK
* checking installed package size ... OK
* checking package directory ... OK
* checking ‘build’ directory ... OK
* checking DESCRIPTION meta-information ... OK
* checking top-level files ... OK
* checking for left-over files ... OK
* checking index information ... OK
* checking package subdirectories ... OK
* checking R files for non-ASCII characters ... OK
* checking R files for syntax errors ... OK
* checking whether the package can be loaded ... OK
* checking whether the package can be loaded with stated dependencies ... OK
* checking whether the package can be unloaded cleanly ... OK
* checking whether the namespace can be loaded with stated dependencies ... OK
* checking whether the namespace can be unloaded cleanly ... OK
* checking dependencies in R code ... OK
* checking S3 generic/method consistency ... OK
* checking replacement functions ... OK
* checking foreign function calls ... OK
* checking R code for possible problems ... NOTE
affiXcanBs: no visible global function definition for ‘p.adjust’
affiXcanPcs: no visible global function definition for ‘setNames’
computeBs: no visible binding for global variable ‘V1’
computeBs: no visible global function definition for ‘lm’
computeBs: no visible global function definition for ‘anova’
computePca: no visible global function definition for ‘var’
computePca: no visible global function definition for ‘prcomp’
Undefined global functions or variables:
V1 anova lm p.adjust prcomp setNames var
Consider adding
importFrom("stats", "anova", "lm", "p.adjust", "prcomp", "setNames",
"var")
to your NAMESPACE file.
* checking Rd files ... OK
* checking Rd metadata ... OK
* checking Rd cross-references ... OK
* checking for missing documentation entries ... OK
* checking for code/documentation mismatches ... OK
* checking Rd \usage sections ... OK
* checking Rd contents ... OK
* checking for unstated dependencies in examples ... OK
* checking contents of ‘data’ directory ... OK
* checking data for non-ASCII characters ... OK
* checking data for ASCII and uncompressed saves ... OK
* checking files in ‘vignettes’ ... OK
* checking examples ... OK
Examples with CPU or elapsed time > 5s
user system elapsed
AffiXcan-package 6.617 1.348 6.227
* checking for unstated dependencies in vignettes ... OK
* checking package vignettes in ‘inst/doc’ ... OK
* checking running R code from vignettes ... SKIPPED
* checking re-building of vignette outputs ... SKIPPED
* checking PDF version of manual ... OK
* DONE
Status: 1 NOTE
See
‘/home/biocbuild/bbs-3.9-bioc/meat/AffiXcan.Rcheck/00check.log’
for details.
AffiXcan.Rcheck/00install.out
############################################################################## ############################################################################## ### ### Running command: ### ### /home/biocbuild/bbs-3.9-bioc/R/bin/R CMD INSTALL AffiXcan ### ############################################################################## ############################################################################## * installing to library ‘/home/biocbuild/bbs-3.9-bioc/R/library’ * installing *source* package ‘AffiXcan’ ... ** using staged installation ** R ** data ** inst ** byte-compile and prepare package for lazy loading ** help *** installing help indices ** building package indices ** installing vignettes ** testing if installed package can be loaded from temporary location ** testing if installed package can be loaded from final location ** testing if installed package keeps a record of temporary installation path * DONE (AffiXcan)
AffiXcan.Rcheck/AffiXcan-Ex.timings
| name | user | system | elapsed | |
| AffiXcan-package | 6.617 | 1.348 | 6.227 | |
| affiXcanBs | 0.001 | 0.000 | 0.002 | |
| affiXcanGReX | 0.003 | 0.000 | 0.003 | |
| affiXcanImpute | 0.002 | 0.000 | 0.002 | |
| affiXcanPca | 0.000 | 0.000 | 0.001 | |
| affiXcanPcs | 0.002 | 0.000 | 0.002 | |
| affiXcanTrain | 0.001 | 0.000 | 0.001 | |
| assoc2list | 0.001 | 0.000 | 0.000 | |
| computeBs | 0.002 | 0.000 | 0.002 | |
| computeExpr | 0.003 | 0.000 | 0.002 | |
| computePca | 0.000 | 0.000 | 0.001 | |
| computePcs | 0.002 | 0.000 | 0.002 | |
| exprMatrix | 0.016 | 0.000 | 0.016 | |
| overlookRegions | 0.001 | 0.000 | 0.000 | |
| regionAssoc | 0.008 | 0.000 | 0.008 | |
| trainingCovariates | 0.004 | 0.000 | 0.004 | |