| Back to Multiple platform build/check report for BioC 3.8 |
|
This page was generated on 2019-02-13 11:17:49 -0500 (Wed, 13 Feb 2019).
| Package 47/1649 | Hostname | OS / Arch | INSTALL | BUILD | CHECK | BUILD BIN | ||||||
| anamiR 1.10.0 Ti-Tai Wang
| malbec1 | Linux (Ubuntu 16.04.1 LTS) / x86_64 | OK | OK | [ OK ] | |||||||
| tokay1 | Windows Server 2012 R2 Standard / x64 | OK | OK | OK | OK | |||||||
| merida1 | OS X 10.11.6 El Capitan / x86_64 | OK | OK | OK | OK |
| Package: anamiR |
| Version: 1.10.0 |
| Command: /home/biocbuild/bbs-3.8-bioc/R/bin/R CMD check --install=check:anamiR.install-out.txt --library=/home/biocbuild/bbs-3.8-bioc/R/library --no-vignettes --timings anamiR_1.10.0.tar.gz |
| StartedAt: 2019-02-12 22:22:54 -0500 (Tue, 12 Feb 2019) |
| EndedAt: 2019-02-12 22:40:23 -0500 (Tue, 12 Feb 2019) |
| EllapsedTime: 1049.0 seconds |
| RetCode: 0 |
| Status: OK |
| CheckDir: anamiR.Rcheck |
| Warnings: 0 |
##############################################################################
##############################################################################
###
### Running command:
###
### /home/biocbuild/bbs-3.8-bioc/R/bin/R CMD check --install=check:anamiR.install-out.txt --library=/home/biocbuild/bbs-3.8-bioc/R/library --no-vignettes --timings anamiR_1.10.0.tar.gz
###
##############################################################################
##############################################################################
* using log directory ‘/home/biocbuild/bbs-3.8-bioc/meat/anamiR.Rcheck’
* using R version 3.5.2 (2018-12-20)
* using platform: x86_64-pc-linux-gnu (64-bit)
* using session charset: UTF-8
* using option ‘--no-vignettes’
* checking for file ‘anamiR/DESCRIPTION’ ... OK
* checking extension type ... Package
* this is package ‘anamiR’ version ‘1.10.0’
* package encoding: UTF-8
* checking package namespace information ... OK
* checking package dependencies ... OK
* checking if this is a source package ... OK
* checking if there is a namespace ... OK
* checking for hidden files and directories ... OK
* checking for portable file names ... OK
* checking for sufficient/correct file permissions ... OK
* checking whether package ‘anamiR’ can be installed ... OK
* checking installed package size ... NOTE
installed size is 21.5Mb
sub-directories of 1Mb or more:
data 1.8Mb
extdata 19.6Mb
* checking package directory ... OK
* checking ‘build’ directory ... OK
* checking DESCRIPTION meta-information ... OK
* checking top-level files ... OK
* checking for left-over files ... OK
* checking index information ... OK
* checking package subdirectories ... OK
* checking R files for non-ASCII characters ... OK
* checking R files for syntax errors ... OK
* checking whether the package can be loaded ... OK
* checking whether the package can be loaded with stated dependencies ... OK
* checking whether the package can be unloaded cleanly ... OK
* checking whether the namespace can be loaded with stated dependencies ... OK
* checking whether the namespace can be unloaded cleanly ... OK
* checking dependencies in R code ... OK
* checking S3 generic/method consistency ... OK
* checking replacement functions ... OK
* checking foreign function calls ... OK
* checking R code for possible problems ... NOTE
GSEA_ana: no visible binding for global variable ‘msigdb.gs’
Undefined global functions or variables:
msigdb.gs
* checking Rd files ... OK
* checking Rd metadata ... OK
* checking Rd cross-references ... OK
* checking for missing documentation entries ... OK
* checking for code/documentation mismatches ... OK
* checking Rd \usage sections ... OK
* checking Rd contents ... OK
* checking for unstated dependencies in examples ... OK
* checking contents of ‘data’ directory ... OK
* checking data for non-ASCII characters ... OK
* checking data for ASCII and uncompressed saves ... OK
* checking files in ‘vignettes’ ... OK
* checking examples ... OK
Examples with CPU or elapsed time > 5s
user system elapsed
GSEA_res 10.384 0.120 181.071
enrichment 6.456 0.156 511.416
heat_vis 1.728 0.052 6.846
database_support 1.664 0.016 33.726
miR_converter 0.336 0.000 5.210
* checking for unstated dependencies in vignettes ... OK
* checking package vignettes in ‘inst/doc’ ... OK
* checking running R code from vignettes ... SKIPPED
* checking re-building of vignette outputs ... SKIPPED
* checking PDF version of manual ... OK
* DONE
Status: 2 NOTEs
See
‘/home/biocbuild/bbs-3.8-bioc/meat/anamiR.Rcheck/00check.log’
for details.
anamiR.Rcheck/00install.out
############################################################################## ############################################################################## ### ### Running command: ### ### /home/biocbuild/bbs-3.8-bioc/R/bin/R CMD INSTALL anamiR ### ############################################################################## ############################################################################## * installing to library ‘/home/biocbuild/bbs-3.8-bioc/R/library’ * installing *source* package ‘anamiR’ ... ** R ** data *** moving datasets to lazyload DB ** inst ** byte-compile and prepare package for lazy loading ** help *** installing help indices ** building package indices ** installing vignettes ** testing if installed package can be loaded * DONE (anamiR)
anamiR.Rcheck/anamiR-Ex.timings
| name | user | system | elapsed | |
| GSEA_ana | 1.856 | 0.064 | 1.931 | |
| GSEA_res | 10.384 | 0.120 | 181.071 | |
| database_support | 1.664 | 0.016 | 33.726 | |
| differExp_continuous | 0.312 | 0.004 | 0.321 | |
| differExp_discrete | 0.28 | 0.00 | 0.28 | |
| enrichment | 6.456 | 0.156 | 511.416 | |
| heat_vis | 1.728 | 0.052 | 6.846 | |
| miR_converter | 0.336 | 0.000 | 5.210 | |
| multi_Differ | 1.140 | 0.008 | 1.171 | |
| negative_cor | 1.600 | 0.008 | 1.642 | |
| normalization | 0.024 | 0.000 | 0.022 | |