| Back to Multiple platform build/check report for BioC 3.8 |
|
This page was generated on 2019-04-16 11:52:24 -0400 (Tue, 16 Apr 2019).
| Package 47/1649 | Hostname | OS / Arch | INSTALL | BUILD | CHECK | BUILD BIN | ||||||
| anamiR 1.10.0 Ti-Tai Wang
| malbec1 | Linux (Ubuntu 16.04.6 LTS) / x86_64 | ERROR | [ ERROR ] | skipped | |||||||
| merida1 | OS X 10.11.6 El Capitan / x86_64 | OK | ERROR | skipped | skipped |
| Package: anamiR |
| Version: 1.10.0 |
| Command: /home/biocbuild/bbs-3.8-bioc/R/bin/R CMD build --keep-empty-dirs --no-resave-data anamiR |
| StartedAt: 2019-04-15 20:53:48 -0400 (Mon, 15 Apr 2019) |
| EndedAt: 2019-04-15 20:53:50 -0400 (Mon, 15 Apr 2019) |
| EllapsedTime: 1.5 seconds |
| RetCode: 1 |
| Status: ERROR |
| PackageFile: None |
| PackageFileSize: NA |
##############################################################################
##############################################################################
###
### Running command:
###
### /home/biocbuild/bbs-3.8-bioc/R/bin/R CMD build --keep-empty-dirs --no-resave-data anamiR
###
##############################################################################
##############################################################################
* checking for file ‘anamiR/DESCRIPTION’ ... OK
* preparing ‘anamiR’:
* checking DESCRIPTION meta-information ... OK
* installing the package to build vignettes
-----------------------------------
ERROR: dependency ‘agricolae’ is not available for package ‘anamiR’
* removing ‘/tmp/RtmpCYxF7e/Rinst5c4a58699f84/anamiR’
-----------------------------------
ERROR: package installation failed