| Back to Multiple platform build/check report for BioC 3.8 |
|
This page was generated on 2019-04-09 11:57:34 -0400 (Tue, 09 Apr 2019).
| Package 47/1649 | Hostname | OS / Arch | INSTALL | BUILD | CHECK | BUILD BIN | ||||||
| anamiR 1.10.0 Ti-Tai Wang
| malbec1 | Linux (Ubuntu 16.04.6 LTS) / x86_64 | ERROR | ERROR | skipped | |||||||
| tokay1 | Windows Server 2012 R2 Standard / x64 | OK | OK | OK | OK | |||||||
| merida1 | OS X 10.11.6 El Capitan / x86_64 | OK | OK | [ OK ] | OK |
| Package: anamiR |
| Version: 1.10.0 |
| Command: /Library/Frameworks/R.framework/Versions/Current/Resources/bin/R CMD check --install=check:anamiR.install-out.txt --library=/Library/Frameworks/R.framework/Versions/Current/Resources/library --no-vignettes --timings anamiR_1.10.0.tar.gz |
| StartedAt: 2019-04-08 22:19:38 -0400 (Mon, 08 Apr 2019) |
| EndedAt: 2019-04-08 22:36:06 -0400 (Mon, 08 Apr 2019) |
| EllapsedTime: 988.3 seconds |
| RetCode: 0 |
| Status: OK |
| CheckDir: anamiR.Rcheck |
| Warnings: 0 |
##############################################################################
##############################################################################
###
### Running command:
###
### /Library/Frameworks/R.framework/Versions/Current/Resources/bin/R CMD check --install=check:anamiR.install-out.txt --library=/Library/Frameworks/R.framework/Versions/Current/Resources/library --no-vignettes --timings anamiR_1.10.0.tar.gz
###
##############################################################################
##############################################################################
* using log directory ‘/Users/biocbuild/bbs-3.8-bioc/meat/anamiR.Rcheck’
* using R version 3.5.3 (2019-03-11)
* using platform: x86_64-apple-darwin15.6.0 (64-bit)
* using session charset: UTF-8
* using option ‘--no-vignettes’
* checking for file ‘anamiR/DESCRIPTION’ ... OK
* checking extension type ... Package
* this is package ‘anamiR’ version ‘1.10.0’
* package encoding: UTF-8
* checking package namespace information ... OK
* checking package dependencies ... OK
* checking if this is a source package ... OK
* checking if there is a namespace ... OK
* checking for hidden files and directories ... OK
* checking for portable file names ... OK
* checking for sufficient/correct file permissions ... OK
* checking whether package ‘anamiR’ can be installed ... OK
* checking installed package size ... NOTE
installed size is 21.5Mb
sub-directories of 1Mb or more:
data 1.7Mb
extdata 19.6Mb
* checking package directory ... OK
* checking ‘build’ directory ... OK
* checking DESCRIPTION meta-information ... OK
* checking top-level files ... OK
* checking for left-over files ... OK
* checking index information ... OK
* checking package subdirectories ... OK
* checking R files for non-ASCII characters ... OK
* checking R files for syntax errors ... OK
* checking whether the package can be loaded ... OK
* checking whether the package can be loaded with stated dependencies ... OK
* checking whether the package can be unloaded cleanly ... OK
* checking whether the namespace can be loaded with stated dependencies ... OK
* checking whether the namespace can be unloaded cleanly ... OK
* checking dependencies in R code ... OK
* checking S3 generic/method consistency ... OK
* checking replacement functions ... OK
* checking foreign function calls ... OK
* checking R code for possible problems ... NOTE
GSEA_ana: no visible binding for global variable ‘msigdb.gs’
Undefined global functions or variables:
msigdb.gs
* checking Rd files ... OK
* checking Rd metadata ... OK
* checking Rd cross-references ... OK
* checking for missing documentation entries ... OK
* checking for code/documentation mismatches ... OK
* checking Rd \usage sections ... OK
* checking Rd contents ... OK
* checking for unstated dependencies in examples ... OK
* checking contents of ‘data’ directory ... OK
* checking data for non-ASCII characters ... OK
* checking data for ASCII and uncompressed saves ... OK
* checking files in ‘vignettes’ ... OK
* checking examples ... OK
Examples with CPU or elapsed time > 5s
user system elapsed
GSEA_res 13.419 0.235 168.161
enrichment 6.594 1.116 451.959
heat_vis 2.239 0.137 6.955
database_support 1.449 0.023 28.204
miR_converter 0.368 0.031 5.028
* checking for unstated dependencies in vignettes ... OK
* checking package vignettes in ‘inst/doc’ ... OK
* checking running R code from vignettes ... SKIPPED
* checking re-building of vignette outputs ... SKIPPED
* checking PDF version of manual ... OK
* DONE
Status: 2 NOTEs
See
‘/Users/biocbuild/bbs-3.8-bioc/meat/anamiR.Rcheck/00check.log’
for details.
anamiR.Rcheck/00install.out
############################################################################## ############################################################################## ### ### Running command: ### ### /Library/Frameworks/R.framework/Versions/Current/Resources/bin/R CMD INSTALL anamiR ### ############################################################################## ############################################################################## * installing to library ‘/Library/Frameworks/R.framework/Versions/3.5/Resources/library’ * installing *source* package ‘anamiR’ ... ** R ** data *** moving datasets to lazyload DB ** inst ** byte-compile and prepare package for lazy loading ** help *** installing help indices ** building package indices ** installing vignettes ** testing if installed package can be loaded * DONE (anamiR)
anamiR.Rcheck/anamiR-Ex.timings
| name | user | system | elapsed | |
| GSEA_ana | 1.902 | 0.958 | 1.429 | |
| GSEA_res | 13.419 | 0.235 | 168.161 | |
| database_support | 1.449 | 0.023 | 28.204 | |
| differExp_continuous | 0.234 | 0.007 | 0.243 | |
| differExp_discrete | 0.250 | 0.008 | 0.258 | |
| enrichment | 6.594 | 1.116 | 451.959 | |
| heat_vis | 2.239 | 0.137 | 6.955 | |
| miR_converter | 0.368 | 0.031 | 5.028 | |
| multi_Differ | 1.228 | 0.015 | 1.247 | |
| negative_cor | 1.981 | 0.023 | 2.076 | |
| normalization | 0.026 | 0.009 | 0.037 | |