| Back to Multiple platform build/check report for BioC 3.8 |
|
This page was generated on 2019-04-13 11:27:13 -0400 (Sat, 13 Apr 2019).
| Package 990/1649 | Hostname | OS / Arch | INSTALL | BUILD | CHECK | BUILD BIN | ||||||
| MoonlightR 1.8.0 Antonio Colaprico
| malbec1 | Linux (Ubuntu 16.04.6 LTS) / x86_64 | OK | OK | OK | |||||||
| tokay1 | Windows Server 2012 R2 Standard / x64 | [ OK ] | ERROR | skipped | skipped | |||||||
| merida1 | OS X 10.11.6 El Capitan / x86_64 | OK | ERROR | skipped | skipped |
| Package: MoonlightR |
| Version: 1.8.0 |
| Command: C:\cygwin\bin\curl.exe -O https://malbec1.bioconductor.org/BBS/3.8/bioc/src/contrib/MoonlightR_1.8.0.tar.gz && rm -rf MoonlightR.buildbin-libdir && mkdir MoonlightR.buildbin-libdir && C:\Users\biocbuild\bbs-3.8-bioc\R\bin\R.exe CMD INSTALL --merge-multiarch --build --library=MoonlightR.buildbin-libdir MoonlightR_1.8.0.tar.gz && C:\Users\biocbuild\bbs-3.8-bioc\R\bin\R.exe CMD INSTALL MoonlightR_1.8.0.zip && rm MoonlightR_1.8.0.tar.gz MoonlightR_1.8.0.zip |
| StartedAt: 2019-04-12 20:11:54 -0400 (Fri, 12 Apr 2019) |
| EndedAt: 2019-04-12 20:13:32 -0400 (Fri, 12 Apr 2019) |
| EllapsedTime: 98.1 seconds |
| RetCode: 0 |
| Status: OK |
##############################################################################
##############################################################################
###
### Running command:
###
### C:\cygwin\bin\curl.exe -O https://malbec1.bioconductor.org/BBS/3.8/bioc/src/contrib/MoonlightR_1.8.0.tar.gz && rm -rf MoonlightR.buildbin-libdir && mkdir MoonlightR.buildbin-libdir && C:\Users\biocbuild\bbs-3.8-bioc\R\bin\R.exe CMD INSTALL --merge-multiarch --build --library=MoonlightR.buildbin-libdir MoonlightR_1.8.0.tar.gz && C:\Users\biocbuild\bbs-3.8-bioc\R\bin\R.exe CMD INSTALL MoonlightR_1.8.0.zip && rm MoonlightR_1.8.0.tar.gz MoonlightR_1.8.0.zip
###
##############################################################################
##############################################################################
% Total % Received % Xferd Average Speed Time Time Time Current
Dload Upload Total Spent Left Speed
0 0 0 0 0 0 0 0 --:--:-- --:--:-- --:--:-- 0
100 11.6M 100 11.6M 0 0 81.8M 0 --:--:-- --:--:-- --:--:-- 84.0M
install for i386
* installing *source* package 'MoonlightR' ...
** R
** data
*** moving datasets to lazyload DB
** inst
** byte-compile and prepare package for lazy loading
** help
*** installing help indices
converting help for package 'MoonlightR'
finding HTML links ... done
DEGsmatrix html
DPA html
DiseaseList html
EAGenes html
FEA html
GDCprojects html
GEO_TCGAtab html
GRN html
GSEA html
LPA html
MoonlightR html
PRA html
URA html
dataFilt html
dataGRN html
dataURA html
geneInfo html
getDataGEO html
getDataTCGA html
knownDriverGenes html
listMoonlight html
moonlight html
plotCircos html
plotFEA html
plotNetworkHive html
plotURA html
tabGrowBlock html
** building package indices
** installing vignettes
** testing if installed package can be loaded
In R CMD INSTALL
install for x64
* installing *source* package 'MoonlightR' ...
** testing if installed package can be loaded
* MD5 sums
packaged installation of 'MoonlightR' as MoonlightR_1.8.0.zip
* DONE (MoonlightR)
In R CMD INSTALL
In R CMD INSTALL
* installing to library 'C:/Users/biocbuild/bbs-3.8-bioc/R/library'
package 'MoonlightR' successfully unpacked and MD5 sums checked
In R CMD INSTALL