| Back to Multiple platform build/check report for BioC 3.8 |
|
This page was generated on 2019-04-16 11:52:24 -0400 (Tue, 16 Apr 2019).
| Package 990/1649 | Hostname | OS / Arch | INSTALL | BUILD | CHECK | BUILD BIN | ||||||
| MoonlightR 1.8.0 Antonio Colaprico
| malbec1 | Linux (Ubuntu 16.04.6 LTS) / x86_64 | OK | OK | [ OK ] | |||||||
| merida1 | OS X 10.11.6 El Capitan / x86_64 | OK | ERROR | skipped | skipped |
| Package: MoonlightR |
| Version: 1.8.0 |
| Command: /home/biocbuild/bbs-3.8-bioc/R/bin/R CMD check --install=check:MoonlightR.install-out.txt --library=/home/biocbuild/bbs-3.8-bioc/R/library --no-vignettes --timings MoonlightR_1.8.0.tar.gz |
| StartedAt: 2019-04-16 01:32:52 -0400 (Tue, 16 Apr 2019) |
| EndedAt: 2019-04-16 01:38:43 -0400 (Tue, 16 Apr 2019) |
| EllapsedTime: 351.7 seconds |
| RetCode: 0 |
| Status: OK |
| CheckDir: MoonlightR.Rcheck |
| Warnings: 0 |
##############################################################################
##############################################################################
###
### Running command:
###
### /home/biocbuild/bbs-3.8-bioc/R/bin/R CMD check --install=check:MoonlightR.install-out.txt --library=/home/biocbuild/bbs-3.8-bioc/R/library --no-vignettes --timings MoonlightR_1.8.0.tar.gz
###
##############################################################################
##############################################################################
* using log directory ‘/home/biocbuild/bbs-3.8-bioc/meat/MoonlightR.Rcheck’
* using R version 3.5.3 (2019-03-11)
* using platform: x86_64-pc-linux-gnu (64-bit)
* using session charset: UTF-8
* using option ‘--no-vignettes’
* checking for file ‘MoonlightR/DESCRIPTION’ ... OK
* checking extension type ... Package
* this is package ‘MoonlightR’ version ‘1.8.0’
* checking package namespace information ... OK
* checking package dependencies ... OK
* checking if this is a source package ... OK
* checking if there is a namespace ... OK
* checking for hidden files and directories ... OK
* checking for portable file names ... OK
* checking for sufficient/correct file permissions ... OK
* checking whether package ‘MoonlightR’ can be installed ... OK
* checking installed package size ... OK
* checking package directory ... OK
* checking ‘build’ directory ... OK
* checking DESCRIPTION meta-information ... OK
* checking top-level files ... OK
* checking for left-over files ... OK
* checking index information ... OK
* checking package subdirectories ... OK
* checking R files for non-ASCII characters ... OK
* checking R files for syntax errors ... OK
* checking whether the package can be loaded ... OK
* checking whether the package can be loaded with stated dependencies ... OK
* checking whether the package can be unloaded cleanly ... OK
* checking whether the namespace can be loaded with stated dependencies ... OK
* checking whether the namespace can be unloaded cleanly ... OK
* checking dependencies in R code ... OK
* checking S3 generic/method consistency ... OK
* checking replacement functions ... OK
* checking foreign function calls ... OK
* checking R code for possible problems ... OK
* checking Rd files ... OK
* checking Rd metadata ... OK
* checking Rd cross-references ... OK
* checking for missing documentation entries ... OK
* checking for code/documentation mismatches ... OK
* checking Rd \usage sections ... OK
* checking Rd contents ... OK
* checking for unstated dependencies in examples ... OK
* checking contents of ‘data’ directory ... OK
* checking data for non-ASCII characters ... OK
* checking data for ASCII and uncompressed saves ... OK
* checking files in ‘vignettes’ ... OK
* checking examples ... OK
Examples with CPU or elapsed time > 5s
user system elapsed
URA 21.396 0.228 17.388
DPA 6.652 0.064 6.722
FEA 6.432 0.048 6.495
GRN 5.024 0.016 0.671
moonlight 4.996 0.016 5.023
* checking for unstated dependencies in vignettes ... OK
* checking package vignettes in ‘inst/doc’ ... OK
* checking running R code from vignettes ... SKIPPED
* checking re-building of vignette outputs ... SKIPPED
* checking PDF version of manual ... OK
* DONE
Status: OK
MoonlightR.Rcheck/00install.out
############################################################################## ############################################################################## ### ### Running command: ### ### /home/biocbuild/bbs-3.8-bioc/R/bin/R CMD INSTALL MoonlightR ### ############################################################################## ############################################################################## * installing to library ‘/home/biocbuild/bbs-3.8-bioc/R/library’ * installing *source* package ‘MoonlightR’ ... ** R ** data *** moving datasets to lazyload DB ** inst ** byte-compile and prepare package for lazy loading ** help *** installing help indices ** building package indices ** installing vignettes ** testing if installed package can be loaded * DONE (MoonlightR)
MoonlightR.Rcheck/MoonlightR-Ex.timings
| name | user | system | elapsed | |
| DPA | 6.652 | 0.064 | 6.722 | |
| FEA | 6.432 | 0.048 | 6.495 | |
| GRN | 5.024 | 0.016 | 0.671 | |
| GSEA | 0 | 0 | 0 | |
| LPA | 0.488 | 0.040 | 2.403 | |
| PRA | 0.000 | 0.004 | 0.003 | |
| URA | 21.396 | 0.228 | 17.388 | |
| getDataGEO | 0 | 0 | 0 | |
| getDataTCGA | 0 | 0 | 0 | |
| moonlight | 4.996 | 0.016 | 5.023 | |
| plotCircos | 0.608 | 0.028 | 0.648 | |
| plotFEA | 1.520 | 0.020 | 1.546 | |
| plotNetworkHive | 0.164 | 0.008 | 0.173 | |
| plotURA | 0.116 | 0.004 | 0.122 | |