| Back to Multiple platform build/check report for BioC 3.8 |
|
This page was generated on 2019-04-13 11:29:29 -0400 (Sat, 13 Apr 2019).
| Package 139/1649 | Hostname | OS / Arch | INSTALL | BUILD | CHECK | BUILD BIN | ||||||
| BiocNeighbors 1.0.0 Aaron Lun
| malbec1 | Linux (Ubuntu 16.04.6 LTS) / x86_64 | OK | OK | OK | |||||||
| tokay1 | Windows Server 2012 R2 Standard / x64 | OK | OK | [ OK ] | OK | |||||||
| merida1 | OS X 10.11.6 El Capitan / x86_64 | OK | OK | OK | OK |
| Package: BiocNeighbors |
| Version: 1.0.0 |
| Command: C:\Users\biocbuild\bbs-3.8-bioc\R\bin\R.exe CMD check --force-multiarch --install=check:BiocNeighbors.install-out.txt --library=C:\Users\biocbuild\bbs-3.8-bioc\R\library --no-vignettes --timings BiocNeighbors_1.0.0.tar.gz |
| StartedAt: 2019-04-13 00:46:31 -0400 (Sat, 13 Apr 2019) |
| EndedAt: 2019-04-13 00:50:55 -0400 (Sat, 13 Apr 2019) |
| EllapsedTime: 263.7 seconds |
| RetCode: 0 |
| Status: OK |
| CheckDir: BiocNeighbors.Rcheck |
| Warnings: 0 |
##############################################################################
##############################################################################
###
### Running command:
###
### C:\Users\biocbuild\bbs-3.8-bioc\R\bin\R.exe CMD check --force-multiarch --install=check:BiocNeighbors.install-out.txt --library=C:\Users\biocbuild\bbs-3.8-bioc\R\library --no-vignettes --timings BiocNeighbors_1.0.0.tar.gz
###
##############################################################################
##############################################################################
* using log directory 'C:/Users/biocbuild/bbs-3.8-bioc/meat/BiocNeighbors.Rcheck'
* using R version 3.5.3 (2019-03-11)
* using platform: x86_64-w64-mingw32 (64-bit)
* using session charset: ISO8859-1
* using option '--no-vignettes'
* checking for file 'BiocNeighbors/DESCRIPTION' ... OK
* this is package 'BiocNeighbors' version '1.0.0'
* checking package namespace information ... OK
* checking package dependencies ...Warning: unable to access index for repository https://CRAN.R-project.org/src/contrib:
cannot open URL 'https://CRAN.R-project.org/src/contrib/PACKAGES'
OK
* checking if this is a source package ... OK
* checking if there is a namespace ... OK
* checking for hidden files and directories ... OK
* checking for portable file names ... OK
* checking whether package 'BiocNeighbors' can be installed ... OK
* checking installed package size ... OK
* checking package directory ... OK
* checking 'build' directory ... OK
* checking DESCRIPTION meta-information ... OK
* checking top-level files ... OK
* checking for left-over files ... OK
* checking index information ... OK
* checking package subdirectories ... OK
* checking R files for non-ASCII characters ... OK
* checking R files for syntax errors ... OK
* loading checks for arch 'i386'
** checking whether the package can be loaded ... OK
** checking whether the package can be loaded with stated dependencies ... OK
** checking whether the package can be unloaded cleanly ... OK
** checking whether the namespace can be loaded with stated dependencies ... OK
** checking whether the namespace can be unloaded cleanly ... OK
* loading checks for arch 'x64'
** checking whether the package can be loaded ... OK
** checking whether the package can be loaded with stated dependencies ... OK
** checking whether the package can be unloaded cleanly ... OK
** checking whether the namespace can be loaded with stated dependencies ... OK
** checking whether the namespace can be unloaded cleanly ... OK
* checking dependencies in R code ... OK
* checking S3 generic/method consistency ... OK
* checking replacement functions ... OK
* checking foreign function calls ... OK
* checking R code for possible problems ... OK
* checking Rd files ... OK
* checking Rd metadata ... OK
* checking Rd cross-references ... OK
* checking for missing documentation entries ... OK
* checking for code/documentation mismatches ... OK
* checking Rd \usage sections ... OK
* checking Rd contents ... OK
* checking for unstated dependencies in examples ... OK
* checking line endings in C/C++/Fortran sources/headers ... OK
* checking compiled code ... NOTE
Note: information on .o files for i386 is not available
Note: information on .o files for x64 is not available
File 'C:/Users/biocbuild/bbs-3.8-bioc/R/library/BiocNeighbors/libs/i386/BiocNeighbors.dll':
Found 'abort', possibly from 'abort' (C), 'runtime' (Fortran)
Found 'exit', possibly from 'exit' (C), 'stop' (Fortran)
Found 'printf', possibly from 'printf' (C)
Compiled code should not call entry points which might terminate R nor
write to stdout/stderr instead of to the console, nor use Fortran I/O
nor system RNGs. The detected symbols are linked into the code but
might come from libraries and not actually be called.
See 'Writing portable packages' in the 'Writing R Extensions' manual.
* checking files in 'vignettes' ... OK
* checking examples ...
** running examples for arch 'i386' ... OK
Examples with CPU or elapsed time > 5s
user system elapsed
findKNN 8.46 0.08 8.55
** running examples for arch 'x64' ... OK
* checking for unstated dependencies in 'tests' ... OK
* checking tests ...
** running tests for arch 'i386' ...
Running 'testthat.R'
OK
** running tests for arch 'x64' ...
Running 'testthat.R'
OK
* checking for unstated dependencies in vignettes ... OK
* checking package vignettes in 'inst/doc' ... OK
* checking running R code from vignettes ... SKIPPED
* checking re-building of vignette outputs ... SKIPPED
* checking PDF version of manual ... OK
* DONE
Status: 1 NOTE
See
'C:/Users/biocbuild/bbs-3.8-bioc/meat/BiocNeighbors.Rcheck/00check.log'
for details.
BiocNeighbors.Rcheck/00install.out
##############################################################################
##############################################################################
###
### Running command:
###
### C:\cygwin\bin\curl.exe -O https://malbec1.bioconductor.org/BBS/3.8/bioc/src/contrib/BiocNeighbors_1.0.0.tar.gz && rm -rf BiocNeighbors.buildbin-libdir && mkdir BiocNeighbors.buildbin-libdir && C:\Users\biocbuild\bbs-3.8-bioc\R\bin\R.exe CMD INSTALL --merge-multiarch --build --library=BiocNeighbors.buildbin-libdir BiocNeighbors_1.0.0.tar.gz && C:\Users\biocbuild\bbs-3.8-bioc\R\bin\R.exe CMD INSTALL BiocNeighbors_1.0.0.zip && rm BiocNeighbors_1.0.0.tar.gz BiocNeighbors_1.0.0.zip
###
##############################################################################
##############################################################################
% Total % Received % Xferd Average Speed Time Time Time Current
Dload Upload Total Spent Left Speed
0 0 0 0 0 0 0 0 --:--:-- --:--:-- --:--:-- 0
100 33303 100 33303 0 0 849k 0 --:--:-- --:--:-- --:--:-- 929k
install for i386
* installing *source* package 'BiocNeighbors' ...
** libs
C:/Rtools/mingw_32/bin/g++ -std=gnu++11 -I"C:/Users/BIOCBU˜1/BBS-3˜1.8-B/R/include" -DNDEBUG -I"C:/Users/biocbuild/bbs-3.8-bioc/R/library/Rcpp/include" -I"C:/Users/biocbuild/bbs-3.8-bioc/R/library/RcppAnnoy/include" -I"C:/extsoft/include" -O2 -Wall -mtune=generic -c annoy_stubs.cpp -o annoy_stubs.o
In file included from C:/Users/biocbuild/bbs-3.8-bioc/R/library/RcppAnnoy/include/annoylib.h:42:0,
from annoy.h:13,
from annoy_stubs.cpp:2:
C:/Users/biocbuild/bbs-3.8-bioc/R/library/RcppAnnoy/include/mman.h: In function 'void* mmap(void*, size_t, int, int, int, off_t)':
C:/Users/biocbuild/bbs-3.8-bioc/R/library/RcppAnnoy/include/mman.h:102:48: warning: right shift count >= width of type
(DWORD)0 : (DWORD)((off >> 32) & 0xFFFFFFFFL);
^
C:/Users/biocbuild/bbs-3.8-bioc/R/library/RcppAnnoy/include/mman.h:111:52: warning: right shift count >= width of type
(DWORD)0 : (DWORD)((maxSize >> 32) & 0xFFFFFFFFL);
^
In file included from annoy_stubs.cpp:5:0:
query_annoy.h: In function 'SEXPREC* query_annoy(SEXP, SEXP, SEXP, SEXP, SEXP, SEXP, SEXP)':
query_annoy.h:12:29: warning: comparison between signed and unsigned integer expressions [-Wsign-compare]
if (size_t(Query.nrow())!=Ndim) {
^
C:/Rtools/mingw_32/bin/g++ -std=gnu++11 -I"C:/Users/BIOCBU˜1/BBS-3˜1.8-B/R/include" -DNDEBUG -I"C:/Users/biocbuild/bbs-3.8-bioc/R/library/Rcpp/include" -I"C:/Users/biocbuild/bbs-3.8-bioc/R/library/RcppAnnoy/include" -I"C:/extsoft/include" -O2 -Wall -mtune=generic -c find_kmknn.cpp -o find_kmknn.o
C:/Rtools/mingw_32/bin/g++ -std=gnu++11 -I"C:/Users/BIOCBU˜1/BBS-3˜1.8-B/R/include" -DNDEBUG -I"C:/Users/biocbuild/bbs-3.8-bioc/R/library/Rcpp/include" -I"C:/Users/biocbuild/bbs-3.8-bioc/R/library/RcppAnnoy/include" -I"C:/extsoft/include" -O2 -Wall -mtune=generic -c find_neighbors.cpp -o find_neighbors.o
C:/Rtools/mingw_32/bin/g++ -std=gnu++11 -I"C:/Users/BIOCBU˜1/BBS-3˜1.8-B/R/include" -DNDEBUG -I"C:/Users/biocbuild/bbs-3.8-bioc/R/library/Rcpp/include" -I"C:/Users/biocbuild/bbs-3.8-bioc/R/library/RcppAnnoy/include" -I"C:/extsoft/include" -O2 -Wall -mtune=generic -c init.cpp -o init.o
C:/Rtools/mingw_32/bin/g++ -std=gnu++11 -I"C:/Users/BIOCBU˜1/BBS-3˜1.8-B/R/include" -DNDEBUG -I"C:/Users/biocbuild/bbs-3.8-bioc/R/library/Rcpp/include" -I"C:/Users/biocbuild/bbs-3.8-bioc/R/library/RcppAnnoy/include" -I"C:/extsoft/include" -O2 -Wall -mtune=generic -c kmknn.cpp -o kmknn.o
C:/Rtools/mingw_32/bin/g++ -std=gnu++11 -I"C:/Users/BIOCBU˜1/BBS-3˜1.8-B/R/include" -DNDEBUG -I"C:/Users/biocbuild/bbs-3.8-bioc/R/library/Rcpp/include" -I"C:/Users/biocbuild/bbs-3.8-bioc/R/library/RcppAnnoy/include" -I"C:/extsoft/include" -O2 -Wall -mtune=generic -c query_kmknn.cpp -o query_kmknn.o
C:/Rtools/mingw_32/bin/g++ -std=gnu++11 -I"C:/Users/BIOCBU˜1/BBS-3˜1.8-B/R/include" -DNDEBUG -I"C:/Users/biocbuild/bbs-3.8-bioc/R/library/Rcpp/include" -I"C:/Users/biocbuild/bbs-3.8-bioc/R/library/RcppAnnoy/include" -I"C:/extsoft/include" -O2 -Wall -mtune=generic -c query_neighbors.cpp -o query_neighbors.o
C:/Rtools/mingw_32/bin/g++ -std=gnu++11 -I"C:/Users/BIOCBU˜1/BBS-3˜1.8-B/R/include" -DNDEBUG -I"C:/Users/biocbuild/bbs-3.8-bioc/R/library/Rcpp/include" -I"C:/Users/biocbuild/bbs-3.8-bioc/R/library/RcppAnnoy/include" -I"C:/extsoft/include" -O2 -Wall -mtune=generic -c utils.cpp -o utils.o
C:/Rtools/mingw_32/bin/g++ -shared -s -static-libgcc -o BiocNeighbors.dll tmp.def annoy_stubs.o find_kmknn.o find_neighbors.o init.o kmknn.o query_kmknn.o query_neighbors.o utils.o -LC:/extsoft/lib/i386 -LC:/extsoft/lib -LC:/Users/BIOCBU˜1/BBS-3˜1.8-B/R/bin/i386 -lR
installing to C:/Users/biocbuild/bbs-3.8-bioc/meat/BiocNeighbors.buildbin-libdir/BiocNeighbors/libs/i386
** R
** inst
** byte-compile and prepare package for lazy loading
** help
*** installing help indices
converting help for package 'BiocNeighbors'
finding HTML links ... done
AnnoyIndex html
AnnoyParam html
BiocNeighborIndex html
BiocNeighborParam html
KmknnIndex html
KmknnParam html
buildAnnoy html
buildKmknn html
buildNNIndex html
findAnnoy html
finding level-2 HTML links ... done
findKNN html
findKmknn html
findNeighbors html
queryAnnoy html
queryKNN html
queryKmknn html
queryNeighbors html
** building package indices
** installing vignettes
** testing if installed package can be loaded
In R CMD INSTALL
install for x64
* installing *source* package 'BiocNeighbors' ...
** libs
C:/Rtools/mingw_64/bin/g++ -std=gnu++11 -I"C:/Users/BIOCBU˜1/BBS-3˜1.8-B/R/include" -DNDEBUG -I"C:/Users/biocbuild/bbs-3.8-bioc/R/library/Rcpp/include" -I"C:/Users/biocbuild/bbs-3.8-bioc/R/library/RcppAnnoy/include" -I"C:/extsoft/include" -O2 -Wall -mtune=generic -c annoy_stubs.cpp -o annoy_stubs.o
In file included from C:/Users/biocbuild/bbs-3.8-bioc/R/library/RcppAnnoy/include/annoylib.h:42:0,
from annoy.h:13,
from annoy_stubs.cpp:2:
C:/Users/biocbuild/bbs-3.8-bioc/R/library/RcppAnnoy/include/mman.h: In function 'void* mmap(void*, size_t, int, int, int, off_t)':
C:/Users/biocbuild/bbs-3.8-bioc/R/library/RcppAnnoy/include/mman.h:102:48: warning: right shift count >= width of type
(DWORD)0 : (DWORD)((off >> 32) & 0xFFFFFFFFL);
^
C:/Users/biocbuild/bbs-3.8-bioc/R/library/RcppAnnoy/include/mman.h:111:52: warning: right shift count >= width of type
(DWORD)0 : (DWORD)((maxSize >> 32) & 0xFFFFFFFFL);
^
In file included from annoy_stubs.cpp:5:0:
query_annoy.h: In function 'SEXPREC* query_annoy(SEXP, SEXP, SEXP, SEXP, SEXP, SEXP, SEXP)':
query_annoy.h:12:29: warning: comparison between signed and unsigned integer expressions [-Wsign-compare]
if (size_t(Query.nrow())!=Ndim) {
^
C:/Rtools/mingw_64/bin/g++ -std=gnu++11 -I"C:/Users/BIOCBU˜1/BBS-3˜1.8-B/R/include" -DNDEBUG -I"C:/Users/biocbuild/bbs-3.8-bioc/R/library/Rcpp/include" -I"C:/Users/biocbuild/bbs-3.8-bioc/R/library/RcppAnnoy/include" -I"C:/extsoft/include" -O2 -Wall -mtune=generic -c find_kmknn.cpp -o find_kmknn.o
C:/Rtools/mingw_64/bin/g++ -std=gnu++11 -I"C:/Users/BIOCBU˜1/BBS-3˜1.8-B/R/include" -DNDEBUG -I"C:/Users/biocbuild/bbs-3.8-bioc/R/library/Rcpp/include" -I"C:/Users/biocbuild/bbs-3.8-bioc/R/library/RcppAnnoy/include" -I"C:/extsoft/include" -O2 -Wall -mtune=generic -c find_neighbors.cpp -o find_neighbors.o
C:/Rtools/mingw_64/bin/g++ -std=gnu++11 -I"C:/Users/BIOCBU˜1/BBS-3˜1.8-B/R/include" -DNDEBUG -I"C:/Users/biocbuild/bbs-3.8-bioc/R/library/Rcpp/include" -I"C:/Users/biocbuild/bbs-3.8-bioc/R/library/RcppAnnoy/include" -I"C:/extsoft/include" -O2 -Wall -mtune=generic -c init.cpp -o init.o
C:/Rtools/mingw_64/bin/g++ -std=gnu++11 -I"C:/Users/BIOCBU˜1/BBS-3˜1.8-B/R/include" -DNDEBUG -I"C:/Users/biocbuild/bbs-3.8-bioc/R/library/Rcpp/include" -I"C:/Users/biocbuild/bbs-3.8-bioc/R/library/RcppAnnoy/include" -I"C:/extsoft/include" -O2 -Wall -mtune=generic -c kmknn.cpp -o kmknn.o
C:/Rtools/mingw_64/bin/g++ -std=gnu++11 -I"C:/Users/BIOCBU˜1/BBS-3˜1.8-B/R/include" -DNDEBUG -I"C:/Users/biocbuild/bbs-3.8-bioc/R/library/Rcpp/include" -I"C:/Users/biocbuild/bbs-3.8-bioc/R/library/RcppAnnoy/include" -I"C:/extsoft/include" -O2 -Wall -mtune=generic -c query_kmknn.cpp -o query_kmknn.o
C:/Rtools/mingw_64/bin/g++ -std=gnu++11 -I"C:/Users/BIOCBU˜1/BBS-3˜1.8-B/R/include" -DNDEBUG -I"C:/Users/biocbuild/bbs-3.8-bioc/R/library/Rcpp/include" -I"C:/Users/biocbuild/bbs-3.8-bioc/R/library/RcppAnnoy/include" -I"C:/extsoft/include" -O2 -Wall -mtune=generic -c query_neighbors.cpp -o query_neighbors.o
C:/Rtools/mingw_64/bin/g++ -std=gnu++11 -I"C:/Users/BIOCBU˜1/BBS-3˜1.8-B/R/include" -DNDEBUG -I"C:/Users/biocbuild/bbs-3.8-bioc/R/library/Rcpp/include" -I"C:/Users/biocbuild/bbs-3.8-bioc/R/library/RcppAnnoy/include" -I"C:/extsoft/include" -O2 -Wall -mtune=generic -c utils.cpp -o utils.o
C:/Rtools/mingw_64/bin/g++ -shared -s -static-libgcc -o BiocNeighbors.dll tmp.def annoy_stubs.o find_kmknn.o find_neighbors.o init.o kmknn.o query_kmknn.o query_neighbors.o utils.o -LC:/extsoft/lib/x64 -LC:/extsoft/lib -LC:/Users/BIOCBU˜1/BBS-3˜1.8-B/R/bin/x64 -lR
installing to C:/Users/biocbuild/bbs-3.8-bioc/meat/BiocNeighbors.buildbin-libdir/BiocNeighbors/libs/x64
** testing if installed package can be loaded
* MD5 sums
packaged installation of 'BiocNeighbors' as BiocNeighbors_1.0.0.zip
* DONE (BiocNeighbors)
In R CMD INSTALL
In R CMD INSTALL
* installing to library 'C:/Users/biocbuild/bbs-3.8-bioc/R/library'
package 'BiocNeighbors' successfully unpacked and MD5 sums checked
In R CMD INSTALL
|
BiocNeighbors.Rcheck/tests_i386/testthat.Rout
R version 3.5.3 (2019-03-11) -- "Great Truth"
Copyright (C) 2019 The R Foundation for Statistical Computing
Platform: i386-w64-mingw32/i386 (32-bit)
R is free software and comes with ABSOLUTELY NO WARRANTY.
You are welcome to redistribute it under certain conditions.
Type 'license()' or 'licence()' for distribution details.
R is a collaborative project with many contributors.
Type 'contributors()' for more information and
'citation()' on how to cite R or R packages in publications.
Type 'demo()' for some demos, 'help()' for on-line help, or
'help.start()' for an HTML browser interface to help.
Type 'q()' to quit R.
> library(testthat)
> library(BiocNeighbors)
Loading required package: BiocParallel
> test_check("BiocNeighbors")
== testthat results ===========================================================
OK: 1151 SKIPPED: 0 FAILED: 0
>
> proc.time()
user system elapsed
41.31 0.98 63.92
|
BiocNeighbors.Rcheck/tests_x64/testthat.Rout
R version 3.5.3 (2019-03-11) -- "Great Truth"
Copyright (C) 2019 The R Foundation for Statistical Computing
Platform: x86_64-w64-mingw32/x64 (64-bit)
R is free software and comes with ABSOLUTELY NO WARRANTY.
You are welcome to redistribute it under certain conditions.
Type 'license()' or 'licence()' for distribution details.
R is a collaborative project with many contributors.
Type 'contributors()' for more information and
'citation()' on how to cite R or R packages in publications.
Type 'demo()' for some demos, 'help()' for on-line help, or
'help.start()' for an HTML browser interface to help.
Type 'q()' to quit R.
> library(testthat)
> library(BiocNeighbors)
Loading required package: BiocParallel
> test_check("BiocNeighbors")
== testthat results ===========================================================
OK: 1151 SKIPPED: 0 FAILED: 0
>
> proc.time()
user system elapsed
32.35 0.62 54.62
|
|
BiocNeighbors.Rcheck/examples_i386/BiocNeighbors-Ex.timings
|
BiocNeighbors.Rcheck/examples_x64/BiocNeighbors-Ex.timings
|