| Back to Multiple platform build/check report for BioC 3.7 |
|
This page was generated on 2018-10-17 08:43:37 -0400 (Wed, 17 Oct 2018).
| Package 454/1561 | Hostname | OS / Arch | INSTALL | BUILD | CHECK | BUILD BIN | ||||||
| epiNEM 1.4.0 Martin Pirkl
| malbec2 | Linux (Ubuntu 16.04.1 LTS) / x86_64 | OK | OK | OK | |||||||
| tokay2 | Windows Server 2012 R2 Standard / x64 | [ OK ] | OK | OK | OK | |||||||
| merida2 | OS X 10.11.6 El Capitan / x86_64 | OK | OK | OK | OK |
| Package: epiNEM |
| Version: 1.4.0 |
| Command: C:\cygwin\bin\curl.exe -O https://malbec2.bioconductor.org/BBS/3.7/bioc/src/contrib/epiNEM_1.4.0.tar.gz && rm -rf epiNEM.buildbin-libdir && mkdir epiNEM.buildbin-libdir && C:\Users\biocbuild\bbs-3.7-bioc\R\bin\R.exe CMD INSTALL --merge-multiarch --build --library=epiNEM.buildbin-libdir epiNEM_1.4.0.tar.gz && C:\Users\biocbuild\bbs-3.7-bioc\R\bin\R.exe CMD INSTALL epiNEM_1.4.0.zip && rm epiNEM_1.4.0.tar.gz epiNEM_1.4.0.zip |
| StartedAt: 2018-10-16 20:14:26 -0400 (Tue, 16 Oct 2018) |
| EndedAt: 2018-10-16 20:16:22 -0400 (Tue, 16 Oct 2018) |
| EllapsedTime: 115.9 seconds |
| RetCode: 0 |
| Status: OK |
##############################################################################
##############################################################################
###
### Running command:
###
### C:\cygwin\bin\curl.exe -O https://malbec2.bioconductor.org/BBS/3.7/bioc/src/contrib/epiNEM_1.4.0.tar.gz && rm -rf epiNEM.buildbin-libdir && mkdir epiNEM.buildbin-libdir && C:\Users\biocbuild\bbs-3.7-bioc\R\bin\R.exe CMD INSTALL --merge-multiarch --build --library=epiNEM.buildbin-libdir epiNEM_1.4.0.tar.gz && C:\Users\biocbuild\bbs-3.7-bioc\R\bin\R.exe CMD INSTALL epiNEM_1.4.0.zip && rm epiNEM_1.4.0.tar.gz epiNEM_1.4.0.zip
###
##############################################################################
##############################################################################
% Total % Received % Xferd Average Speed Time Time Time Current
Dload Upload Total Spent Left Speed
0 0 0 0 0 0 0 0 --:--:-- --:--:-- --:--:-- 0
100 192k 100 192k 0 0 3463k 0 --:--:-- --:--:-- --:--:-- 4012k
install for i386
* installing *source* package 'epiNEM' ...
** R
** data
*** moving datasets to lazyload DB
** inst
** byte-compile and prepare package for lazy loading
** help
*** installing help indices
converting help for package 'epiNEM'
finding HTML links ... done
AddLogicGates html
CreateRandomGraph html
CreateTopology html
ExtendTopology html
GenerateData html
HeatmapOP html
MLL html
SimEpiNEM html
createExtendedAdjacency html
epiAnno html
epiNEM html
epiScreen html
plot.epiNEM html
plot.epiScreen html
plot.epiSim html
sameith_GO html
sameith_string html
samscreen html
sim html
wageningen_GO html
wageningen_string html
wagscreen html
** building package indices
** installing vignettes
** testing if installed package can be loaded
In R CMD INSTALL
install for x64
* installing *source* package 'epiNEM' ...
** testing if installed package can be loaded
* MD5 sums
packaged installation of 'epiNEM' as epiNEM_1.4.0.zip
* DONE (epiNEM)
In R CMD INSTALL
In R CMD INSTALL
* installing to library 'C:/Users/biocbuild/bbs-3.7-bioc/R/library'
package 'epiNEM' successfully unpacked and MD5 sums checked
In R CMD INSTALL