| Back to Multiple platform build/check report for BioC 3.7 |
|
This page was generated on 2018-10-17 08:30:00 -0400 (Wed, 17 Oct 2018).
| Package 454/1561 | Hostname | OS / Arch | INSTALL | BUILD | CHECK | BUILD BIN | ||||||
| epiNEM 1.4.0 Martin Pirkl
| malbec2 | Linux (Ubuntu 16.04.1 LTS) / x86_64 | OK | OK | [ OK ] | |||||||
| tokay2 | Windows Server 2012 R2 Standard / x64 | OK | OK | OK | OK | |||||||
| merida2 | OS X 10.11.6 El Capitan / x86_64 | OK | OK | OK | OK |
| Package: epiNEM |
| Version: 1.4.0 |
| Command: /home/biocbuild/bbs-3.7-bioc/R/bin/R CMD check --install=check:epiNEM.install-out.txt --library=/home/biocbuild/bbs-3.7-bioc/R/library --no-vignettes --timings epiNEM_1.4.0.tar.gz |
| StartedAt: 2018-10-16 00:12:06 -0400 (Tue, 16 Oct 2018) |
| EndedAt: 2018-10-16 00:13:27 -0400 (Tue, 16 Oct 2018) |
| EllapsedTime: 81.0 seconds |
| RetCode: 0 |
| Status: OK |
| CheckDir: epiNEM.Rcheck |
| Warnings: 0 |
##############################################################################
##############################################################################
###
### Running command:
###
### /home/biocbuild/bbs-3.7-bioc/R/bin/R CMD check --install=check:epiNEM.install-out.txt --library=/home/biocbuild/bbs-3.7-bioc/R/library --no-vignettes --timings epiNEM_1.4.0.tar.gz
###
##############################################################################
##############################################################################
* using log directory ‘/home/biocbuild/bbs-3.7-bioc/meat/epiNEM.Rcheck’
* using R version 3.5.1 Patched (2018-07-12 r74967)
* using platform: x86_64-pc-linux-gnu (64-bit)
* using session charset: UTF-8
* using option ‘--no-vignettes’
* checking for file ‘epiNEM/DESCRIPTION’ ... OK
* checking extension type ... Package
* this is package ‘epiNEM’ version ‘1.4.0’
* package encoding: UTF-8
* checking package namespace information ... OK
* checking package dependencies ... OK
* checking if this is a source package ... OK
* checking if there is a namespace ... OK
* checking for hidden files and directories ... OK
* checking for portable file names ... OK
* checking for sufficient/correct file permissions ... OK
* checking whether package ‘epiNEM’ can be installed ... OK
* checking installed package size ... OK
* checking package directory ... OK
* checking ‘build’ directory ... OK
* checking DESCRIPTION meta-information ... OK
* checking top-level files ... OK
* checking for left-over files ... OK
* checking index information ... OK
* checking package subdirectories ... OK
* checking R files for non-ASCII characters ... OK
* checking R files for syntax errors ... OK
* checking whether the package can be loaded ... OK
* checking whether the package can be loaded with stated dependencies ... OK
* checking whether the package can be unloaded cleanly ... OK
* checking whether the namespace can be loaded with stated dependencies ... OK
* checking whether the namespace can be unloaded cleanly ... OK
* checking dependencies in R code ... OK
* checking S3 generic/method consistency ... OK
* checking replacement functions ... OK
* checking foreign function calls ... NOTE
Foreign function call to a different package:
.Call("getTruthTable_R", ..., PACKAGE = "BoolNet")
See chapter ‘System and foreign language interfaces’ in the ‘Writing R
Extensions’ manual.
* checking R code for possible problems ... NOTE
SimEpiNEM: no visible global function definition for ‘epiNEM2Bg’
SimEpiNEM: no visible global function definition for ‘dummyCNOlist’
SimEpiNEM: no visible global function definition for ‘readSIF’
SimEpiNEM: no visible global function definition for ‘preprocessing’
SimEpiNEM: no visible global function definition for ‘absorption’
SimEpiNEM: no visible global function definition for ‘bnem’
SimEpiNEM: no visible binding for global variable ‘popSize’
SimEpiNEM: no visible global function definition for ‘computeFc’
SimEpiNEM: no visible global function definition for
‘simulateStatesRecursive’
SimEpiNEM: no visible global function definition for ‘dnf2adj’
SimEpiNEM : graph2adj: no visible global function definition for ‘adj’
plot.epiSim: no visible binding for global variable ‘sim’
plot.epiSim: no visible global function definition for ‘layout’
plot.epiSim: no visible global function definition for ‘boxplot’
plot.epiSim: no visible global function definition for ‘abline’
plot.epiSim: no visible global function definition for ‘axis’
Undefined global functions or variables:
abline absorption adj axis bnem boxplot computeFc dnf2adj
dummyCNOlist epiNEM2Bg layout popSize preprocessing readSIF sim
simulateStatesRecursive
Consider adding
importFrom("graphics", "abline", "axis", "boxplot", "layout")
to your NAMESPACE file.
* checking Rd files ... OK
* checking Rd metadata ... OK
* checking Rd cross-references ... OK
* checking for missing documentation entries ... OK
* checking for code/documentation mismatches ... OK
* checking Rd \usage sections ... OK
* checking Rd contents ... OK
* checking for unstated dependencies in examples ... OK
* checking contents of ‘data’ directory ... OK
* checking data for non-ASCII characters ... OK
* checking data for ASCII and uncompressed saves ... OK
* checking files in ‘vignettes’ ... OK
* checking examples ... OK
Examples with CPU or elapsed time > 5s
user system elapsed
epiScreen 10.084 0.000 10.088
plot.epiScreen 9.436 0.000 9.449
SimEpiNEM 5.292 0.008 5.308
plot.epiSim 5.260 0.004 5.270
* checking for unstated dependencies in ‘tests’ ... OK
* checking tests ...
Running ‘runTests.R’
OK
* checking for unstated dependencies in vignettes ... OK
* checking package vignettes in ‘inst/doc’ ... OK
* checking running R code from vignettes ... SKIPPED
* checking re-building of vignette outputs ... SKIPPED
* checking PDF version of manual ... OK
* DONE
Status: 2 NOTEs
See
‘/home/biocbuild/bbs-3.7-bioc/meat/epiNEM.Rcheck/00check.log’
for details.
epiNEM.Rcheck/00install.out
############################################################################## ############################################################################## ### ### Running command: ### ### /home/biocbuild/bbs-3.7-bioc/R/bin/R CMD INSTALL epiNEM ### ############################################################################## ############################################################################## * installing to library ‘/home/biocbuild/bbs-3.7-bioc/R/library’ * installing *source* package ‘epiNEM’ ... ** R ** data *** moving datasets to lazyload DB ** inst ** byte-compile and prepare package for lazy loading ** help *** installing help indices ** building package indices ** installing vignettes ** testing if installed package can be loaded * DONE (epiNEM)
epiNEM.Rcheck/tests/runTests.Rout
R version 3.5.1 Patched (2018-07-12 r74967) -- "Feather Spray"
Copyright (C) 2018 The R Foundation for Statistical Computing
Platform: x86_64-pc-linux-gnu (64-bit)
R is free software and comes with ABSOLUTELY NO WARRANTY.
You are welcome to redistribute it under certain conditions.
Type 'license()' or 'licence()' for distribution details.
R is a collaborative project with many contributors.
Type 'contributors()' for more information and
'citation()' on how to cite R or R packages in publications.
Type 'demo()' for some demos, 'help()' for on-line help, or
'help.start()' for an HTML browser interface to help.
Type 'q()' to quit R.
> BiocGenerics:::testPackage("epiNEM")
[1] "Progress (of 1 iterations):"
1.
RUNIT TEST PROTOCOL -- Tue Oct 16 00:13:25 2018
***********************************************
Number of test functions: 0
Number of errors: 0
Number of failures: 0
1 Test Suite :
epiNEM RUnit Tests - 0 test functions, 0 errors, 0 failures
Number of test functions: 0
Number of errors: 0
Number of failures: 0
>
> proc.time()
user system elapsed
2.268 0.076 2.349
epiNEM.Rcheck/epiNEM-Ex.timings
| name | user | system | elapsed | |
| AddLogicGates | 0.000 | 0.000 | 0.001 | |
| CreateRandomGraph | 0 | 0 | 0 | |
| CreateTopology | 0.052 | 0.000 | 0.052 | |
| ExtendTopology | 0.044 | 0.004 | 0.048 | |
| GenerateData | 0.044 | 0.008 | 0.050 | |
| HeatmapOP | 0.112 | 0.004 | 0.116 | |
| MLL | 0.004 | 0.000 | 0.002 | |
| SimEpiNEM | 5.292 | 0.008 | 5.308 | |
| createExtendedAdjacency | 0.052 | 0.004 | 0.065 | |
| epiAnno | 0.292 | 0.000 | 0.291 | |
| epiNEM | 0.916 | 0.000 | 0.919 | |
| epiScreen | 10.084 | 0.000 | 10.088 | |
| plot.epiNEM | 0.848 | 0.000 | 0.848 | |
| plot.epiScreen | 9.436 | 0.000 | 9.449 | |
| plot.epiSim | 5.260 | 0.004 | 5.270 | |
| sameith_GO | 0.000 | 0.000 | 0.002 | |
| sameith_string | 0.004 | 0.000 | 0.001 | |
| samscreen | 0.000 | 0.000 | 0.001 | |
| sim | 0.000 | 0.000 | 0.001 | |
| wageningen_GO | 0.000 | 0.000 | 0.001 | |
| wageningen_string | 0.000 | 0.000 | 0.001 | |
| wagscreen | 0.000 | 0.000 | 0.001 | |