| Back to Multiple platform build/check report for BioC 3.7 |
|
This page was generated on 2018-10-17 08:57:54 -0400 (Wed, 17 Oct 2018).
| Package 454/1561 | Hostname | OS / Arch | INSTALL | BUILD | CHECK | BUILD BIN | ||||||
| epiNEM 1.4.0 Martin Pirkl
| malbec2 | Linux (Ubuntu 16.04.1 LTS) / x86_64 | OK | OK | OK | |||||||
| tokay2 | Windows Server 2012 R2 Standard / x64 | OK | OK | OK | OK | |||||||
| merida2 | OS X 10.11.6 El Capitan / x86_64 | OK | OK | [ OK ] | OK |
| Package: epiNEM |
| Version: 1.4.0 |
| Command: /Library/Frameworks/R.framework/Versions/Current/Resources/bin/R CMD check --install=check:epiNEM.install-out.txt --library=/Library/Frameworks/R.framework/Versions/Current/Resources/library --no-vignettes --timings epiNEM_1.4.0.tar.gz |
| StartedAt: 2018-10-16 21:13:12 -0400 (Tue, 16 Oct 2018) |
| EndedAt: 2018-10-16 21:15:09 -0400 (Tue, 16 Oct 2018) |
| EllapsedTime: 116.5 seconds |
| RetCode: 0 |
| Status: OK |
| CheckDir: epiNEM.Rcheck |
| Warnings: 0 |
##############################################################################
##############################################################################
###
### Running command:
###
### /Library/Frameworks/R.framework/Versions/Current/Resources/bin/R CMD check --install=check:epiNEM.install-out.txt --library=/Library/Frameworks/R.framework/Versions/Current/Resources/library --no-vignettes --timings epiNEM_1.4.0.tar.gz
###
##############################################################################
##############################################################################
* using log directory ‘/Users/biocbuild/bbs-3.7-bioc/meat/epiNEM.Rcheck’
* using R version 3.5.1 Patched (2018-07-12 r74967)
* using platform: x86_64-apple-darwin15.6.0 (64-bit)
* using session charset: UTF-8
* using option ‘--no-vignettes’
* checking for file ‘epiNEM/DESCRIPTION’ ... OK
* checking extension type ... Package
* this is package ‘epiNEM’ version ‘1.4.0’
* package encoding: UTF-8
* checking package namespace information ... OK
* checking package dependencies ... OK
* checking if this is a source package ... OK
* checking if there is a namespace ... OK
* checking for hidden files and directories ... OK
* checking for portable file names ... OK
* checking for sufficient/correct file permissions ... OK
* checking whether package ‘epiNEM’ can be installed ... OK
* checking installed package size ... OK
* checking package directory ... OK
* checking ‘build’ directory ... OK
* checking DESCRIPTION meta-information ... OK
* checking top-level files ... OK
* checking for left-over files ... OK
* checking index information ... OK
* checking package subdirectories ... OK
* checking R files for non-ASCII characters ... OK
* checking R files for syntax errors ... OK
* checking whether the package can be loaded ... OK
* checking whether the package can be loaded with stated dependencies ... OK
* checking whether the package can be unloaded cleanly ... OK
* checking whether the namespace can be loaded with stated dependencies ... OK
* checking whether the namespace can be unloaded cleanly ... OK
* checking dependencies in R code ... OK
* checking S3 generic/method consistency ... OK
* checking replacement functions ... OK
* checking foreign function calls ... NOTE
Foreign function call to a different package:
.Call("getTruthTable_R", ..., PACKAGE = "BoolNet")
See chapter ‘System and foreign language interfaces’ in the ‘Writing R
Extensions’ manual.
* checking R code for possible problems ... NOTE
SimEpiNEM: no visible global function definition for ‘epiNEM2Bg’
SimEpiNEM: no visible global function definition for ‘dummyCNOlist’
SimEpiNEM: no visible global function definition for ‘readSIF’
SimEpiNEM: no visible global function definition for ‘preprocessing’
SimEpiNEM: no visible global function definition for ‘absorption’
SimEpiNEM: no visible global function definition for ‘bnem’
SimEpiNEM: no visible binding for global variable ‘popSize’
SimEpiNEM: no visible global function definition for ‘computeFc’
SimEpiNEM: no visible global function definition for
‘simulateStatesRecursive’
SimEpiNEM: no visible global function definition for ‘dnf2adj’
SimEpiNEM : graph2adj: no visible global function definition for ‘adj’
plot.epiSim: no visible binding for global variable ‘sim’
plot.epiSim: no visible global function definition for ‘layout’
plot.epiSim: no visible global function definition for ‘boxplot’
plot.epiSim: no visible global function definition for ‘abline’
plot.epiSim: no visible global function definition for ‘axis’
Undefined global functions or variables:
abline absorption adj axis bnem boxplot computeFc dnf2adj
dummyCNOlist epiNEM2Bg layout popSize preprocessing readSIF sim
simulateStatesRecursive
Consider adding
importFrom("graphics", "abline", "axis", "boxplot", "layout")
to your NAMESPACE file.
* checking Rd files ... OK
* checking Rd metadata ... OK
* checking Rd cross-references ... OK
* checking for missing documentation entries ... OK
* checking for code/documentation mismatches ... OK
* checking Rd \usage sections ... OK
* checking Rd contents ... OK
* checking for unstated dependencies in examples ... OK
* checking contents of ‘data’ directory ... OK
* checking data for non-ASCII characters ... OK
* checking data for ASCII and uncompressed saves ... OK
* checking sizes of PDF files under ‘inst/doc’ ... OK
* checking files in ‘vignettes’ ... OK
* checking examples ... OK
Examples with CPU or elapsed time > 5s
user system elapsed
plot.epiScreen 14.562 0.032 14.739
epiScreen 14.291 0.035 14.430
plot.epiSim 7.970 0.024 8.093
SimEpiNEM 7.920 0.024 8.013
* checking for unstated dependencies in ‘tests’ ... OK
* checking tests ...
Running ‘runTests.R’
OK
* checking for unstated dependencies in vignettes ... OK
* checking package vignettes in ‘inst/doc’ ... OK
* checking running R code from vignettes ... SKIPPED
* checking re-building of vignette outputs ... SKIPPED
* checking PDF version of manual ... OK
* DONE
Status: 2 NOTEs
See
‘/Users/biocbuild/bbs-3.7-bioc/meat/epiNEM.Rcheck/00check.log’
for details.
epiNEM.Rcheck/00install.out
############################################################################## ############################################################################## ### ### Running command: ### ### /Library/Frameworks/R.framework/Versions/Current/Resources/bin/R CMD INSTALL epiNEM ### ############################################################################## ############################################################################## * installing to library ‘/Library/Frameworks/R.framework/Versions/3.5/Resources/library’ * installing *source* package ‘epiNEM’ ... ** R ** data *** moving datasets to lazyload DB ** inst ** byte-compile and prepare package for lazy loading ** help *** installing help indices ** building package indices ** installing vignettes ** testing if installed package can be loaded * DONE (epiNEM)
epiNEM.Rcheck/tests/runTests.Rout
R version 3.5.1 Patched (2018-07-12 r74967) -- "Feather Spray"
Copyright (C) 2018 The R Foundation for Statistical Computing
Platform: x86_64-apple-darwin15.6.0 (64-bit)
R is free software and comes with ABSOLUTELY NO WARRANTY.
You are welcome to redistribute it under certain conditions.
Type 'license()' or 'licence()' for distribution details.
R is a collaborative project with many contributors.
Type 'contributors()' for more information and
'citation()' on how to cite R or R packages in publications.
Type 'demo()' for some demos, 'help()' for on-line help, or
'help.start()' for an HTML browser interface to help.
Type 'q()' to quit R.
> BiocGenerics:::testPackage("epiNEM")
[1] "Progress (of 1 iterations):"
1...
RUNIT TEST PROTOCOL -- Tue Oct 16 21:15:04 2018
***********************************************
Number of test functions: 0
Number of errors: 0
Number of failures: 0
1 Test Suite :
epiNEM RUnit Tests - 0 test functions, 0 errors, 0 failures
Number of test functions: 0
Number of errors: 0
Number of failures: 0
>
> proc.time()
user system elapsed
3.653 0.185 3.842
epiNEM.Rcheck/epiNEM-Ex.timings
| name | user | system | elapsed | |
| AddLogicGates | 0.001 | 0.001 | 0.002 | |
| CreateRandomGraph | 0.001 | 0.000 | 0.001 | |
| CreateTopology | 0.078 | 0.005 | 0.082 | |
| ExtendTopology | 0.086 | 0.007 | 0.095 | |
| GenerateData | 0.092 | 0.011 | 0.102 | |
| HeatmapOP | 0.153 | 0.017 | 0.169 | |
| MLL | 0.003 | 0.000 | 0.003 | |
| SimEpiNEM | 7.920 | 0.024 | 8.013 | |
| createExtendedAdjacency | 0.101 | 0.004 | 0.105 | |
| epiAnno | 0.394 | 0.002 | 0.399 | |
| epiNEM | 1.410 | 0.016 | 1.435 | |
| epiScreen | 14.291 | 0.035 | 14.430 | |
| plot.epiNEM | 1.241 | 0.002 | 1.258 | |
| plot.epiScreen | 14.562 | 0.032 | 14.739 | |
| plot.epiSim | 7.970 | 0.024 | 8.093 | |
| sameith_GO | 0.002 | 0.001 | 0.002 | |
| sameith_string | 0.002 | 0.000 | 0.002 | |
| samscreen | 0.003 | 0.000 | 0.002 | |
| sim | 0.002 | 0.001 | 0.003 | |
| wageningen_GO | 0.002 | 0.001 | 0.003 | |
| wageningen_string | 0.002 | 0.001 | 0.003 | |
| wagscreen | 0.002 | 0.001 | 0.002 | |