| Back to Multiple platform build/check report for BioC 3.7 |
|
This page was generated on 2018-10-17 08:45:22 -0400 (Wed, 17 Oct 2018).
| Package 400/1561 | Hostname | OS / Arch | INSTALL | BUILD | CHECK | BUILD BIN | ||||||
| dmrseq 1.0.14 Keegan Korthauer
| malbec2 | Linux (Ubuntu 16.04.1 LTS) / x86_64 | OK | OK | OK | |||||||
| tokay2 | Windows Server 2012 R2 Standard / x64 | OK | OK | OK | [ OK ] | |||||||
| merida2 | OS X 10.11.6 El Capitan / x86_64 | OK | OK | OK | OK |
| Package: dmrseq |
| Version: 1.0.14 |
| Command: rm -rf dmrseq.buildbin-libdir && mkdir dmrseq.buildbin-libdir && C:\Users\biocbuild\bbs-3.7-bioc\R\bin\R.exe CMD INSTALL --merge-multiarch --build --library=dmrseq.buildbin-libdir dmrseq_1.0.14.tar.gz |
| StartedAt: 2018-10-17 06:15:54 -0400 (Wed, 17 Oct 2018) |
| EndedAt: 2018-10-17 06:16:54 -0400 (Wed, 17 Oct 2018) |
| EllapsedTime: 59.4 seconds |
| RetCode: 0 |
| Status: OK |
| PackageFile: dmrseq_1.0.14.zip |
| PackageFileSize: 7.864 MiB |
##############################################################################
##############################################################################
###
### Running command:
###
### rm -rf dmrseq.buildbin-libdir && mkdir dmrseq.buildbin-libdir && C:\Users\biocbuild\bbs-3.7-bioc\R\bin\R.exe CMD INSTALL --merge-multiarch --build --library=dmrseq.buildbin-libdir dmrseq_1.0.14.tar.gz
###
##############################################################################
##############################################################################
install for i386
* installing *source* package 'dmrseq' ...
** R
** data
*** moving datasets to lazyload DB
** inst
** byte-compile and prepare package for lazy loading
** help
*** installing help indices
converting help for package 'dmrseq'
finding HTML links ... done
BS.chr21 html
annot.chr21 html
dmrPlotAnnotations html
dmrs.ex html
dmrseq html
getAnnot html
meanDiff html
plotDMRs html
plotEmpiricalDistribution html
simDMRs html
** building package indices
** installing vignettes
** testing if installed package can be loaded
In R CMD INSTALL
install for x64
* installing *source* package 'dmrseq' ...
** testing if installed package can be loaded
* MD5 sums
packaged installation of 'dmrseq' as dmrseq_1.0.14.zip
* DONE (dmrseq)
In R CMD INSTALL
In R CMD INSTALL