| Back to Multiple platform build/check report for BioC 3.7 |
|
This page was generated on 2018-10-17 08:59:38 -0400 (Wed, 17 Oct 2018).
| Package 400/1561 | Hostname | OS / Arch | INSTALL | BUILD | CHECK | BUILD BIN | ||||||
| dmrseq 1.0.14 Keegan Korthauer
| malbec2 | Linux (Ubuntu 16.04.1 LTS) / x86_64 | OK | OK | OK | |||||||
| tokay2 | Windows Server 2012 R2 Standard / x64 | OK | OK | OK | OK | |||||||
| merida2 | OS X 10.11.6 El Capitan / x86_64 | OK | OK | [ OK ] | OK |
| Package: dmrseq |
| Version: 1.0.14 |
| Command: /Library/Frameworks/R.framework/Versions/Current/Resources/bin/R CMD check --install=check:dmrseq.install-out.txt --library=/Library/Frameworks/R.framework/Versions/Current/Resources/library --no-vignettes --timings dmrseq_1.0.14.tar.gz |
| StartedAt: 2018-10-16 21:00:59 -0400 (Tue, 16 Oct 2018) |
| EndedAt: 2018-10-16 21:07:33 -0400 (Tue, 16 Oct 2018) |
| EllapsedTime: 394.2 seconds |
| RetCode: 0 |
| Status: OK |
| CheckDir: dmrseq.Rcheck |
| Warnings: 0 |
##############################################################################
##############################################################################
###
### Running command:
###
### /Library/Frameworks/R.framework/Versions/Current/Resources/bin/R CMD check --install=check:dmrseq.install-out.txt --library=/Library/Frameworks/R.framework/Versions/Current/Resources/library --no-vignettes --timings dmrseq_1.0.14.tar.gz
###
##############################################################################
##############################################################################
* using log directory ‘/Users/biocbuild/bbs-3.7-bioc/meat/dmrseq.Rcheck’
* using R version 3.5.1 Patched (2018-07-12 r74967)
* using platform: x86_64-apple-darwin15.6.0 (64-bit)
* using session charset: UTF-8
* using option ‘--no-vignettes’
* checking for file ‘dmrseq/DESCRIPTION’ ... OK
* checking extension type ... Package
* this is package ‘dmrseq’ version ‘1.0.14’
* checking package namespace information ... OK
* checking package dependencies ... OK
* checking if this is a source package ... OK
* checking if there is a namespace ... OK
* checking for hidden files and directories ... OK
* checking for portable file names ... OK
* checking for sufficient/correct file permissions ... OK
* checking whether package ‘dmrseq’ can be installed ... OK
* checking installed package size ... NOTE
installed size is 9.1Mb
sub-directories of 1Mb or more:
data 8.8Mb
* checking package directory ... OK
* checking ‘build’ directory ... OK
* checking DESCRIPTION meta-information ... OK
* checking top-level files ... OK
* checking for left-over files ... OK
* checking index information ... OK
* checking package subdirectories ... OK
* checking R files for non-ASCII characters ... OK
* checking R files for syntax errors ... OK
* checking whether the package can be loaded ... OK
* checking whether the package can be loaded with stated dependencies ... OK
* checking whether the package can be unloaded cleanly ... OK
* checking whether the namespace can be loaded with stated dependencies ... OK
* checking whether the namespace can be unloaded cleanly ... OK
* checking dependencies in R code ... OK
* checking S3 generic/method consistency ... OK
* checking replacement functions ... OK
* checking foreign function calls ... OK
* checking R code for possible problems ... OK
* checking Rd files ... OK
* checking Rd metadata ... OK
* checking Rd cross-references ... OK
* checking for missing documentation entries ... OK
* checking for code/documentation mismatches ... OK
* checking Rd \usage sections ... OK
* checking Rd contents ... OK
* checking for unstated dependencies in examples ... OK
* checking contents of ‘data’ directory ... OK
* checking data for non-ASCII characters ... OK
* checking data for ASCII and uncompressed saves ... OK
* checking files in ‘vignettes’ ... OK
* checking examples ... OK
Examples with CPU or elapsed time > 5s
user system elapsed
dmrseq 54.379 19.303 32.154
getAnnot 16.572 1.062 20.043
* checking for unstated dependencies in vignettes ... OK
* checking package vignettes in ‘inst/doc’ ... OK
* checking running R code from vignettes ... SKIPPED
* checking re-building of vignette outputs ... SKIPPED
* checking PDF version of manual ... OK
* DONE
Status: 1 NOTE
See
‘/Users/biocbuild/bbs-3.7-bioc/meat/dmrseq.Rcheck/00check.log’
for details.
dmrseq.Rcheck/00install.out
############################################################################## ############################################################################## ### ### Running command: ### ### /Library/Frameworks/R.framework/Versions/Current/Resources/bin/R CMD INSTALL dmrseq ### ############################################################################## ############################################################################## * installing to library ‘/Library/Frameworks/R.framework/Versions/3.5/Resources/library’ * installing *source* package ‘dmrseq’ ... ** R ** data *** moving datasets to lazyload DB ** inst ** byte-compile and prepare package for lazy loading ** help *** installing help indices ** building package indices ** installing vignettes ** testing if installed package can be loaded * DONE (dmrseq)
dmrseq.Rcheck/dmrseq-Ex.timings
| name | user | system | elapsed | |
| BS.chr21 | 1.763 | 0.103 | 1.885 | |
| annot.chr21 | 0.003 | 0.002 | 0.005 | |
| dmrs.ex | 0.003 | 0.002 | 0.005 | |
| dmrseq | 54.379 | 19.303 | 32.154 | |
| getAnnot | 16.572 | 1.062 | 20.043 | |
| meanDiff | 0.699 | 0.106 | 0.814 | |
| plotDMRs | 1.083 | 0.087 | 1.179 | |
| plotEmpiricalDistribution | 3.962 | 0.617 | 4.623 | |
| simDMRs | 3.079 | 0.155 | 3.253 | |