| Back to Multiple platform build/check report for BioC 3.7 |
|
This page was generated on 2018-10-17 08:31:18 -0400 (Wed, 17 Oct 2018).
| Package 400/1561 | Hostname | OS / Arch | INSTALL | BUILD | CHECK | BUILD BIN | ||||||
| dmrseq 1.0.14 Keegan Korthauer
| malbec2 | Linux (Ubuntu 16.04.1 LTS) / x86_64 | OK | OK | [ OK ] | |||||||
| tokay2 | Windows Server 2012 R2 Standard / x64 | OK | OK | OK | OK | |||||||
| merida2 | OS X 10.11.6 El Capitan / x86_64 | OK | OK | OK | OK |
| Package: dmrseq |
| Version: 1.0.14 |
| Command: /home/biocbuild/bbs-3.7-bioc/R/bin/R CMD check --install=check:dmrseq.install-out.txt --library=/home/biocbuild/bbs-3.7-bioc/R/library --no-vignettes --timings dmrseq_1.0.14.tar.gz |
| StartedAt: 2018-10-15 23:56:19 -0400 (Mon, 15 Oct 2018) |
| EndedAt: 2018-10-16 00:00:59 -0400 (Tue, 16 Oct 2018) |
| EllapsedTime: 279.4 seconds |
| RetCode: 0 |
| Status: OK |
| CheckDir: dmrseq.Rcheck |
| Warnings: 0 |
##############################################################################
##############################################################################
###
### Running command:
###
### /home/biocbuild/bbs-3.7-bioc/R/bin/R CMD check --install=check:dmrseq.install-out.txt --library=/home/biocbuild/bbs-3.7-bioc/R/library --no-vignettes --timings dmrseq_1.0.14.tar.gz
###
##############################################################################
##############################################################################
* using log directory ‘/home/biocbuild/bbs-3.7-bioc/meat/dmrseq.Rcheck’
* using R version 3.5.1 Patched (2018-07-12 r74967)
* using platform: x86_64-pc-linux-gnu (64-bit)
* using session charset: UTF-8
* using option ‘--no-vignettes’
* checking for file ‘dmrseq/DESCRIPTION’ ... OK
* checking extension type ... Package
* this is package ‘dmrseq’ version ‘1.0.14’
* checking package namespace information ... OK
* checking package dependencies ... OK
* checking if this is a source package ... OK
* checking if there is a namespace ... OK
* checking for hidden files and directories ... OK
* checking for portable file names ... OK
* checking for sufficient/correct file permissions ... OK
* checking whether package ‘dmrseq’ can be installed ... OK
* checking installed package size ... NOTE
installed size is 9.2Mb
sub-directories of 1Mb or more:
data 8.8Mb
* checking package directory ... OK
* checking ‘build’ directory ... OK
* checking DESCRIPTION meta-information ... OK
* checking top-level files ... OK
* checking for left-over files ... OK
* checking index information ... OK
* checking package subdirectories ... OK
* checking R files for non-ASCII characters ... OK
* checking R files for syntax errors ... OK
* checking whether the package can be loaded ... OK
* checking whether the package can be loaded with stated dependencies ... OK
* checking whether the package can be unloaded cleanly ... OK
* checking whether the namespace can be loaded with stated dependencies ... OK
* checking whether the namespace can be unloaded cleanly ... OK
* checking dependencies in R code ... OK
* checking S3 generic/method consistency ... OK
* checking replacement functions ... OK
* checking foreign function calls ... OK
* checking R code for possible problems ... OK
* checking Rd files ... OK
* checking Rd metadata ... OK
* checking Rd cross-references ... OK
* checking for missing documentation entries ... OK
* checking for code/documentation mismatches ... OK
* checking Rd \usage sections ... OK
* checking Rd contents ... OK
* checking for unstated dependencies in examples ... OK
* checking contents of ‘data’ directory ... OK
* checking data for non-ASCII characters ... OK
* checking data for ASCII and uncompressed saves ... OK
* checking files in ‘vignettes’ ... OK
* checking examples ... OK
Examples with CPU or elapsed time > 5s
user system elapsed
dmrseq 36.420 7.932 19.966
getAnnot 10.884 0.476 15.232
* checking for unstated dependencies in vignettes ... OK
* checking package vignettes in ‘inst/doc’ ... OK
* checking running R code from vignettes ... SKIPPED
* checking re-building of vignette outputs ... SKIPPED
* checking PDF version of manual ... OK
* DONE
Status: 1 NOTE
See
‘/home/biocbuild/bbs-3.7-bioc/meat/dmrseq.Rcheck/00check.log’
for details.
dmrseq.Rcheck/00install.out
############################################################################## ############################################################################## ### ### Running command: ### ### /home/biocbuild/bbs-3.7-bioc/R/bin/R CMD INSTALL dmrseq ### ############################################################################## ############################################################################## * installing to library ‘/home/biocbuild/bbs-3.7-bioc/R/library’ * installing *source* package ‘dmrseq’ ... ** R ** data *** moving datasets to lazyload DB ** inst ** byte-compile and prepare package for lazy loading ** help *** installing help indices ** building package indices ** installing vignettes ** testing if installed package can be loaded * DONE (dmrseq)
dmrseq.Rcheck/dmrseq-Ex.timings
| name | user | system | elapsed | |
| BS.chr21 | 1.608 | 0.076 | 1.684 | |
| annot.chr21 | 0.004 | 0.000 | 0.002 | |
| dmrs.ex | 0.000 | 0.000 | 0.001 | |
| dmrseq | 36.420 | 7.932 | 19.966 | |
| getAnnot | 10.884 | 0.476 | 15.232 | |
| meanDiff | 0.492 | 0.040 | 0.529 | |
| plotDMRs | 0.836 | 0.016 | 0.854 | |
| plotEmpiricalDistribution | 3.164 | 0.080 | 3.250 | |
| simDMRs | 2.432 | 0.072 | 2.507 | |