| Back to Multiple platform build/check report for BioC 3.7 |
|
This page was generated on 2018-10-17 08:42:39 -0400 (Wed, 17 Oct 2018).
| Package 77/1561 | Hostname | OS / Arch | INSTALL | BUILD | CHECK | BUILD BIN | ||||||
| ASpli 1.6.0 Estefania Mancini
| malbec2 | Linux (Ubuntu 16.04.1 LTS) / x86_64 | OK | OK | OK | |||||||
| tokay2 | Windows Server 2012 R2 Standard / x64 | OK | OK | OK | [ OK ] | |||||||
| merida2 | OS X 10.11.6 El Capitan / x86_64 | OK | OK | OK | OK |
| Package: ASpli |
| Version: 1.6.0 |
| Command: rm -rf ASpli.buildbin-libdir && mkdir ASpli.buildbin-libdir && C:\Users\biocbuild\bbs-3.7-bioc\R\bin\R.exe CMD INSTALL --merge-multiarch --build --library=ASpli.buildbin-libdir ASpli_1.6.0.tar.gz |
| StartedAt: 2018-10-17 06:02:53 -0400 (Wed, 17 Oct 2018) |
| EndedAt: 2018-10-17 06:03:51 -0400 (Wed, 17 Oct 2018) |
| EllapsedTime: 57.4 seconds |
| RetCode: 0 |
| Status: OK |
| PackageFile: ASpli_1.6.0.zip |
| PackageFileSize: 2.016 MiB |
##############################################################################
##############################################################################
###
### Running command:
###
### rm -rf ASpli.buildbin-libdir && mkdir ASpli.buildbin-libdir && C:\Users\biocbuild\bbs-3.7-bioc\R\bin\R.exe CMD INSTALL --merge-multiarch --build --library=ASpli.buildbin-libdir ASpli_1.6.0.tar.gz
###
##############################################################################
##############################################################################
install for i386
* installing *source* package 'ASpli' ...
** R
** inst
** byte-compile and prepare package for lazy loading
** help
*** installing help indices
converting help for package 'ASpli'
finding HTML links ... done
ASpli-package html
ASpliAS-class html
ASpliCounts-class html
ASpliCounts html
ASpliDU-class html
ASpliFeatures-class html
AsDiscover-methods html
DUreport html
finding level-2 HTML links ... done
DUreportBinSplice-method html
acc_AS html
acc_DU html
acc_counts html
acc_features html
binGenome-methods html
binGenome html
containsJunctions-function html
example_data html
filterDU-method html
getConditions-function html
junctionDUreport html
loadBAM html
mergeBinDUAS-method html
plotBins html
plotGenomicRegions html
rds html
readCounts html
show-methods html
subset-methods html
write-methods html
write html
** building package indices
** installing vignettes
** testing if installed package can be loaded
In R CMD INSTALL
install for x64
* installing *source* package 'ASpli' ...
** testing if installed package can be loaded
* MD5 sums
packaged installation of 'ASpli' as ASpli_1.6.0.zip
* DONE (ASpli)
In R CMD INSTALL
In R CMD INSTALL