| Back to Multiple platform build/check report for BioC 3.7 |
|
This page was generated on 2018-10-17 08:29:15 -0400 (Wed, 17 Oct 2018).
| Package 77/1561 | Hostname | OS / Arch | INSTALL | BUILD | CHECK | BUILD BIN | ||||||
| ASpli 1.6.0 Estefania Mancini
| malbec2 | Linux (Ubuntu 16.04.1 LTS) / x86_64 | OK | OK | [ OK ] | |||||||
| tokay2 | Windows Server 2012 R2 Standard / x64 | OK | OK | OK | OK | |||||||
| merida2 | OS X 10.11.6 El Capitan / x86_64 | OK | OK | OK | OK |
| Package: ASpli |
| Version: 1.6.0 |
| Command: /home/biocbuild/bbs-3.7-bioc/R/bin/R CMD check --install=check:ASpli.install-out.txt --library=/home/biocbuild/bbs-3.7-bioc/R/library --no-vignettes --timings ASpli_1.6.0.tar.gz |
| StartedAt: 2018-10-15 22:33:03 -0400 (Mon, 15 Oct 2018) |
| EndedAt: 2018-10-15 22:37:46 -0400 (Mon, 15 Oct 2018) |
| EllapsedTime: 282.5 seconds |
| RetCode: 0 |
| Status: OK |
| CheckDir: ASpli.Rcheck |
| Warnings: 0 |
##############################################################################
##############################################################################
###
### Running command:
###
### /home/biocbuild/bbs-3.7-bioc/R/bin/R CMD check --install=check:ASpli.install-out.txt --library=/home/biocbuild/bbs-3.7-bioc/R/library --no-vignettes --timings ASpli_1.6.0.tar.gz
###
##############################################################################
##############################################################################
* using log directory ‘/home/biocbuild/bbs-3.7-bioc/meat/ASpli.Rcheck’
* using R version 3.5.1 Patched (2018-07-12 r74967)
* using platform: x86_64-pc-linux-gnu (64-bit)
* using session charset: UTF-8
* using option ‘--no-vignettes’
* checking for file ‘ASpli/DESCRIPTION’ ... OK
* checking extension type ... Package
* this is package ‘ASpli’ version ‘1.6.0’
* checking package namespace information ... OK
* checking package dependencies ... OK
* checking if this is a source package ... OK
* checking if there is a namespace ... OK
* checking for hidden files and directories ... OK
* checking for portable file names ... OK
* checking for sufficient/correct file permissions ... OK
* checking whether package ‘ASpli’ can be installed ... OK
* checking installed package size ... OK
* checking package directory ... OK
* checking ‘build’ directory ... OK
* checking DESCRIPTION meta-information ... OK
* checking top-level files ... OK
* checking for left-over files ... OK
* checking index information ... OK
* checking package subdirectories ... OK
* checking R files for non-ASCII characters ... OK
* checking R files for syntax errors ... OK
* checking whether the package can be loaded ... OK
* checking whether the package can be loaded with stated dependencies ... OK
* checking whether the package can be unloaded cleanly ... OK
* checking whether the namespace can be loaded with stated dependencies ... OK
* checking whether the namespace can be unloaded cleanly ... OK
* checking dependencies in R code ... OK
* checking S3 generic/method consistency ... OK
* checking replacement functions ... OK
* checking foreign function calls ... OK
* checking R code for possible problems ... OK
* checking Rd files ... OK
* checking Rd metadata ... OK
* checking Rd cross-references ... OK
* checking for missing documentation entries ... OK
* checking for code/documentation mismatches ... OK
* checking Rd \usage sections ... OK
* checking Rd contents ... OK
* checking for unstated dependencies in examples ... OK
* checking files in ‘vignettes’ ... OK
* checking examples ... OK
Examples with CPU or elapsed time > 5s
user system elapsed
plotGenomicRegions 13.192 0.024 13.231
plotBins 7.880 0.000 7.888
ASpli-package 6.524 0.120 6.688
mergeBinDUAS-method 6.292 0.000 6.297
* checking for unstated dependencies in vignettes ... OK
* checking package vignettes in ‘inst/doc’ ... OK
* checking running R code from vignettes ... SKIPPED
* checking re-building of vignette outputs ... SKIPPED
* checking PDF version of manual ... OK
* DONE
Status: OK
ASpli.Rcheck/00install.out
############################################################################## ############################################################################## ### ### Running command: ### ### /home/biocbuild/bbs-3.7-bioc/R/bin/R CMD INSTALL ASpli ### ############################################################################## ############################################################################## * installing to library ‘/home/biocbuild/bbs-3.7-bioc/R/library’ * installing *source* package ‘ASpli’ ... ** R ** inst ** byte-compile and prepare package for lazy loading ** help *** installing help indices ** building package indices ** installing vignettes ** testing if installed package can be loaded * DONE (ASpli)
ASpli.Rcheck/ASpli-Ex.timings
| name | user | system | elapsed | |
| ASpli-package | 6.524 | 0.120 | 6.688 | |
| AsDiscover-methods | 4.956 | 0.012 | 4.975 | |
| DUreport | 3.600 | 0.008 | 3.612 | |
| DUreportBinSplice-method | 3.720 | 0.008 | 3.732 | |
| acc_AS | 0.020 | 0.000 | 0.026 | |
| acc_DU | 0.004 | 0.000 | 0.007 | |
| acc_counts | 0.012 | 0.000 | 0.022 | |
| acc_features | 0.140 | 0.000 | 0.137 | |
| binGenome | 2.012 | 0.004 | 2.019 | |
| containsJunctions-function | 3.840 | 0.008 | 3.849 | |
| example_data | 0.436 | 0.000 | 0.437 | |
| filterDU-method | 3.884 | 0.008 | 3.893 | |
| getConditions-function | 0.008 | 0.000 | 0.006 | |
| junctionDUreport | 4.100 | 0.004 | 4.105 | |
| loadBAM | 0.128 | 0.000 | 0.127 | |
| mergeBinDUAS-method | 6.292 | 0.000 | 6.297 | |
| plotBins | 7.880 | 0.000 | 7.888 | |
| plotGenomicRegions | 13.192 | 0.024 | 13.231 | |
| rds | 3.424 | 0.008 | 3.435 | |
| readCounts | 3.652 | 0.008 | 3.659 | |
| subset-methods | 4.352 | 0.004 | 4.357 | |