| Back to Multiple platform build/check report for BioC 3.6 |
|
This page was generated on 2018-04-12 13:33:48 -0400 (Thu, 12 Apr 2018).
| Package 687/1472 | Hostname | OS / Arch | INSTALL | BUILD | CHECK | BUILD BIN | ||||||
| imageHTS 1.28.1 Joseph Barry
| malbec1 | Linux (Ubuntu 16.04.1 LTS) / x86_64 | OK | OK | OK | |||||||
| tokay1 | Windows Server 2012 R2 Standard / x64 | OK | OK | OK | OK | |||||||
| veracruz1 | OS X 10.11.6 El Capitan / x86_64 | OK | OK | [ OK ] | OK |
| Package: imageHTS |
| Version: 1.28.1 |
| Command: /Library/Frameworks/R.framework/Versions/Current/Resources/bin/R CMD check --no-vignettes --timings imageHTS_1.28.1.tar.gz |
| StartedAt: 2018-04-12 05:11:27 -0400 (Thu, 12 Apr 2018) |
| EndedAt: 2018-04-12 05:14:48 -0400 (Thu, 12 Apr 2018) |
| EllapsedTime: 201.4 seconds |
| RetCode: 0 |
| Status: OK |
| CheckDir: imageHTS.Rcheck |
| Warnings: 0 |
##############################################################################
##############################################################################
###
### Running command:
###
### /Library/Frameworks/R.framework/Versions/Current/Resources/bin/R CMD check --no-vignettes --timings imageHTS_1.28.1.tar.gz
###
##############################################################################
##############################################################################
* using log directory ‘/Users/biocbuild/bbs-3.6-bioc/meat/imageHTS.Rcheck’
* using R version 3.4.4 (2018-03-15)
* using platform: x86_64-apple-darwin15.6.0 (64-bit)
* using session charset: UTF-8
* using option ‘--no-vignettes’
* checking for file ‘imageHTS/DESCRIPTION’ ... OK
* this is package ‘imageHTS’ version ‘1.28.1’
* checking package namespace information ... OK
* checking package dependencies ... OK
* checking if this is a source package ... OK
* checking if there is a namespace ... OK
* checking for hidden files and directories ... NOTE
Found the following hidden files and directories:
.BBSoptions
These were most likely included in error. See section ‘Package
structure’ in the ‘Writing R Extensions’ manual.
* checking for portable file names ... OK
* checking for sufficient/correct file permissions ... OK
* checking whether package ‘imageHTS’ can be installed ... OK
* checking installed package size ... OK
* checking package directory ... OK
* checking ‘build’ directory ... OK
* checking DESCRIPTION meta-information ... OK
* checking top-level files ... OK
* checking for left-over files ... OK
* checking index information ... OK
* checking package subdirectories ... OK
* checking R files for non-ASCII characters ... OK
* checking R files for syntax errors ... OK
* checking whether the package can be loaded ... OK
* checking whether the package can be loaded with stated dependencies ... OK
* checking whether the package can be unloaded cleanly ... OK
* checking whether the namespace can be loaded with stated dependencies ... OK
* checking whether the namespace can be unloaded cleanly ... OK
* checking dependencies in R code ... OK
* checking S3 generic/method consistency ... OK
* checking replacement functions ... OK
* checking foreign function calls ... OK
* checking R code for possible problems ... OK
* checking Rd files ... OK
* checking Rd metadata ... OK
* checking Rd cross-references ... OK
* checking for missing documentation entries ... OK
* checking for code/documentation mismatches ... OK
* checking Rd \usage sections ... OK
* checking Rd contents ... OK
* checking for unstated dependencies in examples ... OK
* checking sizes of PDF files under ‘inst/doc’ ... OK
* checking installed files from ‘inst/doc’ ... OK
* checking files in ‘vignettes’ ... OK
* checking examples ... OK
Examples with CPU or elapsed time > 5s
user system elapsed
extractFeatures 12.900 0.959 14.086
countObjects 9.487 0.327 9.996
segmentWells 5.745 0.399 6.219
* checking for unstated dependencies in vignettes ... OK
* checking package vignettes in ‘inst/doc’ ... OK
* checking running R code from vignettes ... SKIPPED
* checking re-building of vignette outputs ... SKIPPED
* checking PDF version of manual ... OK
* DONE
Status: 1 NOTE
See
‘/Users/biocbuild/bbs-3.6-bioc/meat/imageHTS.Rcheck/00check.log’
for details.
imageHTS.Rcheck/00install.out
* installing *source* package ‘imageHTS’ ... ** R ** inst ** preparing package for lazy loading ** help *** installing help indices ** building package indices ** installing vignettes ** testing if installed package can be loaded * DONE (imageHTS)
imageHTS.Rcheck/imageHTS-Ex.timings
| name | user | system | elapsed | |
| collectCellFeatures | 0.001 | 0.000 | 0.000 | |
| countObjects | 9.487 | 0.327 | 9.996 | |
| extractFeatures | 12.900 | 0.959 | 14.086 | |
| fileHTS | 2.366 | 0.020 | 4.404 | |
| getImageConf | 1.143 | 0.003 | 1.167 | |
| getUnames | 2.954 | 0.007 | 2.987 | |
| getWellFeatures | 3.523 | 0.021 | 3.615 | |
| highlightSegmentation | 0.001 | 0.000 | 0.001 | |
| installCellPicker | 1.890 | 0.008 | 1.930 | |
| makeCellHTS | 0.001 | 0.000 | 0.001 | |
| parseDCF | 0.002 | 0.001 | 0.003 | |
| parseImageConf | 1.189 | 0.003 | 1.220 | |
| popCellPicker | 1.126 | 0.003 | 1.142 | |
| prw2uname | 0.004 | 0.000 | 0.005 | |
| readLearnTS | 0 | 0 | 0 | |
| segmentATH | 0 | 0 | 0 | |
| segmentWells | 5.745 | 0.399 | 6.219 | |
| segmentYeastBF | 2.925 | 0.549 | 3.530 | |
| summarizeWells | 0.002 | 0.000 | 0.002 | |
| zprime | 2.865 | 0.016 | 2.921 | |