| Back to Multiple platform build/check report for BioC 3.6 |
|
This page was generated on 2018-04-12 13:20:20 -0400 (Thu, 12 Apr 2018).
| Package 687/1472 | Hostname | OS / Arch | INSTALL | BUILD | CHECK | BUILD BIN | ||||||
| imageHTS 1.28.1 Joseph Barry
| malbec1 | Linux (Ubuntu 16.04.1 LTS) / x86_64 | OK | OK | OK | |||||||
| tokay1 | Windows Server 2012 R2 Standard / x64 | OK | OK | OK | [ OK ] | |||||||
| veracruz1 | OS X 10.11.6 El Capitan / x86_64 | OK | OK | OK | OK |
| Package: imageHTS |
| Version: 1.28.1 |
| Command: rm -rf imageHTS.buildbin-libdir && mkdir imageHTS.buildbin-libdir && C:\Users\biocbuild\bbs-3.6-bioc\R\bin\R.exe --arch i386 CMD INSTALL --build --no-multiarch --library=imageHTS.buildbin-libdir imageHTS_1.28.1.tar.gz |
| StartedAt: 2018-04-12 04:46:01 -0400 (Thu, 12 Apr 2018) |
| EndedAt: 2018-04-12 04:46:42 -0400 (Thu, 12 Apr 2018) |
| EllapsedTime: 41.3 seconds |
| RetCode: 0 |
| Status: OK |
| PackageFile: imageHTS_1.28.1.zip |
| PackageFileSize: 2.421 MiB |
##############################################################################
##############################################################################
###
### Running command:
###
### rm -rf imageHTS.buildbin-libdir && mkdir imageHTS.buildbin-libdir && C:\Users\biocbuild\bbs-3.6-bioc\R\bin\R.exe --arch i386 CMD INSTALL --build --no-multiarch --library=imageHTS.buildbin-libdir imageHTS_1.28.1.tar.gz
###
##############################################################################
##############################################################################
* installing *source* package 'imageHTS' ...
** R
** inst
** preparing package for lazy loading
** help
*** installing help indices
converting help for package 'imageHTS'
finding HTML links ... done
collectCellFeatures html
countObjects html
extractFeatures html
fileHTS html
getImageConf html
getUnames html
getWellFeatures html
finding level-2 HTML links ... done
highlightSegmentation html
imageHTS html
installCellPicker html
makeCellHTS html
parseDCF html
parseImageConf html
popCellPicker html
prw2uname html
readLearnTS html
segmentATH html
segmentWells html
segmentYeastBF html
summarizeWells html
zprime html
** building package indices
** installing vignettes
** testing if installed package can be loaded
* MD5 sums
packaged installation of 'imageHTS' as imageHTS_1.28.1.zip
* DONE (imageHTS)
In R CMD INSTALL