| Back to Multiple platform build/check report for BioC 3.6 |
|
This page was generated on 2018-04-12 13:20:20 -0400 (Thu, 12 Apr 2018).
| Package 687/1472 | Hostname | OS / Arch | INSTALL | BUILD | CHECK | BUILD BIN | ||||||
| imageHTS 1.28.1 Joseph Barry
| malbec1 | Linux (Ubuntu 16.04.1 LTS) / x86_64 | OK | OK | OK | |||||||
| tokay1 | Windows Server 2012 R2 Standard / x64 | OK | OK | [ OK ] | OK | |||||||
| veracruz1 | OS X 10.11.6 El Capitan / x86_64 | OK | OK | OK | OK |
| Package: imageHTS |
| Version: 1.28.1 |
| Command: C:\Users\biocbuild\bbs-3.6-bioc\R\bin\R.exe --arch i386 CMD check --no-multiarch --no-vignettes --timings imageHTS_1.28.1.tar.gz |
| StartedAt: 2018-04-12 00:49:18 -0400 (Thu, 12 Apr 2018) |
| EndedAt: 2018-04-12 00:52:19 -0400 (Thu, 12 Apr 2018) |
| EllapsedTime: 181.4 seconds |
| RetCode: 0 |
| Status: OK |
| CheckDir: imageHTS.Rcheck |
| Warnings: 0 |
##############################################################################
##############################################################################
###
### Running command:
###
### C:\Users\biocbuild\bbs-3.6-bioc\R\bin\R.exe --arch i386 CMD check --no-multiarch --no-vignettes --timings imageHTS_1.28.1.tar.gz
###
##############################################################################
##############################################################################
* using log directory 'C:/Users/biocbuild/bbs-3.6-bioc/meat/imageHTS.Rcheck'
* using R version 3.4.4 (2018-03-15)
* using platform: i386-w64-mingw32 (32-bit)
* using session charset: ISO8859-1
* using option '--no-vignettes'
* checking for file 'imageHTS/DESCRIPTION' ... OK
* this is package 'imageHTS' version '1.28.1'
* checking package namespace information ... OK
* checking package dependencies ... OK
* checking if this is a source package ... OK
* checking if there is a namespace ... OK
* checking for hidden files and directories ... NOTE
Found the following hidden files and directories:
.BBSoptions
These were most likely included in error. See section 'Package
structure' in the 'Writing R Extensions' manual.
* checking for portable file names ... OK
* checking whether package 'imageHTS' can be installed ... OK
* checking installed package size ... OK
* checking package directory ... OK
* checking 'build' directory ... OK
* checking DESCRIPTION meta-information ... OK
* checking top-level files ... OK
* checking for left-over files ... OK
* checking index information ... OK
* checking package subdirectories ... OK
* checking R files for non-ASCII characters ... OK
* checking R files for syntax errors ... OK
* checking whether the package can be loaded ... OK
* checking whether the package can be loaded with stated dependencies ... OK
* checking whether the package can be unloaded cleanly ... OK
* checking whether the namespace can be loaded with stated dependencies ... OK
* checking whether the namespace can be unloaded cleanly ... OK
* checking dependencies in R code ... OK
* checking S3 generic/method consistency ... OK
* checking replacement functions ... OK
* checking foreign function calls ... OK
* checking R code for possible problems ... OK
* checking Rd files ... OK
* checking Rd metadata ... OK
* checking Rd cross-references ... OK
* checking for missing documentation entries ... OK
* checking for code/documentation mismatches ... OK
* checking Rd \usage sections ... OK
* checking Rd contents ... OK
* checking for unstated dependencies in examples ... OK
* checking installed files from 'inst/doc' ... OK
* checking files in 'vignettes' ... OK
* checking examples ... OK
Examples with CPU or elapsed time > 5s
user system elapsed
extractFeatures 16.52 1.44 17.98
countObjects 8.53 0.62 9.67
segmentWells 5.62 0.61 6.23
* checking for unstated dependencies in vignettes ... OK
* checking package vignettes in 'inst/doc' ... OK
* checking running R code from vignettes ... SKIPPED
* checking re-building of vignette outputs ... SKIPPED
* checking PDF version of manual ... OK
* DONE
Status: 1 NOTE
See
'C:/Users/biocbuild/bbs-3.6-bioc/meat/imageHTS.Rcheck/00check.log'
for details.
imageHTS.Rcheck/00install.out
* installing *source* package 'imageHTS' ... ** R ** inst ** preparing package for lazy loading ** help *** installing help indices ** building package indices ** installing vignettes ** testing if installed package can be loaded * DONE (imageHTS) In R CMD INSTALL
imageHTS.Rcheck/imageHTS-Ex.timings
| name | user | system | elapsed | |
| collectCellFeatures | 0 | 0 | 0 | |
| countObjects | 8.53 | 0.62 | 9.67 | |
| extractFeatures | 16.52 | 1.44 | 17.98 | |
| fileHTS | 1.59 | 0.03 | 2.31 | |
| getImageConf | 0.77 | 0.00 | 0.77 | |
| getUnames | 2.18 | 0.01 | 2.20 | |
| getWellFeatures | 2.32 | 0.02 | 2.41 | |
| highlightSegmentation | 0 | 0 | 0 | |
| installCellPicker | 1.24 | 0.00 | 1.32 | |
| makeCellHTS | 0 | 0 | 0 | |
| parseDCF | 0 | 0 | 0 | |
| parseImageConf | 0.79 | 0.00 | 0.79 | |
| popCellPicker | 0.8 | 0.0 | 0.8 | |
| prw2uname | 0 | 0 | 0 | |
| readLearnTS | 0 | 0 | 0 | |
| segmentATH | 0 | 0 | 0 | |
| segmentWells | 5.62 | 0.61 | 6.23 | |
| segmentYeastBF | 2.94 | 0.61 | 3.55 | |
| summarizeWells | 0 | 0 | 0 | |
| zprime | 2.76 | 0.00 | 2.82 | |