| Back to Multiple platform build/check report for BioC 3.6 |
|
This page was generated on 2018-04-12 13:33:00 -0400 (Thu, 12 Apr 2018).
| Package 19/1472 | Hostname | OS / Arch | INSTALL | BUILD | CHECK | BUILD BIN | ||||||
| affyContam 1.36.0 V. Carey
| malbec1 | Linux (Ubuntu 16.04.1 LTS) / x86_64 | OK | OK | OK | |||||||
| tokay1 | Windows Server 2012 R2 Standard / x64 | OK | OK | OK | OK | |||||||
| veracruz1 | OS X 10.11.6 El Capitan / x86_64 | OK | OK | OK | [ OK ] |
| Package: affyContam |
| Version: 1.36.0 |
| Command: rm -rf affyContam.buildbin-libdir && mkdir affyContam.buildbin-libdir && /Users/biocbuild/BBS/utils/build-universal.sh affyContam_1.36.0.tar.gz /Library/Frameworks/R.framework/Versions/Current/Resources/bin/R affyContam.buildbin-libdir |
| StartedAt: 2018-04-12 11:04:52 -0400 (Thu, 12 Apr 2018) |
| EndedAt: 2018-04-12 11:05:01 -0400 (Thu, 12 Apr 2018) |
| EllapsedTime: 8.2 seconds |
| RetCode: 0 |
| Status: OK |
| PackageFile: affyContam_1.36.0.tgz |
| PackageFileSize: 228.5 KiB |
##############################################################################
##############################################################################
###
### Running command:
###
### rm -rf affyContam.buildbin-libdir && mkdir affyContam.buildbin-libdir && /Users/biocbuild/BBS/utils/build-universal.sh affyContam_1.36.0.tar.gz /Library/Frameworks/R.framework/Versions/Current/Resources/bin/R affyContam.buildbin-libdir
###
##############################################################################
##############################################################################
>>>>>>>
>>>>>>> INSTALLATION WITH 'R CMD INSTALL --preclean --no-multiarch --library=affyContam.buildbin-libdir affyContam_1.36.0.tar.gz'
>>>>>>>
* installing *source* package ‘affyContam’ ...
** R
** inst
** preparing package for lazy loading
Package
[1,] "affydata"
LibPath
[1,] "/Library/Frameworks/R.framework/Versions/3.4/Resources/library"
Item Title
[1,] "Dilution" "AffyBatch instance Dilution"
** help
*** installing help indices
** building package indices
** installing vignettes
** testing if installed package can be loaded
Package
[1,] "affydata"
LibPath
[1,] "/Library/Frameworks/R.framework/Versions/3.4/Resources/library"
Item Title
[1,] "Dilution" "AffyBatch instance Dilution"
* DONE (affyContam)