| Back to Multiple platform build/check report for BioC 3.6 |
|
This page was generated on 2018-04-12 13:08:32 -0400 (Thu, 12 Apr 2018).
| Package 19/1472 | Hostname | OS / Arch | INSTALL | BUILD | CHECK | BUILD BIN | ||||||
| affyContam 1.36.0 V. Carey
| malbec1 | Linux (Ubuntu 16.04.1 LTS) / x86_64 | OK | OK | [ OK ] | |||||||
| tokay1 | Windows Server 2012 R2 Standard / x64 | OK | OK | OK | OK | |||||||
| veracruz1 | OS X 10.11.6 El Capitan / x86_64 | OK | OK | OK | OK |
| Package: affyContam |
| Version: 1.36.0 |
| Command: /home/biocbuild/bbs-3.6-bioc/R/bin/R CMD check --no-vignettes --timings affyContam_1.36.0.tar.gz |
| StartedAt: 2018-04-11 21:20:04 -0400 (Wed, 11 Apr 2018) |
| EndedAt: 2018-04-11 21:20:55 -0400 (Wed, 11 Apr 2018) |
| EllapsedTime: 50.7 seconds |
| RetCode: 0 |
| Status: OK |
| CheckDir: affyContam.Rcheck |
| Warnings: 0 |
##############################################################################
##############################################################################
###
### Running command:
###
### /home/biocbuild/bbs-3.6-bioc/R/bin/R CMD check --no-vignettes --timings affyContam_1.36.0.tar.gz
###
##############################################################################
##############################################################################
* using log directory ‘/home/biocbuild/bbs-3.6-bioc/meat/affyContam.Rcheck’
* using R version 3.4.4 (2018-03-15)
* using platform: x86_64-pc-linux-gnu (64-bit)
* using session charset: UTF-8
* using option ‘--no-vignettes’
* checking for file ‘affyContam/DESCRIPTION’ ... OK
* this is package ‘affyContam’ version ‘1.36.0’
* checking package namespace information ... OK
* checking package dependencies ... OK
* checking if this is a source package ... OK
* checking if there is a namespace ... OK
* checking for hidden files and directories ... OK
* checking for portable file names ... OK
* checking for sufficient/correct file permissions ... OK
* checking whether package ‘affyContam’ can be installed ... OK
* checking installed package size ... OK
* checking package directory ... OK
* checking ‘build’ directory ... OK
* checking DESCRIPTION meta-information ... NOTE
Malformed Description field: should contain one or more complete sentences.
* checking top-level files ... OK
* checking for left-over files ... OK
* checking index information ... OK
* checking package subdirectories ... OK
* checking R files for non-ASCII characters ... OK
* checking R files for syntax errors ... OK
* checking whether the package can be loaded ... OK
* checking whether the package can be loaded with stated dependencies ... OK
* checking whether the package can be unloaded cleanly ... OK
* checking whether the namespace can be loaded with stated dependencies ... OK
* checking whether the namespace can be unloaded cleanly ... OK
* checking dependencies in R code ... NOTE
Packages in Depends field not imported from:
‘Biobase’ ‘affy’ ‘affydata’
These packages need to be imported from (in the NAMESPACE file)
for when this namespace is loaded but not attached.
* checking S3 generic/method consistency ... OK
* checking replacement functions ... OK
* checking foreign function calls ... OK
* checking R code for possible problems ... NOTE
getCircRegion: no visible global function definition for ‘annotation’
getCircRegion : <anonymous>: no visible global function definition for
‘xy2indices’
getCircRegion: no visible global function definition for ‘exprs’
getRectRegion: no visible global function definition for ‘annotation’
getRectRegion : <anonymous>: no visible global function definition for
‘xy2indices’
getRectRegion: no visible global function definition for ‘exprs’
setCircRegion: no visible global function definition for ‘annotation’
setCircRegion : <anonymous>: no visible global function definition for
‘xy2indices’
setCircRegion: no visible global function definition for ‘exprs’
setCircRegion: no visible global function definition for ‘exprs<-’
setRectRegion: no visible global function definition for ‘annotation’
setRectRegion : <anonymous>: no visible global function definition for
‘xy2indices’
setRectRegion: no visible global function definition for ‘exprs’
setRectRegion: no visible global function definition for ‘exprs<-’
Undefined global functions or variables:
annotation exprs exprs<- xy2indices
* checking Rd files ... OK
* checking Rd metadata ... OK
* checking Rd cross-references ... OK
* checking for missing documentation entries ... OK
* checking for code/documentation mismatches ... OK
* checking Rd \usage sections ... OK
* checking Rd contents ... OK
* checking for unstated dependencies in examples ... OK
* checking installed files from ‘inst/doc’ ... OK
* checking files in ‘vignettes’ ... OK
* checking examples ... OK
Examples with CPU or elapsed time > 5s
user system elapsed
setRectRegion 14.884 0.216 15.124
* checking for unstated dependencies in vignettes ... OK
* checking package vignettes in ‘inst/doc’ ... OK
* checking running R code from vignettes ... SKIPPED
* checking re-building of vignette outputs ... SKIPPED
* checking PDF version of manual ... OK
* DONE
Status: 3 NOTEs
See
‘/home/biocbuild/bbs-3.6-bioc/meat/affyContam.Rcheck/00check.log’
for details.
affyContam.Rcheck/00install.out
* installing *source* package ‘affyContam’ ...
** R
** inst
** preparing package for lazy loading
Package LibPath Item
[1,] "affydata" "/home/biocbuild/bbs-3.6-bioc/R/library" "Dilution"
Title
[1,] "AffyBatch instance Dilution"
** help
*** installing help indices
** building package indices
** installing vignettes
** testing if installed package can be loaded
Package LibPath Item
[1,] "affydata" "/home/biocbuild/bbs-3.6-bioc/R/library" "Dilution"
Title
[1,] "AffyBatch instance Dilution"
* DONE (affyContam)
affyContam.Rcheck/affyContam-Ex.timings
| name | user | system | elapsed | |
| setRectRegion | 14.884 | 0.216 | 15.124 | |