| Back to Multiple platform build/check report for BioC 3.6 |
|
This page was generated on 2018-04-12 13:08:32 -0400 (Thu, 12 Apr 2018).
| Package 19/1472 | Hostname | OS / Arch | INSTALL | BUILD | CHECK | BUILD BIN | ||||||
| affyContam 1.36.0 V. Carey
| malbec1 | Linux (Ubuntu 16.04.1 LTS) / x86_64 | [ OK ] | OK | OK | |||||||
| tokay1 | Windows Server 2012 R2 Standard / x64 | OK | OK | OK | OK | |||||||
| veracruz1 | OS X 10.11.6 El Capitan / x86_64 | OK | OK | OK | OK |
| Package: affyContam |
| Version: 1.36.0 |
| Command: /home/biocbuild/bbs-3.6-bioc/R/bin/R CMD INSTALL affyContam |
| StartedAt: 2018-04-11 18:02:46 -0400 (Wed, 11 Apr 2018) |
| EndedAt: 2018-04-11 18:02:49 -0400 (Wed, 11 Apr 2018) |
| EllapsedTime: 3.9 seconds |
| RetCode: 0 |
| Status: OK |
##############################################################################
##############################################################################
###
### Running command:
###
### /home/biocbuild/bbs-3.6-bioc/R/bin/R CMD INSTALL affyContam
###
##############################################################################
##############################################################################
* installing to library ‘/home/biocbuild/bbs-3.6-bioc/R/library’
* installing *source* package ‘affyContam’ ...
** R
** preparing package for lazy loading
Package LibPath Item
[1,] "affydata" "/home/biocbuild/bbs-3.6-bioc/R/library" "Dilution"
Title
[1,] "AffyBatch instance Dilution"
** help
*** installing help indices
** building package indices
** installing vignettes
** testing if installed package can be loaded
Package LibPath Item
[1,] "affydata" "/home/biocbuild/bbs-3.6-bioc/R/library" "Dilution"
Title
[1,] "AffyBatch instance Dilution"
* DONE (affyContam)