| Back to Multiple platform build/check report for BioC 3.6 |
|
This page was generated on 2018-04-12 13:41:26 -0400 (Thu, 12 Apr 2018).
| Package 1387/1472 | Hostname | OS / Arch | INSTALL | BUILD | CHECK | BUILD BIN | ||||||
| TCGAbiolinks 2.6.12 Antonio Colaprico
| malbec1 | Linux (Ubuntu 16.04.1 LTS) / x86_64 | OK | OK | ERROR | |||||||
| tokay1 | Windows Server 2012 R2 Standard / x64 | OK | OK | OK | OK | |||||||
| veracruz1 | OS X 10.11.6 El Capitan / x86_64 | OK | OK | [ OK ] | OK |
| Package: TCGAbiolinks |
| Version: 2.6.12 |
| Command: /Library/Frameworks/R.framework/Versions/Current/Resources/bin/R CMD check --no-vignettes --timings TCGAbiolinks_2.6.12.tar.gz |
| StartedAt: 2018-04-12 10:12:19 -0400 (Thu, 12 Apr 2018) |
| EndedAt: 2018-04-12 10:32:41 -0400 (Thu, 12 Apr 2018) |
| EllapsedTime: 1222.3 seconds |
| RetCode: 0 |
| Status: OK |
| CheckDir: TCGAbiolinks.Rcheck |
| Warnings: 0 |
##############################################################################
##############################################################################
###
### Running command:
###
### /Library/Frameworks/R.framework/Versions/Current/Resources/bin/R CMD check --no-vignettes --timings TCGAbiolinks_2.6.12.tar.gz
###
##############################################################################
##############################################################################
* using log directory ‘/Users/biocbuild/bbs-3.6-bioc/meat/TCGAbiolinks.Rcheck’
* using R version 3.4.4 (2018-03-15)
* using platform: x86_64-apple-darwin15.6.0 (64-bit)
* using session charset: UTF-8
* using option ‘--no-vignettes’
* checking for file ‘TCGAbiolinks/DESCRIPTION’ ... OK
* checking extension type ... Package
* this is package ‘TCGAbiolinks’ version ‘2.6.12’
* checking package namespace information ... OK
* checking package dependencies ... OK
* checking if this is a source package ... OK
* checking if there is a namespace ... OK
* checking for hidden files and directories ... OK
* checking for portable file names ... OK
* checking for sufficient/correct file permissions ... OK
* checking whether package ‘TCGAbiolinks’ can be installed ... OK
* checking installed package size ... NOTE
installed size is 76.8Mb
sub-directories of 1Mb or more:
R 1.3Mb
data 3.5Mb
doc 71.7Mb
* checking package directory ... OK
* checking ‘build’ directory ... OK
* checking DESCRIPTION meta-information ... OK
* checking top-level files ... OK
* checking for left-over files ... OK
* checking index information ... OK
* checking package subdirectories ... OK
* checking R files for non-ASCII characters ... OK
* checking R files for syntax errors ... OK
* checking whether the package can be loaded ... OK
* checking whether the package can be loaded with stated dependencies ... OK
* checking whether the package can be unloaded cleanly ... OK
* checking whether the namespace can be loaded with stated dependencies ... OK
* checking whether the namespace can be unloaded cleanly ... OK
* checking dependencies in R code ... OK
* checking S3 generic/method consistency ... OK
* checking replacement functions ... OK
* checking foreign function calls ... OK
* checking R code for possible problems ... NOTE
GDCquery_clinic: no visible binding for global variable ‘portions’
TCGA_MolecularSubtype: no visible binding for global variable
‘TabSubtypesCol_merged’
TCGAanalyze_DEA: no visible binding for global variable ‘barcode’
TCGAanalyze_DEA: no visible binding for global variable ‘clinical’
TCGAanalyze_DEA_Affy: no visible global function definition for
‘limmamakeContrasts’
TCGAanalyze_DEA_Affy: no visible global function definition for
‘limmacontrasts.fit’
TCGAanalyze_analyseGRN: no visible global function definition for
‘knnmi.cross’
TCGAanalyze_networkInference: no visible global function definition for
‘c3net’
TCGAanalyze_networkInference: no visible global function definition for
‘minet’
TCGAquery_recount2: no visible binding for global variable ‘rse_gene’
TCGAtumor_purity: no visible binding for global variable ‘Tumor.purity’
TCGAvisualize_SurvivalCoxNET: no visible global function definition for
‘dNetInduce’
TCGAvisualize_SurvivalCoxNET: no visible global function definition for
‘dNetPipeline’
TCGAvisualize_SurvivalCoxNET: no visible global function definition for
‘dCommSignif’
TCGAvisualize_SurvivalCoxNET: no visible global function definition for
‘visNet’
TCGAvisualize_oncoprint: no visible binding for global variable ‘value’
readTranscriptomeProfiling: no visible binding for global variable
‘ignore.case’
Undefined global functions or variables:
TabSubtypesCol_merged Tumor.purity barcode c3net clinical dCommSignif
dNetInduce dNetPipeline ignore.case knnmi.cross limmacontrasts.fit
limmamakeContrasts minet portions rse_gene value visNet
* checking Rd files ... OK
* checking Rd metadata ... OK
* checking Rd cross-references ... OK
* checking for missing documentation entries ... OK
* checking for code/documentation mismatches ... OK
* checking Rd \usage sections ... OK
* checking Rd contents ... OK
* checking for unstated dependencies in examples ... OK
* checking contents of ‘data’ directory ... OK
* checking data for non-ASCII characters ... NOTE
Error in .requirePackage(package) :
unable to find required package 'maftools'
Calls: <Anonymous> ... getClass -> getClassDef -> .classEnv -> .requirePackage
Execution halted
* checking data for ASCII and uncompressed saves ... OK
* checking R/sysdata.rda ... OK
* checking installed files from ‘inst/doc’ ... OK
* checking files in ‘vignettes’ ... OK
* checking examples ... OK
Examples with CPU or elapsed time > 5s
user system elapsed
TCGAvisualize_starburst 31.627 1.793 78.606
GDCquery 28.586 0.083 37.874
TCGAanalyze_DMR 19.983 0.179 20.571
TCGAanalyze_LevelTab 17.428 0.667 18.414
GDCdownload 9.434 0.614 58.805
GDCprepare 8.564 0.165 13.306
TCGAanalyze_DEA 7.772 0.312 8.265
TCGAanalyze_Filtering 7.800 0.218 8.130
TCGAanalyze_survival 6.975 0.093 16.788
GDCprepare_clinic 6.612 0.049 12.380
TCGAVisualize_volcano 6.290 0.022 6.386
TCGAquery_recount2 4.685 0.663 6.831
TCGAanalyze_SurvivalKM 2.650 0.091 35.010
* checking for unstated dependencies in ‘tests’ ... OK
* checking tests ...
Running ‘testthat.R’
OK
* checking for unstated dependencies in vignettes ... NOTE
'library' or 'require' call not declared from: ‘DT’
* checking package vignettes in ‘inst/doc’ ... OK
* checking running R code from vignettes ... SKIPPED
* checking re-building of vignette outputs ... SKIPPED
* checking PDF version of manual ... OK
* DONE
Status: 4 NOTEs
See
‘/Users/biocbuild/bbs-3.6-bioc/meat/TCGAbiolinks.Rcheck/00check.log’
for details.
TCGAbiolinks.Rcheck/00install.out
* installing *source* package ‘TCGAbiolinks’ ... ** R ** data *** moving datasets to lazyload DB ** inst ** preparing package for lazy loading ** help *** installing help indices ** building package indices ** installing vignettes ** testing if installed package can be loaded * DONE (TCGAbiolinks)
TCGAbiolinks.Rcheck/tests/testthat.Rout
R version 3.4.4 (2018-03-15) -- "Someone to Lean On"
Copyright (C) 2018 The R Foundation for Statistical Computing
Platform: x86_64-apple-darwin15.6.0 (64-bit)
R is free software and comes with ABSOLUTELY NO WARRANTY.
You are welcome to redistribute it under certain conditions.
Type 'license()' or 'licence()' for distribution details.
R is a collaborative project with many contributors.
Type 'contributors()' for more information and
'citation()' on how to cite R or R packages in publications.
Type 'demo()' for some demos, 'help()' for on-line help, or
'help.start()' for an HTML browser interface to help.
Type 'q()' to quit R.
> library(testthat)
> library(TCGAbiolinks)
>
> test_check("TCGAbiolinks")
|
| | 0%
|
|=================================== | 50%
|
|======================================================================| 100%
|
| | 0%
|
|=================================== | 50%
|
|======================================================================| 100%
|
| | 0%
|
|================== | 25%
|
|=================================== | 50%
|
|==================================================== | 75%
|
|======================================================================| 100%
trying URL 'http://zwdzwd.io/InfiniumAnnotation/current/hm450/hm450.hg38.manifest.rds'
Content type 'unknown' length 18600736 bytes (17.7 MB)
==================================================
downloaded 17.7 MB
trying URL 'http://zwdzwd.io/InfiniumAnnotation/current/hm450/hm450.hg19.manifest.rds'
Content type 'unknown' length 18546360 bytes (17.7 MB)
==================================================
downloaded 17.7 MB
Downloading: 7.7 kB
Downloading: 7.7 kB
Downloading: 14 kB
Downloading: 14 kB
Downloading: 14 kB
Downloading: 14 kB
Downloading: 14 kB
Downloading: 14 kB
Downloading: 14 kB
Downloading: 14 kB
|
| | 0%
|
|================= | 25%
|
|==================================== | 51%
|
|====================================================== | 77%
|
|======================================================================| 100%
Downloading: 7.7 kB
Downloading: 7.7 kB
Downloading: 16 kB
Downloading: 16 kB
Downloading: 21 kB
Downloading: 21 kB
Downloading: 21 kB
Downloading: 21 kB
Downloading: 21 kB
Downloading: 21 kB
Downloading: 21 kB
Downloading: 21 kB
Downloading: 7.7 kB
Downloading: 7.7 kB
Downloading: 8.2 kB
Downloading: 8.2 kB
Downloading: 8.2 kB
Downloading: 8.2 kB
Downloading: 8.2 kB
Downloading: 8.2 kB
Downloading: 16 kB
Downloading: 16 kB
Downloading: 16 kB
Downloading: 16 kB
Downloading: 16 kB
Downloading: 16 kB
Downloading: 16 kB
Downloading: 16 kB
Downloading: 24 kB
Downloading: 24 kB
Downloading: 25 kB
Downloading: 25 kB
Downloading: 25 kB
Downloading: 25 kB
Downloading: 26 kB
Downloading: 26 kB
Downloading: 26 kB
Downloading: 26 kB
Downloading: 26 kB
Downloading: 26 kB
Downloading: 26 kB
Downloading: 26 kB
|
| | 0%
|
|================== | 25%
|
|=================================== | 50%
|
|==================================================== | 75%
|
|======================================================================| 100%
Downloading: 7.7 kB
Downloading: 7.7 kB
Downloading: 8.2 kB
Downloading: 8.2 kB
Downloading: 8.2 kB
Downloading: 8.2 kB
Downloading: 8.2 kB
Downloading: 8.2 kB
Downloading: 16 kB
Downloading: 16 kB
Downloading: 16 kB
Downloading: 16 kB
Downloading: 16 kB
Downloading: 16 kB
Downloading: 16 kB
Downloading: 16 kB
Downloading: 24 kB
Downloading: 24 kB
Downloading: 25 kB
Downloading: 25 kB
Downloading: 25 kB
Downloading: 25 kB
Downloading: 25 kB
Downloading: 25 kB
Downloading: 33 kB
Downloading: 33 kB
Downloading: 33 kB
Downloading: 33 kB
Downloading: 33 kB
Downloading: 33 kB
Downloading: 33 kB
Downloading: 33 kB
Downloading: 33 kB
Downloading: 33 kB
Downloading: 41 kB
Downloading: 41 kB
Downloading: 41 kB
Downloading: 41 kB
Downloading: 41 kB
Downloading: 41 kB
Downloading: 41 kB
Downloading: 41 kB
Downloading: 49 kB
Downloading: 49 kB
Downloading: 49 kB
Downloading: 49 kB
Downloading: 49 kB
Downloading: 49 kB
Downloading: 49 kB
Downloading: 49 kB
Downloading: 57 kB
Downloading: 57 kB
Downloading: 57 kB
Downloading: 57 kB
Downloading: 57 kB
Downloading: 57 kB
Downloading: 57 kB
Downloading: 57 kB
Downloading: 65 kB
Downloading: 65 kB
Downloading: 66 kB
Downloading: 66 kB
Downloading: 66 kB
Downloading: 66 kB
Downloading: 66 kB
Downloading: 66 kB
Downloading: 74 kB
Downloading: 74 kB
Downloading: 74 kB
Downloading: 74 kB
Downloading: 74 kB
Downloading: 74 kB
Downloading: 74 kB
Downloading: 74 kB
Downloading: 82 kB
Downloading: 82 kB
Downloading: 82 kB
Downloading: 82 kB
Downloading: 82 kB
Downloading: 82 kB
Downloading: 82 kB
Downloading: 82 kB
Downloading: 90 kB
Downloading: 90 kB
Downloading: 90 kB
Downloading: 90 kB
Downloading: 90 kB
Downloading: 90 kB
Downloading: 90 kB
Downloading: 90 kB
Downloading: 98 kB
Downloading: 98 kB
Downloading: 98 kB
Downloading: 98 kB
Downloading: 98 kB
Downloading: 98 kB
Downloading: 98 kB
Downloading: 98 kB
Downloading: 98 kB
Downloading: 98 kB
Downloading: 110 kB
Downloading: 110 kB
Downloading: 110 kB
Downloading: 110 kB
Downloading: 110 kB
Downloading: 110 kB
Downloading: 110 kB
Downloading: 110 kB
Downloading: 110 kB
Downloading: 110 kB
Downloading: 110 kB
Downloading: 110 kB
Downloading: 110 kB
Downloading: 110 kB
Downloading: 120 kB
Downloading: 120 kB
Downloading: 120 kB
Downloading: 120 kB
Downloading: 120 kB
Downloading: 120 kB
Downloading: 120 kB
Downloading: 120 kB
Downloading: 130 kB
Downloading: 130 kB
Downloading: 130 kB
Downloading: 130 kB
Downloading: 130 kB
Downloading: 130 kB
Downloading: 130 kB
Downloading: 130 kB
Downloading: 140 kB
Downloading: 140 kB
Downloading: 140 kB
Downloading: 140 kB
Downloading: 140 kB
Downloading: 140 kB
Downloading: 140 kB
Downloading: 140 kB
Downloading: 150 kB
Downloading: 150 kB
Downloading: 150 kB
Downloading: 150 kB
Downloading: 150 kB
Downloading: 150 kB
Downloading: 150 kB
Downloading: 150 kB
Downloading: 160 kB
Downloading: 160 kB
Downloading: 160 kB
Downloading: 160 kB
Downloading: 160 kB
Downloading: 160 kB
Downloading: 160 kB
Downloading: 160 kB
Downloading: 160 kB
Downloading: 160 kB
Downloading: 160 kB
Downloading: 160 kB
Downloading: 180 kB
Downloading: 180 kB
Downloading: 190 kB
Downloading: 190 kB
Downloading: 190 kB
Downloading: 190 kB
Downloading: 210 kB
Downloading: 210 kB
Downloading: 220 kB
Downloading: 220 kB
Downloading: 240 kB
Downloading: 240 kB
Downloading: 240 kB
Downloading: 240 kB
Downloading: 240 kB
Downloading: 240 kB
Downloading: 250 kB
Downloading: 250 kB
Downloading: 250 kB
Downloading: 250 kB
Downloading: 270 kB
Downloading: 270 kB
Downloading: 270 kB
Downloading: 270 kB
Downloading: 280 kB
Downloading: 280 kB
Downloading: 280 kB
Downloading: 280 kB
Downloading: 280 kB
Downloading: 280 kB
Downloading: 300 kB
Downloading: 300 kB
Downloading: 300 kB
Downloading: 300 kB
Downloading: 300 kB
Downloading: 300 kB
Downloading: 310 kB
Downloading: 310 kB
Downloading: 330 kB
Downloading: 330 kB
Downloading: 330 kB
Downloading: 330 kB
Downloading: 340 kB
Downloading: 340 kB
Downloading: 360 kB
Downloading: 360 kB
Downloading: 370 kB
Downloading: 370 kB
Downloading: 390 kB
Downloading: 390 kB
Downloading: 400 kB
Downloading: 400 kB
Downloading: 420 kB
Downloading: 420 kB
Downloading: 430 kB
Downloading: 430 kB
Downloading: 430 kB
Downloading: 430 kB
Downloading: 430 kB
Downloading: 430 kB
Downloading: 430 kB
Downloading: 430 kB
Downloading: 450 kB
Downloading: 450 kB
Downloading: 450 kB
Downloading: 450 kB
Downloading: 470 kB
Downloading: 470 kB
Downloading: 470 kB
Downloading: 470 kB
Downloading: 470 kB
Downloading: 470 kB
Downloading: 480 kB
Downloading: 480 kB
Downloading: 480 kB
Downloading: 480 kB
Downloading: 480 kB
Downloading: 480 kB
Downloading: 480 kB
Downloading: 480 kB
Downloading: 500 kB
Downloading: 500 kB
Downloading: 500 kB
Downloading: 500 kB
Downloading: 510 kB
Downloading: 510 kB
Downloading: 510 kB
Downloading: 510 kB
Downloading: 530 kB
Downloading: 530 kB
Downloading: 530 kB
Downloading: 530 kB
Downloading: 540 kB
Downloading: 540 kB
Downloading: 560 kB
Downloading: 560 kB
Downloading: 580 kB
Downloading: 580 kB
Downloading: 590 kB
Downloading: 590 kB
Downloading: 610 kB
Downloading: 610 kB
Downloading: 620 kB
Downloading: 620 kB
Downloading: 640 kB
Downloading: 640 kB
Downloading: 660 kB
Downloading: 660 kB
Downloading: 670 kB
Downloading: 670 kB
Downloading: 690 kB
Downloading: 690 kB
Downloading: 690 kB
Downloading: 690 kB
Downloading: 700 kB
Downloading: 700 kB
Downloading: 700 kB
Downloading: 700 kB
Downloading: 720 kB
Downloading: 720 kB
Downloading: 720 kB
Downloading: 720 kB
Downloading: 720 kB
Downloading: 720 kB
Downloading: 730 kB
Downloading: 730 kB
Downloading: 740 kB
Downloading: 740 kB
Downloading: 740 kB
Downloading: 740 kB
Downloading: 740 kB
Downloading: 740 kB
Downloading: 740 kB
Downloading: 740 kB
Downloading: 750 kB
Downloading: 750 kB
Downloading: 750 kB
Downloading: 750 kB
Downloading: 750 kB
Downloading: 750 kB
Downloading: 760 kB
Downloading: 760 kB
Downloading: 760 kB
Downloading: 760 kB
Downloading: 780 kB
Downloading: 780 kB
Downloading: 790 kB
Downloading: 790 kB
Downloading: 810 kB
Downloading: 810 kB
Downloading: 820 kB
Downloading: 820 kB
Downloading: 840 kB
Downloading: 840 kB
Downloading: 860 kB
Downloading: 860 kB
Downloading: 870 kB
Downloading: 870 kB
Downloading: 890 kB
Downloading: 890 kB
Downloading: 900 kB
Downloading: 900 kB
Downloading: 920 kB
Downloading: 920 kB
Downloading: 940 kB
Downloading: 940 kB
Downloading: 950 kB
Downloading: 950 kB
Downloading: 970 kB
Downloading: 970 kB
Downloading: 980 kB
Downloading: 980 kB
Downloading: 1,000 kB
Downloading: 1,000 kB
Downloading: 1 MB
Downloading: 1 MB
Downloading: 1 MB
Downloading: 1 MB
|
| | 0%
|
|= | 2%
|
|== | 3%
|
|=== | 5%
|
|==== | 6%
|
|===== | 7%
|
|====== | 9%
|
|======= | 11%
|
|========= | 12%
|
|========== | 14%
|
|========== | 15%
|
|=========== | 16%
|
|============= | 18%
|
|============== | 20%
|
|=============== | 21%
|
|=============== | 22%
|
|================= | 24%
|
|================== | 25%
|
|=================== | 27%
|
|==================== | 29%
|
|===================== | 29%
|
|====================== | 31%
|
|======================= | 33%
|
|======================== | 34%
|
|========================= | 36%
|
|========================== | 37%
|
|=========================== | 38%
|
|============================ | 40%
|
|============================= | 42%
|
|============================== | 43%
|
|=============================== | 44%
|
|================================ | 46%
|
|================================= | 47%
|
|================================== | 49%
|
|=================================== | 51%
|
|==================================== | 52%
|
|===================================== | 53%
|
|====================================== | 55%
|
|======================================== | 56%
|
|========================================= | 58%
|
|========================================= | 59%
|
|========================================== | 61%
|
|============================================ | 62%
|
|============================================= | 64%
|
|============================================== | 65%
|
|============================================== | 66%
|
|================================================ | 68%
|
|================================================= | 70%
|
|================================================== | 71%
|
|=================================================== | 73%
|
|==================================================== | 74%
|
|===================================================== | 76%
|
|====================================================== | 78%
|
|========================================================= | 81%
|
|========================================================== | 83%
|
|=========================================================== | 84%
|
|============================================================ | 86%
|
|============================================================= | 87%
|
|============================================================== | 89%
|
|=============================================================== | 91%
|
|================================================================= | 92%
|
|================================================================== | 94%
|
|=================================================================== | 96%
|
|==================================================================== | 97%
|
|===================================================================== | 99%
|
|======================================================================| 100%
|
| | 0%
|
|======================= | 33%
|
|=============================================== | 67%
|
|======================================================================| 100%
|
| | 0%
|
| | 1%
|
|= | 1%
|
|= | 2%
|
|== | 2%
|
|== | 3%
|
|=== | 4%
|
|=== | 5%
|
|==== | 6%
|
|===== | 7%
|
|====== | 8%
|
|====== | 9%
|
|======= | 9%
|
|======= | 10%
|
|======= | 11%
|
|======== | 11%
|
|======== | 12%
|
|========= | 12%
|
|========= | 13%
|
|========== | 14%
|
|========== | 15%
|
|=========== | 16%
|
|============ | 17%
|
|============= | 19%
|
|============== | 20%
|
|=============== | 21%
|
|================ | 22%
|
|================ | 24%
|
|================= | 25%
|
|================== | 26%
|
|=================== | 27%
|
|==================== | 28%
|
|===================== | 30%
|
|====================== | 31%
|
|======================= | 32%
|
|======================= | 33%
|
|======================== | 35%
|
|========================= | 36%
|
|========================== | 37%
|
|=========================== | 38%
|
|============================ | 40%
|
|============================= | 41%
|
|============================== | 42%
|
|============================== | 43%
|
|=============================== | 45%
|
|================================ | 46%
|
|================================= | 47%
|
|================================== | 48%
|
|=================================== | 50%
|
|==================================== | 51%
|
|==================================== | 52%
|
|===================================== | 53%
|
|====================================== | 55%
|
|======================================= | 56%
|
|======================================== | 57%
|
|========================================= | 58%
|
|========================================== | 59%
|
|========================================== | 61%
|
|=========================================== | 62%
|
|============================================ | 63%
|
|============================================= | 64%
|
|============================================== | 65%
|
|============================================== | 66%
|
|=============================================== | 68%
|
|================================================ | 69%
|
|================================================= | 70%
|
|================================================== | 71%
|
|================================================== | 72%
|
|=================================================== | 73%
|
|==================================================== | 74%
|
|===================================================== | 76%
|
|====================================================== | 77%
|
|======================================================= | 78%
|
|======================================================== | 79%
|
|======================================================== | 81%
|
|========================================================= | 82%
|
|========================================================== | 83%
|
|=========================================================== | 84%
|
|============================================================ | 86%
|
|============================================================= | 87%
|
|============================================================== | 88%
|
|============================================================== | 89%
|
|=============================================================== | 90%
|
|================================================================ | 92%
|
|================================================================= | 93%
|
|================================================================== | 94%
|
|================================================================== | 95%
|
|=================================================================== | 96%
|
|==================================================================== | 97%
|
|===================================================================== | 98%
|
|======================================================================| 100%
|
| | 0%
|
| | 1%
|
|= | 1%
|
|= | 2%
|
|== | 2%
|
|== | 3%
|
|== | 4%
|
|=== | 4%
|
|=== | 5%
|
|==== | 5%
|
|==== | 6%
|
|===== | 6%
|
|===== | 7%
|
|===== | 8%
|
|====== | 8%
|
|====== | 9%
|
|======= | 9%
|
|======= | 10%
|
|======= | 11%
|
|======== | 11%
|
|======== | 12%
|
|========= | 12%
|
|========= | 13%
|
|========= | 14%
|
|========== | 14%
|
|========== | 15%
|
|=========== | 15%
|
|=========== | 16%
|
|============ | 16%
|
|============ | 17%
|
|============ | 18%
|
|============= | 18%
|
|============= | 19%
|
|============== | 19%
|
|============== | 20%
|
|============== | 21%
|
|=============== | 21%
|
|=============== | 22%
|
|================ | 22%
|
|================ | 23%
|
|================ | 24%
|
|================= | 24%
|
|================= | 25%
|
|================== | 25%
|
|================== | 26%
|
|=================== | 26%
|
|=================== | 27%
|
|=================== | 28%
|
|==================== | 28%
|
|==================== | 29%
|
|===================== | 29%
|
|===================== | 30%
|
|===================== | 31%
|
|====================== | 31%
|
|====================== | 32%
|
|======================= | 32%
|
|======================= | 33%
|
|======================= | 34%
|
|======================== | 34%
|
|======================== | 35%
|
|========================= | 35%
|
|========================= | 36%
|
|========================== | 36%
|
|========================== | 37%
|
|========================== | 38%
|
|=========================== | 38%
|
|=========================== | 39%
|
|============================ | 39%
|
|============================ | 40%
|
|============================ | 41%
|
|============================= | 41%
|
|============================= | 42%
|
|============================== | 42%
|
|============================== | 43%
|
|============================== | 44%
|
|=============================== | 44%
|
|=============================== | 45%
|
|================================ | 45%
|
|================================ | 46%
|
|================================= | 46%
|
|================================= | 47%
|
|================================= | 48%
|
|================================== | 48%
|
|================================== | 49%
|
|=================================== | 49%
|
|=================================== | 50%
|
|=================================== | 51%
|
|==================================== | 51%
|
|==================================== | 52%
|
|===================================== | 52%
|
|===================================== | 53%
|
|===================================== | 54%
|
|====================================== | 54%
|
|====================================== | 55%
|
|======================================= | 55%
|
|======================================= | 56%
|
|======================================== | 56%
|
|======================================== | 57%
|
|======================================== | 58%
|
|========================================= | 58%
|
|========================================= | 59%
|
|========================================== | 59%
|
|========================================== | 60%
|
|========================================== | 61%
|
|=========================================== | 61%
|
|=========================================== | 62%
|
|============================================ | 62%
|
|============================================ | 63%
|
|============================================ | 64%
|
|============================================= | 64%
|
|============================================= | 65%
|
|============================================== | 65%
|
|============================================== | 66%
|
|=============================================== | 66%
|
|=============================================== | 67%
|
|=============================================== | 68%
|
|================================================ | 68%
|
|================================================ | 69%
|
|================================================= | 69%
|
|================================================= | 70%
|
|================================================= | 71%
|
|================================================== | 71%
|
|================================================== | 72%
|
|=================================================== | 72%
|
|=================================================== | 73%
|
|=================================================== | 74%
|
|==================================================== | 74%
|
|==================================================== | 75%
|
|===================================================== | 75%
|
|===================================================== | 76%
|
|====================================================== | 76%
|
|====================================================== | 77%
|
|====================================================== | 78%
|
|======================================================= | 78%
|
|======================================================= | 79%
|
|======================================================== | 79%
|
|======================================================== | 80%
|
|======================================================== | 81%
|
|========================================================= | 81%
|
|========================================================= | 82%
|
|========================================================== | 82%
|
|========================================================== | 83%
|
|=========================================================== | 84%
|
|=========================================================== | 85%
|
|============================================================ | 85%
|
|============================================================ | 86%
|
|============================================================= | 86%
|
|============================================================= | 87%
|
|============================================================= | 88%
|
|============================================================== | 88%
|
|============================================================== | 89%
|
|=============================================================== | 89%
|
|=============================================================== | 90%
|
|=============================================================== | 91%
|
|================================================================ | 91%
|
|================================================================ | 92%
|
|================================================================= | 92%
|
|================================================================= | 93%
|
|================================================================= | 94%
|
|================================================================== | 94%
|
|================================================================== | 95%
|
|=================================================================== | 95%
|
|=================================================================== | 96%
|
|==================================================================== | 96%
|
|==================================================================== | 97%
|
|==================================================================== | 98%
|
|===================================================================== | 98%
|
|===================================================================== | 99%
|
|======================================================================| 99%
|
|======================================================================| 100%
|
| | 0%
|
|=================================== | 50%
|
|======================================================================| 100%
|
| | 0%
|
| | 1%
|
|= | 1%
|
|= | 2%
|
|== | 2%
|
|== | 3%
|
|=== | 4%
|
|=== | 5%
|
|==== | 5%
|
|==== | 6%
|
|===== | 6%
|
|===== | 7%
|
|===== | 8%
|
|====== | 8%
|
|====== | 9%
|
|======= | 9%
|
|======= | 10%
|
|======= | 11%
|
|======== | 11%
|
|======== | 12%
|
|========= | 13%
|
|========== | 14%
|
|========== | 15%
|
|=========== | 15%
|
|=========== | 16%
|
|============ | 17%
|
|============= | 18%
|
|============= | 19%
|
|============== | 19%
|
|============== | 20%
|
|=============== | 21%
|
|================ | 22%
|
|================ | 23%
|
|================ | 24%
|
|================= | 24%
|
|================= | 25%
|
|================== | 25%
|
|================== | 26%
|
|=================== | 27%
|
|=================== | 28%
|
|==================== | 28%
|
|==================== | 29%
|
|===================== | 29%
|
|===================== | 30%
|
|===================== | 31%
|
|====================== | 31%
|
|====================== | 32%
|
|======================= | 33%
|
|======================== | 34%
|
|======================== | 35%
|
|========================= | 35%
|
|========================= | 36%
|
|========================== | 37%
|
|=========================== | 38%
|
|=========================== | 39%
|
|============================ | 39%
|
|============================ | 40%
|
|============================= | 41%
|
|============================= | 42%
|
|============================== | 42%
|
|============================== | 43%
|
|=============================== | 44%
|
|=============================== | 45%
|
|================================ | 45%
|
|================================ | 46%
|
|================================= | 47%
|
|================================= | 48%
|
|================================== | 48%
|
|================================== | 49%
|
|=================================== | 50%
|
|=================================== | 51%
|
|==================================== | 51%
|
|==================================== | 52%
|
|===================================== | 53%
|
|====================================== | 54%
|
|====================================== | 55%
|
|======================================= | 55%
|
|======================================= | 56%
|
|======================================== | 57%
|
|========================================= | 58%
|
|========================================= | 59%
|
|========================================== | 59%
|
|========================================== | 60%
|
|=========================================== | 61%
|
|=========================================== | 62%
|
|============================================ | 63%
|
|============================================= | 64%
|
|============================================= | 65%
|
|============================================== | 66%
|
|=============================================== | 67%
|
|=============================================== | 68%
|
|================================================ | 68%
|
|================================================ | 69%
|
|================================================= | 70%
|
|================================================== | 71%
|
|================================================== | 72%
|
|=================================================== | 72%
|
|=================================================== | 73%
|
|==================================================== | 74%
|
|==================================================== | 75%
|
|===================================================== | 76%
|
|====================================================== | 77%
|
|====================================================== | 78%
|
|======================================================= | 78%
|
|======================================================= | 79%
|
|======================================================== | 80%
|
|========================================================= | 81%
|
|========================================================= | 82%
|
|========================================================== | 82%
|
|========================================================== | 83%
|
|=========================================================== | 84%
|
|============================================================ | 85%
|
|============================================================ | 86%
|
|============================================================= | 87%
|
|============================================================== | 88%
|
|============================================================== | 89%
|
|=============================================================== | 89%
|
|=============================================================== | 90%
|
|================================================================ | 91%
|
|================================================================ | 92%
|
|================================================================= | 93%
|
|================================================================== | 94%
|
|================================================================== | 95%
|
|=================================================================== | 95%
|
|=================================================================== | 96%
|
|==================================================================== | 97%
|
|==================================================================== | 98%
|
|===================================================================== | 98%
|
|===================================================================== | 99%
|
|======================================================================| 100%
|
| | 0%
|
| | 1%
|
|= | 1%
|
|= | 2%
|
|== | 2%
|
|== | 3%
|
|=== | 4%
|
|=== | 5%
|
|==== | 5%
|
|==== | 6%
|
|===== | 7%
|
|===== | 8%
|
|====== | 8%
|
|====== | 9%
|
|======= | 9%
|
|======= | 10%
|
|======= | 11%
|
|======== | 11%
|
|======== | 12%
|
|========= | 12%
|
|========= | 13%
|
|========== | 14%
|
|========== | 15%
|
|=========== | 15%
|
|=========== | 16%
|
|============ | 16%
|
|============ | 17%
|
|============ | 18%
|
|============= | 18%
|
|============= | 19%
|
|============== | 20%
|
|============== | 21%
|
|=============== | 21%
|
|=============== | 22%
|
|================ | 22%
|
|================ | 23%
|
|================= | 24%
|
|================= | 25%
|
|================== | 25%
|
|================== | 26%
|
|=================== | 27%
|
|==================== | 28%
|
|==================== | 29%
|
|===================== | 29%
|
|===================== | 30%
|
|====================== | 31%
|
|====================== | 32%
|
|======================= | 33%
|
|======================== | 34%
|
|======================== | 35%
|
|========================= | 35%
|
|========================= | 36%
|
|========================== | 37%
|
|========================== | 38%
|
|=========================== | 38%
|
|=========================== | 39%
|
|============================ | 39%
|
|============================ | 40%
|
|============================ | 41%
|
|============================= | 41%
|
|============================= | 42%
|
|============================== | 42%
|
|============================== | 43%
|
|=============================== | 44%
|
|=============================== | 45%
|
|================================ | 45%
|
|================================ | 46%
|
|================================= | 46%
|
|================================= | 47%
|
|================================= | 48%
|
|================================== | 48%
|
|================================== | 49%
|
|=================================== | 50%
|
|==================================== | 51%
|
|==================================== | 52%
|
|===================================== | 53%
|
|====================================== | 54%
|
|====================================== | 55%
|
|======================================= | 55%
|
|======================================= | 56%
|
|======================================== | 57%
|
|========================================= | 58%
|
|========================================= | 59%
|
|========================================== | 59%
|
|========================================== | 60%
|
|=========================================== | 61%
|
|=========================================== | 62%
|
|============================================ | 62%
|
|============================================ | 63%
|
|============================================= | 64%
|
|============================================= | 65%
|
|============================================== | 65%
|
|============================================== | 66%
|
|=============================================== | 67%
|
|================================================ | 68%
|
|================================================ | 69%
|
|================================================= | 70%
|
|================================================= | 71%
|
|================================================== | 71%
|
|================================================== | 72%
|
|=================================================== | 73%
|
|==================================================== | 74%
|
|==================================================== | 75%
|
|===================================================== | 75%
|
|===================================================== | 76%
|
|====================================================== | 77%
|
|====================================================== | 78%
|
|======================================================= | 78%
|
|======================================================= | 79%
|
|======================================================== | 79%
|
|======================================================== | 80%
|
|======================================================== | 81%
|
|========================================================= | 81%
|
|========================================================= | 82%
|
|========================================================== | 82%
|
|========================================================== | 83%
|
|========================================================== | 84%
|
|=========================================================== | 84%
|
|=========================================================== | 85%
|
|============================================================ | 85%
|
|============================================================ | 86%
|
|============================================================= | 87%
|
|============================================================== | 88%
|
|============================================================== | 89%
|
|=============================================================== | 90%
|
|=============================================================== | 91%
|
|================================================================ | 91%
|
|================================================================ | 92%
|
|================================================================= | 93%
|
|================================================================== | 94%
|
|================================================================== | 95%
|
|=================================================================== | 95%
|
|=================================================================== | 96%
|
|==================================================================== | 97%
|
|==================================================================== | 98%
|
|===================================================================== | 98%
|
|===================================================================== | 99%
|
|======================================================================| 100%
[1] "I need about 1 minute to finish complete Enrichment analysis GO[BP,MF,CC] and Pathways... "
[1] "GO Enrichment Analysis BP completed....done"
[1] "GO Enrichment Analysis MF completed....done"
[1] "GO Enrichment Analysis CC completed....done"
[1] "Pathway Enrichment Analysis completed....done"
groups Mean Median Max Min
1 TP 0.3590198 0.3601768 0.4099433 0.3240056
groups Mean Median Max Min
1 TP 0.3590198 0.3601768 0.4099433 0.3240056
groups Mean Median Max Min
1 LGm1 0.3789137 0.3789137 0.3789137 0.3789137
2 LGm2 0.4099433 0.4099433 0.4099433 0.4099433
3 LGm4 0.3454189 0.3454189 0.3668322 0.3240056
4 LGm5 0.3481159 0.3524203 0.3608853 0.3267376
LGm1 LGm2 LGm4 LGm5
LGm1 NA NA NA NA
LGm2 NA NA NA NA
LGm4 NA NA NA 0.9217168
LGm5 NA NA 0.9217168 NA
groups Mean Median Max Min
1 LGm1 0.3789137 0.3789137 0.3789137 0.3789137
2 LGm2 0.4099433 0.4099433 0.4099433 0.4099433
3 LGm4 0.3454189 0.3454189 0.3668322 0.3240056
4 LGm5 0.3481159 0.3524203 0.3608853 0.3267376
LGm1 LGm2 LGm4 LGm5
LGm1 NA NA NA NA
LGm2 NA NA NA NA
LGm4 NA NA NA 0.9217168
LGm5 NA NA 0.9217168 NA
groups Mean Median Max Min
1 LGm1 0.3789137 0.3789137 0.3789137 0.3789137
2 LGm2 0.4099433 0.4099433 0.4099433 0.4099433
3 LGm4 0.3454189 0.3454189 0.3668322 0.3240056
4 LGm5 0.3481159 0.3524203 0.3608853 0.3267376
LGm1 LGm2 LGm4 LGm5
LGm1 NA NA NA NA
LGm2 NA NA NA NA
LGm4 NA NA NA 0.9217168
LGm5 NA NA 0.9217168 NA
groups Mean Median Max Min
1 alive 0.3594683 0.3594683 0.3594683 0.3594683
2 dead 0.3589557 0.3608853 0.4099433 0.3240056
alive dead
alive NA NA
dead NA NA
══ testthat results ═══════════════════════════════════════════════════════════
OK: 81 SKIPPED: 0 FAILED: 0
>
> proc.time()
user system elapsed
362.179 9.557 550.001
TCGAbiolinks.Rcheck/TCGAbiolinks-Ex.timings
| name | user | system | elapsed | |
| GDCdownload | 9.434 | 0.614 | 58.805 | |
| GDCprepare | 8.564 | 0.165 | 13.306 | |
| GDCprepare_clinic | 6.612 | 0.049 | 12.380 | |
| GDCquery | 28.586 | 0.083 | 37.874 | |
| GDCquery_Maf | 0.000 | 0.000 | 0.001 | |
| GDCquery_clinic | 1.024 | 0.155 | 2.788 | |
| PanCancerAtlas_subtypes | 0.016 | 0.002 | 0.017 | |
| TCGAVisualize_volcano | 6.290 | 0.022 | 6.386 | |
| TCGA_MolecularSubtype | 0.008 | 0.000 | 0.009 | |
| TCGAanalyze_DEA | 7.772 | 0.312 | 8.265 | |
| TCGAanalyze_DEA_Affy | 0.001 | 0.000 | 0.000 | |
| TCGAanalyze_DMR | 19.983 | 0.179 | 20.571 | |
| TCGAanalyze_EA | 0.001 | 0.000 | 0.001 | |
| TCGAanalyze_EAcomplete | 3.626 | 0.053 | 3.753 | |
| TCGAanalyze_Filtering | 7.800 | 0.218 | 8.130 | |
| TCGAanalyze_LevelTab | 17.428 | 0.667 | 18.414 | |
| TCGAanalyze_Normalization | 3.641 | 0.092 | 3.785 | |
| TCGAanalyze_Pathview | 0.001 | 0.000 | 0.000 | |
| TCGAanalyze_SurvivalKM | 2.650 | 0.091 | 35.010 | |
| TCGAanalyze_survival | 6.975 | 0.093 | 16.788 | |
| TCGAprepare_Affy | 0.001 | 0.000 | 0.001 | |
| TCGAquery_MatchedCoupledSampleTypes | 0.04 | 0.00 | 0.04 | |
| TCGAquery_SampleTypes | 0.002 | 0.000 | 0.002 | |
| TCGAquery_recount2 | 4.685 | 0.663 | 6.831 | |
| TCGAquery_subtype | 0.007 | 0.001 | 0.008 | |
| TCGAtumor_purity | 0.101 | 0.002 | 0.104 | |
| TCGAvisualize_EAbarplot | 2.903 | 0.168 | 3.095 | |
| TCGAvisualize_Heatmap | 2.073 | 0.013 | 2.095 | |
| TCGAvisualize_PCA | 3.724 | 0.101 | 3.846 | |
| TCGAvisualize_meanMethylation | 3.184 | 0.018 | 3.240 | |
| TCGAvisualize_oncoprint | 0.001 | 0.000 | 0.001 | |
| TCGAvisualize_starburst | 31.627 | 1.793 | 78.606 | |
| UseRaw_afterFilter | 0.000 | 0.001 | 0.000 | |
| calculate.pvalues | 0.001 | 0.000 | 0.002 | |
| colDataPrepare | 0.000 | 0.000 | 0.001 | |
| diffmean | 0.050 | 0.001 | 0.051 | |
| gaiaCNVplot | 0.100 | 0.001 | 0.107 | |
| getAdjacencyBiogrid | 0.004 | 0.000 | 0.005 | |
| getDataCategorySummary | 1.932 | 0.018 | 4.984 | |
| getGDCInfo | 0.008 | 0.001 | 0.201 | |
| getGDCprojects | 0.014 | 0.001 | 0.227 | |
| getManifest | 2.797 | 0.010 | 3.906 | |
| getResults | 2.210 | 0.009 | 3.206 | |
| getTSS | 0.001 | 0.000 | 0.001 | |
| isServeOK | 0.007 | 0.001 | 0.200 | |
| matchedMetExp | 1.920 | 0.014 | 3.831 | |