| Back to Multiple platform build/check report for BioC 3.6 |
|
This page was generated on 2018-04-12 13:26:43 -0400 (Thu, 12 Apr 2018).
| Package 1387/1472 | Hostname | OS / Arch | INSTALL | BUILD | CHECK | BUILD BIN | ||||||
| TCGAbiolinks 2.6.12 Antonio Colaprico
| malbec1 | Linux (Ubuntu 16.04.1 LTS) / x86_64 | OK | OK | ERROR | |||||||
| tokay1 | Windows Server 2012 R2 Standard / x64 | OK | OK | [ OK ] | OK | |||||||
| veracruz1 | OS X 10.11.6 El Capitan / x86_64 | OK | OK | OK | OK |
| Package: TCGAbiolinks |
| Version: 2.6.12 |
| Command: rm -rf TCGAbiolinks.buildbin-libdir TCGAbiolinks.Rcheck && mkdir TCGAbiolinks.buildbin-libdir TCGAbiolinks.Rcheck && C:\Users\biocbuild\bbs-3.6-bioc\R\bin\R.exe CMD INSTALL --build --merge-multiarch --library=TCGAbiolinks.buildbin-libdir TCGAbiolinks_2.6.12.tar.gz >TCGAbiolinks.Rcheck\00install.out 2>&1 && cp TCGAbiolinks.Rcheck\00install.out TCGAbiolinks-install.out && C:\Users\biocbuild\bbs-3.6-bioc\R\bin\R.exe CMD check --library=TCGAbiolinks.buildbin-libdir --install="check:TCGAbiolinks-install.out" --force-multiarch --no-vignettes --timings TCGAbiolinks_2.6.12.tar.gz |
| StartedAt: 2018-04-12 03:32:59 -0400 (Thu, 12 Apr 2018) |
| EndedAt: 2018-04-12 04:06:21 -0400 (Thu, 12 Apr 2018) |
| EllapsedTime: 2001.8 seconds |
| RetCode: 0 |
| Status: OK |
| CheckDir: TCGAbiolinks.Rcheck |
| Warnings: 0 |
##############################################################################
##############################################################################
###
### Running command:
###
### rm -rf TCGAbiolinks.buildbin-libdir TCGAbiolinks.Rcheck && mkdir TCGAbiolinks.buildbin-libdir TCGAbiolinks.Rcheck && C:\Users\biocbuild\bbs-3.6-bioc\R\bin\R.exe CMD INSTALL --build --merge-multiarch --library=TCGAbiolinks.buildbin-libdir TCGAbiolinks_2.6.12.tar.gz >TCGAbiolinks.Rcheck\00install.out 2>&1 && cp TCGAbiolinks.Rcheck\00install.out TCGAbiolinks-install.out && C:\Users\biocbuild\bbs-3.6-bioc\R\bin\R.exe CMD check --library=TCGAbiolinks.buildbin-libdir --install="check:TCGAbiolinks-install.out" --force-multiarch --no-vignettes --timings TCGAbiolinks_2.6.12.tar.gz
###
##############################################################################
##############################################################################
* using log directory 'C:/Users/biocbuild/bbs-3.6-bioc/meat/TCGAbiolinks.Rcheck'
* using R version 3.4.4 (2018-03-15)
* using platform: x86_64-w64-mingw32 (64-bit)
* using session charset: ISO8859-1
* using option '--no-vignettes'
* checking for file 'TCGAbiolinks/DESCRIPTION' ... OK
* checking extension type ... Package
* this is package 'TCGAbiolinks' version '2.6.12'
* checking package namespace information ... OK
* checking package dependencies ... OK
* checking if this is a source package ... OK
* checking if there is a namespace ... OK
* checking for hidden files and directories ... OK
* checking for portable file names ... OK
* checking whether package 'TCGAbiolinks' can be installed ... OK
* checking installed package size ... NOTE
installed size is 64.9Mb
sub-directories of 1Mb or more:
R 1.3Mb
data 3.5Mb
doc 59.4Mb
* checking package directory ... OK
* checking 'build' directory ... OK
* checking DESCRIPTION meta-information ... OK
* checking top-level files ... OK
* checking for left-over files ... OK
* checking index information ... OK
* checking package subdirectories ... OK
* checking R files for non-ASCII characters ... OK
* checking R files for syntax errors ... OK
* loading checks for arch 'i386'
** checking whether the package can be loaded ... OK
** checking whether the package can be loaded with stated dependencies ... OK
** checking whether the package can be unloaded cleanly ... OK
** checking whether the namespace can be loaded with stated dependencies ... OK
** checking whether the namespace can be unloaded cleanly ... OK
* loading checks for arch 'x64'
** checking whether the package can be loaded ... OK
** checking whether the package can be loaded with stated dependencies ... OK
** checking whether the package can be unloaded cleanly ... OK
** checking whether the namespace can be loaded with stated dependencies ... OK
** checking whether the namespace can be unloaded cleanly ... OK
* checking dependencies in R code ... OK
* checking S3 generic/method consistency ... OK
* checking replacement functions ... OK
* checking foreign function calls ... OK
* checking R code for possible problems ... NOTE
GDCquery_clinic: no visible binding for global variable 'portions'
TCGA_MolecularSubtype: no visible binding for global variable
'TabSubtypesCol_merged'
TCGAanalyze_DEA: no visible binding for global variable 'barcode'
TCGAanalyze_DEA: no visible binding for global variable 'clinical'
TCGAanalyze_DEA_Affy: no visible global function definition for
'limmamakeContrasts'
TCGAanalyze_DEA_Affy: no visible global function definition for
'limmacontrasts.fit'
TCGAanalyze_analyseGRN: no visible global function definition for
'knnmi.cross'
TCGAanalyze_networkInference: no visible global function definition for
'c3net'
TCGAanalyze_networkInference: no visible global function definition for
'minet'
TCGAquery_recount2: no visible binding for global variable 'rse_gene'
TCGAtumor_purity: no visible binding for global variable 'Tumor.purity'
TCGAvisualize_SurvivalCoxNET: no visible global function definition for
'dNetInduce'
TCGAvisualize_SurvivalCoxNET: no visible global function definition for
'dNetPipeline'
TCGAvisualize_SurvivalCoxNET: no visible global function definition for
'dCommSignif'
TCGAvisualize_SurvivalCoxNET: no visible global function definition for
'visNet'
TCGAvisualize_oncoprint: no visible binding for global variable 'value'
readTranscriptomeProfiling: no visible binding for global variable
'ignore.case'
Undefined global functions or variables:
TabSubtypesCol_merged Tumor.purity barcode c3net clinical dCommSignif
dNetInduce dNetPipeline ignore.case knnmi.cross limmacontrasts.fit
limmamakeContrasts minet portions rse_gene value visNet
* checking Rd files ... OK
* checking Rd metadata ... OK
* checking Rd cross-references ... OK
* checking for missing documentation entries ... OK
* checking for code/documentation mismatches ... OK
* checking Rd \usage sections ... OK
* checking Rd contents ... OK
* checking for unstated dependencies in examples ... OK
* checking contents of 'data' directory ... OK
* checking data for non-ASCII characters ... NOTE
Error in .requirePackage(package) :
unable to find required package 'maftools'
Calls: <Anonymous> ... getClass -> getClassDef -> .classEnv -> .requirePackage
Execution halted
* checking data for ASCII and uncompressed saves ... OK
* checking R/sysdata.rda ... OK
* checking installed files from 'inst/doc' ... OK
* checking files in 'vignettes' ... OK
* checking examples ...
** running examples for arch 'i386' ... OK
Examples with CPU or elapsed time > 5s
user system elapsed
TCGAvisualize_starburst 38.83 0.75 86.04
TCGAanalyze_LevelTab 19.80 0.00 19.88
TCGAanalyze_DMR 19.19 0.28 19.47
GDCquery 19.05 0.08 27.63
TCGAanalyze_DEA 13.15 0.11 13.28
TCGAanalyze_Filtering 11.03 0.00 11.26
GDCprepare 8.77 0.21 12.48
TCGAVisualize_volcano 7.72 0.02 8.31
TCGAanalyze_survival 7.47 0.02 16.61
TCGAquery_recount2 6.66 0.40 7.65
GDCdownload 6.25 0.73 56.25
TCGAvisualize_PCA 5.60 0.00 5.61
GDCprepare_clinic 4.95 0.06 7.50
TCGAanalyze_SurvivalKM 1.80 0.01 34.47
** running examples for arch 'x64' ... OK
Examples with CPU or elapsed time > 5s
user system elapsed
TCGAvisualize_starburst 33.73 0.81 89.14
TCGAanalyze_DMR 22.81 0.10 23.00
TCGAanalyze_LevelTab 20.86 0.03 20.89
GDCquery 17.92 0.01 24.39
TCGAanalyze_Filtering 12.61 0.00 12.63
TCGAanalyze_DEA 11.50 0.01 11.56
GDCdownload 8.49 0.75 65.17
GDCprepare 7.48 0.13 11.38
TCGAvisualize_PCA 6.30 0.02 6.31
TCGAanalyze_Normalization 6.24 0.00 6.23
TCGAanalyze_survival 6.09 0.05 16.47
TCGAquery_recount2 5.77 0.33 16.43
TCGAVisualize_volcano 5.74 0.02 5.75
GDCprepare_clinic 4.06 0.05 6.66
getDataCategorySummary 2.38 0.00 5.62
TCGAanalyze_SurvivalKM 2.14 0.01 36.03
GDCquery_clinic 0.75 0.00 5.50
* checking for unstated dependencies in 'tests' ... OK
* checking tests ...
** running tests for arch 'i386' ...
Running 'testthat.R'
OK
** running tests for arch 'x64' ...
Running 'testthat.R'
OK
* checking for unstated dependencies in vignettes ... NOTE
'library' or 'require' call not declared from: 'DT'
* checking package vignettes in 'inst/doc' ... OK
* checking running R code from vignettes ... SKIPPED
* checking re-building of vignette outputs ... SKIPPED
* checking PDF version of manual ... OK
* DONE
Status: 4 NOTEs
See
'C:/Users/biocbuild/bbs-3.6-bioc/meat/TCGAbiolinks.Rcheck/00check.log'
for details.
TCGAbiolinks.Rcheck/00install.out
install for i386
* installing *source* package 'TCGAbiolinks' ...
** R
** data
*** moving datasets to lazyload DB
** inst
** preparing package for lazy loading
** help
*** installing help indices
converting help for package 'TCGAbiolinks'
finding HTML links ... done
BRCA_rnaseqv2 html
GDCdownload html
GDCprepare html
GDCprepare_clinic html
GDCquery html
GDCquery_Maf html
GDCquery_clinic html
GeneSplitRegulon html
GenesCutID html
PanCancerAtlas_subtypes html
TCGAVisualize_volcano html
TCGA_MolecularSubtype html
TCGAanalyze_Clustering html
TCGAanalyze_DEA html
TCGAanalyze_DEA_Affy html
TCGAanalyze_DMR html
TCGAanalyze_EA html
TCGAanalyze_EAcomplete html
TCGAanalyze_Filtering html
TCGAanalyze_LevelTab html
TCGAanalyze_Normalization html
TCGAanalyze_Pathview html
TCGAanalyze_Preprocessing html
TCGAanalyze_SurvivalKM html
TCGAanalyze_analyseGRN html
TCGAanalyze_networkInference html
TCGAanalyze_survival html
TCGAbatch_Correction html
TCGAbiolinks html
TCGAprepare_Affy html
TCGAquery_MatchedCoupledSampleTypes html
TCGAquery_SampleTypes html
TCGAquery_recount2 html
TCGAquery_subtype html
TCGAtumor_purity html
TCGAvisualize_BarPlot html
TCGAvisualize_EAbarplot html
TCGAvisualize_Heatmap html
TCGAvisualize_PCA html
TCGAvisualize_SurvivalCoxNET html
TCGAvisualize_meanMethylation html
TCGAvisualize_oncoprint html
TCGAvisualize_starburst html
TabSubtypesCol_merged html
Tumor.purity html
UseRaw_afterFilter html
batch.info html
bcgsc.ca_CHOL.IlluminaHiSeq_DNASeq.1.somatic.maf
html
calculate.pvalues html
chol_maf html
clinBRCA html
clinical.biotab html
colDataPrepare html
dataBRCA html
dataDEGsFiltLevel html
dataREAD html
dataREAD_df html
diffmean html
gaiaCNVplot html
gbm.exp.harmonized html
gbm.exp.legacy html
geneInfo html
geneInfoHT html
getAdjacencyBiogrid html
getDataCategorySummary html
getGDCInfo html
getGDCprojects html
getGistic html
getManifest html
getResults html
getTSS html
ggbiplot html
isServeOK html
matchedMetExp html
met.gbm.27k html
msi_results html
pancan2018 html
tabSurvKMcompleteDEGs html
** building package indices
** installing vignettes
** testing if installed package can be loaded
In R CMD INSTALL
install for x64
* installing *source* package 'TCGAbiolinks' ...
** testing if installed package can be loaded
* MD5 sums
packaged installation of 'TCGAbiolinks' as TCGAbiolinks_2.6.12.zip
* DONE (TCGAbiolinks)
In R CMD INSTALL
In R CMD INSTALL
|
TCGAbiolinks.Rcheck/tests_i386/testthat.Rout
R version 3.4.4 (2018-03-15) -- "Someone to Lean On"
Copyright (C) 2018 The R Foundation for Statistical Computing
Platform: i386-w64-mingw32/i386 (32-bit)
R is free software and comes with ABSOLUTELY NO WARRANTY.
You are welcome to redistribute it under certain conditions.
Type 'license()' or 'licence()' for distribution details.
R is a collaborative project with many contributors.
Type 'contributors()' for more information and
'citation()' on how to cite R or R packages in publications.
Type 'demo()' for some demos, 'help()' for on-line help, or
'help.start()' for an HTML browser interface to help.
Type 'q()' to quit R.
> library(testthat)
> library(TCGAbiolinks)
>
> test_check("TCGAbiolinks")
|
| | 0%
|
|=================================== | 50%
|
|======================================================================| 100%
|
| | 0%
|
|=================================== | 50%
|
|======================================================================| 100%
|
| | 0%
|
|================== | 25%
|
|=================================== | 50%
|
|==================================================== | 75%
|
|======================================================================| 100%
trying URL 'http://zwdzwd.io/InfiniumAnnotation/current/hm450/hm450.hg38.manifest.rds'
Content type '' length 18600736 bytes (17.7 MB)
==================================================
downloaded 17.7 MB
trying URL 'http://zwdzwd.io/InfiniumAnnotation/current/hm450/hm450.hg19.manifest.rds'
Content type '' length 18546360 bytes (17.7 MB)
==================================================
downloaded 17.7 MB
Downloading: 8.2 kB
Downloading: 8.2 kB
Downloading: 14 kB
Downloading: 14 kB
Downloading: 14 kB
Downloading: 14 kB
Downloading: 14 kB
Downloading: 14 kB
|
| | 0%
|
|==================================== | 51%
|
|======================================================================| 100%
Downloading: 8.2 kB
Downloading: 8.2 kB
Downloading: 21 kB
Downloading: 21 kB
Downloading: 21 kB
Downloading: 21 kB
Downloading: 21 kB
Downloading: 21 kB
Downloading: 7.7 kB
Downloading: 7.7 kB
Downloading: 26 kB
Downloading: 26 kB
Downloading: 26 kB
Downloading: 26 kB
Downloading: 26 kB
Downloading: 26 kB
|
| | 0%
|
|================== | 25%
|
|=================================== | 50%
|
|==================================================== | 75%
|
|======================================================================| 100%
Downloading: 7.7 kB
Downloading: 7.7 kB
Downloading: 24 kB
Downloading: 24 kB
Downloading: 24 kB
Downloading: 24 kB
Downloading: 90 kB
Downloading: 90 kB
Downloading: 160 kB
Downloading: 160 kB
Downloading: 160 kB
Downloading: 160 kB
Downloading: 290 kB
Downloading: 290 kB
Downloading: 500 kB
Downloading: 500 kB
Downloading: 510 kB
Downloading: 510 kB
Downloading: 530 kB
Downloading: 530 kB
Downloading: 530 kB
Downloading: 530 kB
Downloading: 640 kB
Downloading: 640 kB
Downloading: 660 kB
Downloading: 660 kB
Downloading: 990 kB
Downloading: 990 kB
Downloading: 990 kB
Downloading: 990 kB
Downloading: 1 MB
Downloading: 1 MB
Downloading: 1 MB
Downloading: 1 MB
|
| | 0%
|
|= | 2%
|
|=============== | 21%
|
|================= | 25%
|
|====================== | 31%
|
|======================== | 35%
|
|=========================== | 38%
|
|============================= | 41%
|
|================================== | 48%
|
|==================================== | 51%
|
|====================================== | 55%
|
|=========================================================== | 84%
|
|======================================================================| 100%
|
| | 0%
|
|======================= | 33%
|
|=============================================== | 67%
|
|======================================================================| 100%
|
| | 0%
|
| | 1%
|
|= | 1%
|
|== | 2%
|
|==== | 5%
|
|====== | 9%
|
|======= | 10%
|
|========== | 14%
|
|=========== | 15%
|
|============ | 17%
|
|============ | 18%
|
|============= | 19%
|
|============== | 20%
|
|=============== | 22%
|
|================== | 25%
|
|======================== | 34%
|
|========================== | 37%
|
|=========================== | 38%
|
|============================ | 39%
|
|============================ | 41%
|
|=============================== | 44%
|
|================================= | 47%
|
|========================================= | 58%
|
|========================================== | 60%
|
|============================================== | 66%
|
|=============================================== | 67%
|
|================================================ | 69%
|
|================================================= | 70%
|
|================================================== | 71%
|
|=================================================== | 72%
|
|==================================================== | 74%
|
|==================================================== | 75%
|
|===================================================== | 76%
|
|====================================================== | 78%
|
|======================================================= | 79%
|
|======================================================== | 80%
|
|========================================================= | 81%
|
|============================================================== | 89%
|
|=============================================================== | 90%
|
|======================================================================| 100%
|
| | 0%
|
| | 1%
|
|= | 1%
|
|= | 2%
|
|== | 2%
|
|== | 3%
|
|=== | 4%
|
|=== | 5%
|
|==== | 6%
|
|===== | 6%
|
|===== | 7%
|
|===== | 8%
|
|====== | 8%
|
|====== | 9%
|
|======= | 9%
|
|======= | 10%
|
|======= | 11%
|
|======== | 11%
|
|======== | 12%
|
|========= | 12%
|
|========= | 13%
|
|========= | 14%
|
|========== | 14%
|
|========== | 15%
|
|=========== | 15%
|
|=========== | 16%
|
|============ | 16%
|
|============ | 17%
|
|============ | 18%
|
|============= | 18%
|
|============= | 19%
|
|============== | 19%
|
|============== | 20%
|
|=============== | 21%
|
|=============== | 22%
|
|================ | 22%
|
|================ | 23%
|
|================ | 24%
|
|================= | 24%
|
|================= | 25%
|
|================== | 25%
|
|================== | 26%
|
|=================== | 26%
|
|=================== | 27%
|
|=================== | 28%
|
|==================== | 28%
|
|==================== | 29%
|
|===================== | 29%
|
|===================== | 30%
|
|===================== | 31%
|
|====================== | 31%
|
|====================== | 32%
|
|======================= | 32%
|
|======================= | 33%
|
|======================= | 34%
|
|======================== | 34%
|
|======================== | 35%
|
|========================= | 35%
|
|========================= | 36%
|
|========================== | 37%
|
|========================== | 38%
|
|=========================== | 38%
|
|=========================== | 39%
|
|============================ | 39%
|
|============================ | 40%
|
|============================ | 41%
|
|============================= | 41%
|
|============================= | 42%
|
|============================== | 42%
|
|============================== | 43%
|
|============================== | 44%
|
|=============================== | 44%
|
|=============================== | 45%
|
|================================ | 45%
|
|================================ | 46%
|
|================================= | 46%
|
|================================= | 47%
|
|================================= | 48%
|
|================================== | 48%
|
|================================== | 49%
|
|=================================== | 49%
|
|=================================== | 50%
|
|=================================== | 51%
|
|==================================== | 51%
|
|==================================== | 52%
|
|===================================== | 52%
|
|===================================== | 53%
|
|===================================== | 54%
|
|====================================== | 54%
|
|====================================== | 55%
|
|======================================= | 55%
|
|======================================= | 56%
|
|======================================== | 56%
|
|======================================== | 57%
|
|======================================== | 58%
|
|========================================= | 58%
|
|========================================= | 59%
|
|========================================== | 59%
|
|========================================== | 60%
|
|========================================== | 61%
|
|=========================================== | 61%
|
|=========================================== | 62%
|
|============================================ | 62%
|
|============================================ | 63%
|
|============================================ | 64%
|
|============================================= | 64%
|
|============================================= | 65%
|
|============================================== | 65%
|
|============================================== | 66%
|
|=============================================== | 66%
|
|=============================================== | 67%
|
|=============================================== | 68%
|
|================================================ | 68%
|
|================================================ | 69%
|
|================================================= | 69%
|
|================================================= | 70%
|
|================================================= | 71%
|
|================================================== | 71%
|
|================================================== | 72%
|
|=================================================== | 72%
|
|=================================================== | 73%
|
|=================================================== | 74%
|
|==================================================== | 74%
|
|==================================================== | 75%
|
|===================================================== | 75%
|
|===================================================== | 76%
|
|====================================================== | 77%
|
|====================================================== | 78%
|
|======================================================= | 78%
|
|======================================================= | 79%
|
|======================================================== | 79%
|
|======================================================== | 80%
|
|======================================================== | 81%
|
|========================================================= | 81%
|
|========================================================= | 82%
|
|========================================================== | 82%
|
|========================================================== | 83%
|
|========================================================== | 84%
|
|=========================================================== | 84%
|
|=========================================================== | 85%
|
|============================================================ | 85%
|
|============================================================ | 86%
|
|============================================================= | 86%
|
|============================================================= | 87%
|
|============================================================= | 88%
|
|============================================================== | 88%
|
|============================================================== | 89%
|
|=============================================================== | 89%
|
|=============================================================== | 90%
|
|=============================================================== | 91%
|
|================================================================ | 91%
|
|================================================================ | 92%
|
|================================================================= | 92%
|
|================================================================= | 93%
|
|================================================================== | 94%
|
|================================================================== | 95%
|
|=================================================================== | 95%
|
|=================================================================== | 96%
|
|==================================================================== | 96%
|
|==================================================================== | 97%
|
|==================================================================== | 98%
|
|===================================================================== | 98%
|
|===================================================================== | 99%
|
|======================================================================| 99%
|
|======================================================================| 100%
|
| | 0%
|
|=================================== | 50%
|
|======================================================================| 100%
|
| | 0%
|
| | 1%
|
|= | 1%
|
|= | 2%
|
|== | 3%
|
|=== | 4%
|
|=== | 5%
|
|==== | 5%
|
|==== | 6%
|
|===== | 7%
|
|====== | 8%
|
|====== | 9%
|
|======= | 10%
|
|======= | 11%
|
|======== | 11%
|
|========= | 13%
|
|=========== | 15%
|
|=========== | 16%
|
|============= | 18%
|
|============== | 20%
|
|=============== | 22%
|
|================== | 25%
|
|================== | 26%
|
|=================== | 27%
|
|==================== | 29%
|
|========================== | 37%
|
|========================== | 38%
|
|============================ | 41%
|
|============================= | 41%
|
|============================= | 42%
|
|============================== | 43%
|
|=============================== | 44%
|
|=============================== | 45%
|
|================================ | 45%
|
|================================= | 47%
|
|================================== | 48%
|
|==================================== | 52%
|
|===================================== | 52%
|
|===================================== | 53%
|
|====================================== | 54%
|
|======================================= | 55%
|
|======================================= | 56%
|
|======================================== | 57%
|
|========================================= | 58%
|
|========================================= | 59%
|
|========================================== | 59%
|
|========================================== | 60%
|
|=========================================== | 61%
|
|============================================ | 62%
|
|============================================ | 63%
|
|============================================= | 64%
|
|============================================= | 65%
|
|============================================== | 66%
|
|=============================================== | 67%
|
|================================================ | 69%
|
|================================================== | 71%
|
|================================================== | 72%
|
|=================================================== | 73%
|
|==================================================== | 74%
|
|==================================================== | 75%
|
|===================================================== | 75%
|
|===================================================== | 76%
|
|====================================================== | 77%
|
|======================================================= | 78%
|
|======================================================= | 79%
|
|======================================================== | 80%
|
|========================================================= | 81%
|
|========================================================= | 82%
|
|========================================================== | 82%
|
|=========================================================== | 84%
|
|============================================================ | 85%
|
|============================================================ | 86%
|
|============================================================= | 87%
|
|=============================================================== | 89%
|
|================================================================ | 91%
|
|===================================================================== | 99%
|
|======================================================================| 100%
<simpleWarning in file.create(to[okay]): cannot create file 'GDCdata/TCGA-ACC/harmonized/Simple_Nucleotide_Variation/Masked_Somatic_Mutation/9d298cc7-71d2-43f5-835d-d7ef7a43bb11/TCGA.ACC.muse.9d298cc7-71d2-43f5-835d-d7ef7a43bb11.DR-10.0.somatic.maf.gz', reason 'No such file or directory'>
|
| | 0%
|
| | 1%
|
|== | 3%
|
|=== | 4%
|
|=== | 5%
|
|==== | 6%
|
|===== | 7%
|
|===== | 8%
|
|====== | 8%
|
|====== | 9%
|
|======= | 10%
|
|======== | 11%
|
|======== | 12%
|
|========== | 15%
|
|=========== | 16%
|
|============ | 17%
|
|============= | 18%
|
|============= | 19%
|
|============== | 20%
|
|=============== | 21%
|
|================ | 22%
|
|================= | 24%
|
|================== | 25%
|
|=================== | 27%
|
|==================== | 28%
|
|==================== | 29%
|
|===================== | 30%
|
|===================== | 31%
|
|====================== | 31%
|
|====================== | 32%
|
|======================= | 33%
|
|======================== | 35%
|
|========================= | 36%
|
|========================== | 37%
|
|========================== | 38%
|
|=========================== | 38%
|
|=========================== | 39%
|
|============================ | 40%
|
|============================= | 42%
|
|============================== | 43%
|
|=============================== | 44%
|
|=============================== | 45%
|
|================================== | 48%
|
|================================== | 49%
|
|=================================== | 50%
|
|==================================== | 51%
|
|==================================== | 52%
|
|===================================== | 52%
|
|===================================== | 53%
|
|====================================== | 54%
|
|======================================= | 55%
|
|======================================= | 56%
|
|======================================== | 56%
|
|======================================== | 57%
|
|========================================= | 58%
|
|========================================= | 59%
|
|========================================== | 60%
|
|=========================================== | 61%
|
|=========================================== | 62%
|
|============================================ | 63%
|
|============================================= | 64%
|
|============================================= | 65%
|
|============================================== | 66%
|
|=============================================== | 67%
|
|=============================================== | 68%
|
|================================================ | 68%
|
|================================================ | 69%
|
|================================================= | 70%
|
|================================================== | 71%
|
|================================================== | 72%
|
|=================================================== | 73%
|
|==================================================== | 74%
|
|==================================================== | 75%
|
|===================================================== | 75%
|
|===================================================== | 76%
|
|====================================================== | 77%
|
|======================================================= | 78%
|
|======================================================== | 79%
|
|======================================================== | 80%
|
|========================================================= | 82%
|
|========================================================== | 82%
|
|========================================================== | 83%
|
|=========================================================== | 84%
|
|============================================================ | 85%
|
|============================================================ | 86%
|
|============================================================= | 86%
|
|============================================================= | 87%
|
|============================================================= | 88%
|
|============================================================== | 89%
|
|=============================================================== | 90%
|
|=================================================================== | 96%
|
|==================================================================== | 97%
|
|==================================================================== | 98%
|
|===================================================================== | 98%
|
|===================================================================== | 99%
|
|======================================================================| 100%
|
| | 0%
|
| | 1%
|
|= | 1%
|
|= | 2%
|
|== | 3%
|
|=== | 4%
|
|=== | 5%
|
|==== | 5%
|
|==== | 6%
|
|===== | 7%
|
|====== | 8%
|
|====== | 9%
|
|======= | 10%
|
|======== | 11%
|
|======== | 12%
|
|=========== | 15%
|
|=========== | 16%
|
|============ | 17%
|
|============= | 18%
|
|============= | 19%
|
|============== | 19%
|
|============== | 20%
|
|=============== | 21%
|
|================ | 22%
|
|================= | 25%
|
|================== | 26%
|
|=================== | 27%
|
|=================== | 28%
|
|==================== | 28%
|
|==================== | 29%
|
|===================== | 30%
|
|====================== | 31%
|
|====================== | 32%
|
|======================= | 33%
|
|======================== | 34%
|
|======================== | 35%
|
|========================= | 35%
|
|========================= | 36%
|
|========================== | 37%
|
|=========================== | 38%
|
|============================ | 40%
|
|============================= | 41%
|
|============================= | 42%
|
|============================== | 42%
|
|============================== | 43%
|
|=============================== | 44%
|
|================================ | 45%
|
|================================ | 46%
|
|================================== | 49%
|
|=================================== | 50%
|
|=================================== | 51%
|
|==================================== | 51%
|
|==================================== | 52%
|
|===================================== | 53%
|
|====================================== | 54%
|
|====================================== | 55%
|
|======================================= | 56%
|
|======================================== | 57%
|
|======================================== | 58%
|
|========================================= | 58%
|
|========================================= | 59%
|
|========================================== | 60%
|
|=========================================== | 61%
|
|=========================================== | 62%
|
|============================================ | 63%
|
|============================================= | 64%
|
|============================================= | 65%
|
|============================================== | 65%
|
|============================================== | 66%
|
|=============================================== | 67%
|
|================================================ | 68%
|
|================================================ | 69%
|
|================================================= | 70%
|
|================================================== | 72%
|
|=================================================== | 72%
|
|=================================================== | 73%
|
|==================================================== | 74%
|
|===================================================== | 75%
|
|===================================================== | 76%
|
|====================================================== | 77%
|
|======================================================= | 78%
|
|======================================================= | 79%
|
|======================================================== | 79%
|
|======================================================== | 80%
|
|======================================================== | 81%
|
|========================================================= | 81%
|
|========================================================= | 82%
|
|========================================================== | 83%
|
|=========================================================== | 84%
|
|=========================================================== | 85%
|
|============================================================ | 86%
|
|============================================================= | 87%
|
|============================================================= | 88%
|
|============================================================== | 88%
|
|============================================================== | 89%
|
|================================================================ | 92%
|
|================================================================= | 93%
|
|=================================================================== | 96%
|
|==================================================================== | 97%
|
|===================================================================== | 98%
|
|===================================================================== | 99%
|
|======================================================================| 100%
<simpleWarning in file.create(to[okay]): cannot create file 'maf/TCGA-ACC/harmonized/Simple_Nucleotide_Variation/Masked_Somatic_Mutation/9d298cc7-71d2-43f5-835d-d7ef7a43bb11/TCGA.ACC.muse.9d298cc7-71d2-43f5-835d-d7ef7a43bb11.DR-10.0.somatic.maf.gz', reason 'No such file or directory'>
|
| | 0%
|
| | 1%
|
|= | 2%
|
|== | 3%
|
|=== | 4%
|
|=== | 5%
|
|==== | 6%
|
|===== | 7%
|
|===== | 8%
|
|====== | 8%
|
|====== | 9%
|
|======= | 10%
|
|======== | 11%
|
|======== | 12%
|
|=========== | 15%
|
|=========== | 16%
|
|============ | 17%
|
|============= | 18%
|
|============= | 19%
|
|============== | 20%
|
|=============== | 21%
|
|=============== | 22%
|
|================ | 22%
|
|================= | 24%
|
|================== | 26%
|
|=================== | 27%
|
|==================== | 28%
|
|==================== | 29%
|
|===================== | 29%
|
|===================== | 30%
|
|===================== | 31%
|
|====================== | 31%
|
|======================= | 33%
|
|======================== | 34%
|
|======================== | 35%
|
|========================= | 36%
|
|========================== | 37%
|
|========================== | 38%
|
|=========================== | 38%
|
|=========================== | 39%
|
|============================ | 40%
|
|============================= | 41%
|
|============================= | 42%
|
|============================== | 43%
|
|=============================== | 44%
|
|=============================== | 45%
|
|================================== | 48%
|
|================================== | 49%
|
|=================================== | 50%
|
|==================================== | 52%
|
|===================================== | 52%
|
|===================================== | 53%
|
|====================================== | 54%
|
|======================================= | 55%
|
|======================================= | 56%
|
|======================================== | 57%
|
|========================================= | 58%
|
|========================================= | 59%
|
|========================================== | 60%
|
|=========================================== | 61%
|
|=========================================== | 62%
|
|============================================ | 63%
|
|============================================= | 64%
|
|============================================= | 65%
|
|============================================== | 66%
|
|=============================================== | 67%
|
|=============================================== | 68%
|
|================================================ | 68%
|
|================================================ | 69%
|
|================================================= | 70%
|
|================================================== | 71%
|
|================================================== | 72%
|
|=================================================== | 73%
|
|==================================================== | 74%
|
|==================================================== | 75%
|
|===================================================== | 75%
|
|===================================================== | 76%
|
|====================================================== | 77%
|
|======================================================= | 79%
|
|======================================================== | 80%
|
|========================================================= | 82%
|
|========================================================== | 83%
|
|=========================================================== | 84%
|
|============================================================ | 85%
|
|============================================================ | 86%
|
|============================================================= | 86%
|
|============================================================= | 87%
|
|============================================================== | 88%
|
|============================================================== | 89%
|
|==================================================================== | 97%
|
|===================================================================== | 99%
|
|======================================================================| 99%
|
|======================================================================| 100%
[1] "I need about 1 minute to finish complete Enrichment analysis GO[BP,MF,CC] and Pathways... "
[1] "GO Enrichment Analysis BP completed....done"
[1] "GO Enrichment Analysis MF completed....done"
[1] "GO Enrichment Analysis CC completed....done"
[1] "Pathway Enrichment Analysis completed....done"
groups Mean Median Max Min
1 TP 0.3590198 0.3601768 0.4099433 0.3240056
groups Mean Median Max Min
1 TP 0.3590198 0.3601768 0.4099433 0.3240056
groups Mean Median Max Min
1 LGm1 0.3789137 0.3789137 0.3789137 0.3789137
2 LGm2 0.4099433 0.4099433 0.4099433 0.4099433
3 LGm4 0.3454189 0.3454189 0.3668322 0.3240056
4 LGm5 0.3481159 0.3524203 0.3608853 0.3267376
LGm1 LGm2 LGm4 LGm5
LGm1 NA NA NA NA
LGm2 NA NA NA NA
LGm4 NA NA NA 0.9217168
LGm5 NA NA 0.9217168 NA
groups Mean Median Max Min
1 LGm1 0.3789137 0.3789137 0.3789137 0.3789137
2 LGm2 0.4099433 0.4099433 0.4099433 0.4099433
3 LGm4 0.3454189 0.3454189 0.3668322 0.3240056
4 LGm5 0.3481159 0.3524203 0.3608853 0.3267376
LGm1 LGm2 LGm4 LGm5
LGm1 NA NA NA NA
LGm2 NA NA NA NA
LGm4 NA NA NA 0.9217168
LGm5 NA NA 0.9217168 NA
groups Mean Median Max Min
1 LGm1 0.3789137 0.3789137 0.3789137 0.3789137
2 LGm2 0.4099433 0.4099433 0.4099433 0.4099433
3 LGm4 0.3454189 0.3454189 0.3668322 0.3240056
4 LGm5 0.3481159 0.3524203 0.3608853 0.3267376
LGm1 LGm2 LGm4 LGm5
LGm1 NA NA NA NA
LGm2 NA NA NA NA
LGm4 NA NA NA 0.9217168
LGm5 NA NA 0.9217168 NA
groups Mean Median Max Min
1 alive 0.3594683 0.3594683 0.3594683 0.3594683
2 dead 0.3589557 0.3608853 0.4099433 0.3240056
alive dead
alive NA NA
dead NA NA
== testthat results ===========================================================
OK: 85 SKIPPED: 0 FAILED: 0
>
> proc.time()
user system elapsed
301.01 6.03 435.95
|
TCGAbiolinks.Rcheck/tests_x64/testthat.Rout
R version 3.4.4 (2018-03-15) -- "Someone to Lean On"
Copyright (C) 2018 The R Foundation for Statistical Computing
Platform: x86_64-w64-mingw32/x64 (64-bit)
R is free software and comes with ABSOLUTELY NO WARRANTY.
You are welcome to redistribute it under certain conditions.
Type 'license()' or 'licence()' for distribution details.
R is a collaborative project with many contributors.
Type 'contributors()' for more information and
'citation()' on how to cite R or R packages in publications.
Type 'demo()' for some demos, 'help()' for on-line help, or
'help.start()' for an HTML browser interface to help.
Type 'q()' to quit R.
> library(testthat)
> library(TCGAbiolinks)
>
> test_check("TCGAbiolinks")
|
| | 0%
|
|=================================== | 50%
|
|======================================================================| 100%
|
| | 0%
|
|=================================== | 50%
|
|======================================================================| 100%
|
| | 0%
|
|================== | 25%
|
|=================================== | 50%
|
|==================================================== | 75%
|
|======================================================================| 100%
trying URL 'http://zwdzwd.io/InfiniumAnnotation/current/hm450/hm450.hg38.manifest.rds'
Content type 'ð=
û' length 18600736 bytes (17.7 MB)
==================================================
downloaded 17.7 MB
trying URL 'http://zwdzwd.io/InfiniumAnnotation/current/hm450/hm450.hg19.manifest.rds'
Content type 'ð=
û' length 18546360 bytes (17.7 MB)
==================================================
downloaded 17.7 MB
Downloading: 7.7 kB
Downloading: 7.7 kB
Downloading: 14 kB
Downloading: 14 kB
Downloading: 14 kB
Downloading: 14 kB
Downloading: 14 kB
Downloading: 14 kB
|
| | 0%
|
|================= | 25%
|
|======================================================= | 78%
|
|======================================================================| 100%
Downloading: 7.7 kB
Downloading: 7.7 kB
Downloading: 21 kB
Downloading: 21 kB
Downloading: 21 kB
Downloading: 21 kB
Downloading: 21 kB
Downloading: 21 kB
Downloading: 7.7 kB
Downloading: 7.7 kB
Downloading: 16 kB
Downloading: 16 kB
Downloading: 26 kB
Downloading: 26 kB
Downloading: 26 kB
Downloading: 26 kB
Downloading: 26 kB
Downloading: 26 kB
|
| | 0%
|
|================== | 25%
|
|=================================== | 50%
|
|==================================================== | 75%
|
|======================================================================| 100%
Downloading: 8.2 kB
Downloading: 8.2 kB
Downloading: 57 kB
Downloading: 57 kB
Downloading: 57 kB
Downloading: 57 kB
Downloading: 120 kB
Downloading: 120 kB
Downloading: 120 kB
Downloading: 120 kB
Downloading: 190 kB
Downloading: 190 kB
Downloading: 190 kB
Downloading: 190 kB
Downloading: 190 kB
Downloading: 190 kB
Downloading: 200 kB
Downloading: 200 kB
Downloading: 200 kB
Downloading: 200 kB
Downloading: 200 kB
Downloading: 200 kB
Downloading: 200 kB
Downloading: 200 kB
Downloading: 200 kB
Downloading: 200 kB
Downloading: 200 kB
Downloading: 200 kB
Downloading: 220 kB
Downloading: 220 kB
Downloading: 220 kB
Downloading: 220 kB
Downloading: 220 kB
Downloading: 220 kB
Downloading: 240 kB
Downloading: 240 kB
Downloading: 240 kB
Downloading: 240 kB
Downloading: 240 kB
Downloading: 240 kB
Downloading: 240 kB
Downloading: 240 kB
Downloading: 240 kB
Downloading: 240 kB
Downloading: 250 kB
Downloading: 250 kB
Downloading: 250 kB
Downloading: 250 kB
Downloading: 290 kB
Downloading: 290 kB
Downloading: 300 kB
Downloading: 300 kB
Downloading: 300 kB
Downloading: 300 kB
Downloading: 300 kB
Downloading: 300 kB
Downloading: 300 kB
Downloading: 300 kB
Downloading: 320 kB
Downloading: 320 kB
Downloading: 320 kB
Downloading: 320 kB
Downloading: 330 kB
Downloading: 330 kB
Downloading: 330 kB
Downloading: 330 kB
Downloading: 370 kB
Downloading: 370 kB
Downloading: 370 kB
Downloading: 370 kB
Downloading: 370 kB
Downloading: 370 kB
Downloading: 380 kB
Downloading: 380 kB
Downloading: 400 kB
Downloading: 400 kB
Downloading: 400 kB
Downloading: 400 kB
Downloading: 400 kB
Downloading: 400 kB
Downloading: 420 kB
Downloading: 420 kB
Downloading: 500 kB
Downloading: 500 kB
Downloading: 500 kB
Downloading: 500 kB
Downloading: 530 kB
Downloading: 530 kB
Downloading: 560 kB
Downloading: 560 kB
Downloading: 560 kB
Downloading: 560 kB
Downloading: 560 kB
Downloading: 560 kB
Downloading: 630 kB
Downloading: 630 kB
Downloading: 630 kB
Downloading: 630 kB
Downloading: 630 kB
Downloading: 630 kB
Downloading: 640 kB
Downloading: 640 kB
Downloading: 680 kB
Downloading: 680 kB
Downloading: 680 kB
Downloading: 680 kB
Downloading: 690 kB
Downloading: 690 kB
Downloading: 690 kB
Downloading: 690 kB
Downloading: 740 kB
Downloading: 740 kB
Downloading: 760 kB
Downloading: 760 kB
Downloading: 820 kB
Downloading: 820 kB
Downloading: 850 kB
Downloading: 850 kB
Downloading: 870 kB
Downloading: 870 kB
Downloading: 900 kB
Downloading: 900 kB
Downloading: 920 kB
Downloading: 920 kB
Downloading: 950 kB
Downloading: 950 kB
Downloading: 970 kB
Downloading: 970 kB
Downloading: 1 MB
Downloading: 1 MB
Downloading: 1 MB
Downloading: 1 MB
|
| | 0%
|
|= | 2%
|
|=== | 5%
|
|====== | 8%
|
|======== | 11%
|
|========== | 15%
|
|============= | 18%
|
|=============== | 21%
|
|================= | 25%
|
|==================== | 28%
|
|====================== | 31%
|
|======================== | 35%
|
|=========================== | 38%
|
|============================= | 41%
|
|=============================== | 45%
|
|================================== | 48%
|
|==================================== | 51%
|
|====================================== | 55%
|
|======================================== | 58%
|
|=========================================== | 61%
|
|============================================= | 64%
|
|=============================================== | 68%
|
|================================================== | 71%
|
|==================================================== | 74%
|
|====================================================== | 78%
|
|========================================================= | 81%
|
|=========================================================== | 84%
|
|============================================================= | 88%
|
|================================================================ | 91%
|
|================================================================== | 94%
|
|======================================================================| 100%
|
| | 0%
|
|======================= | 33%
|
|=============================================== | 67%
|
|======================================================================| 100%
|
| | 0%
|
|= | 1%
|
|= | 2%
|
|== | 3%
|
|=== | 4%
|
|====== | 8%
|
|======= | 9%
|
|========= | 13%
|
|========== | 15%
|
|=========== | 16%
|
|============= | 18%
|
|============== | 20%
|
|=============== | 21%
|
|================ | 22%
|
|================ | 23%
|
|================= | 25%
|
|================== | 26%
|
|=================== | 27%
|
|==================== | 29%
|
|===================== | 30%
|
|========================== | 38%
|
|============================= | 41%
|
|============================== | 42%
|
|=============================== | 44%
|
|================================ | 45%
|
|================================ | 46%
|
|=================================== | 50%
|
|==================================== | 51%
|
|===================================== | 53%
|
|====================================== | 54%
|
|======================================= | 55%
|
|======================================== | 56%
|
|======================================== | 58%
|
|========================================= | 59%
|
|========================================== | 60%
|
|=========================================== | 62%
|
|============================================ | 63%
|
|============================================= | 64%
|
|============================================== | 65%
|
|=============================================== | 67%
|
|================================================ | 68%
|
|================================================ | 69%
|
|================================================= | 71%
|
|================================================== | 72%
|
|=================================================== | 73%
|
|==================================================== | 74%
|
|===================================================== | 76%
|
|====================================================== | 77%
|
|======================================================= | 78%
|
|======================================================== | 79%
|
|========================================================= | 81%
|
|============================================================== | 88%
|
|=============================================================== | 90%
|
|================================================================ | 91%
|
|================================================================= | 92%
|
|================================================================= | 93%
|
|================================================================== | 95%
|
|=================================================================== | 96%
|
|==================================================================== | 97%
|
|===================================================================== | 99%
|
|======================================================================| 100%
|
| | 0%
|
| | 1%
|
|= | 1%
|
|= | 2%
|
|== | 2%
|
|== | 3%
|
|=== | 5%
|
|==== | 6%
|
|===== | 6%
|
|===== | 7%
|
|===== | 8%
|
|====== | 8%
|
|====== | 9%
|
|======= | 9%
|
|======= | 10%
|
|======= | 11%
|
|======== | 11%
|
|======== | 12%
|
|========= | 12%
|
|========= | 13%
|
|========= | 14%
|
|========== | 14%
|
|========== | 15%
|
|=========== | 15%
|
|=========== | 16%
|
|============ | 17%
|
|============ | 18%
|
|============= | 18%
|
|============= | 19%
|
|============== | 19%
|
|============== | 20%
|
|============== | 21%
|
|=============== | 21%
|
|=============== | 22%
|
|================ | 22%
|
|================ | 23%
|
|================ | 24%
|
|================= | 24%
|
|================= | 25%
|
|================== | 25%
|
|================== | 26%
|
|=================== | 26%
|
|=================== | 27%
|
|=================== | 28%
|
|==================== | 28%
|
|==================== | 29%
|
|===================== | 29%
|
|===================== | 30%
|
|===================== | 31%
|
|====================== | 31%
|
|====================== | 32%
|
|======================= | 32%
|
|======================= | 33%
|
|======================= | 34%
|
|======================== | 34%
|
|======================== | 35%
|
|========================= | 35%
|
|========================= | 36%
|
|========================== | 36%
|
|========================== | 37%
|
|========================== | 38%
|
|=========================== | 38%
|
|=========================== | 39%
|
|============================ | 39%
|
|============================ | 40%
|
|============================= | 41%
|
|============================= | 42%
|
|============================== | 42%
|
|============================== | 43%
|
|============================== | 44%
|
|=============================== | 44%
|
|=============================== | 45%
|
|================================ | 45%
|
|================================ | 46%
|
|================================= | 46%
|
|================================= | 47%
|
|================================= | 48%
|
|================================== | 48%
|
|================================== | 49%
|
|=================================== | 49%
|
|=================================== | 50%
|
|=================================== | 51%
|
|==================================== | 51%
|
|==================================== | 52%
|
|===================================== | 52%
|
|===================================== | 53%
|
|===================================== | 54%
|
|====================================== | 54%
|
|====================================== | 55%
|
|======================================= | 55%
|
|======================================= | 56%
|
|======================================== | 56%
|
|======================================== | 57%
|
|======================================== | 58%
|
|========================================= | 58%
|
|========================================= | 59%
|
|========================================== | 59%
|
|========================================== | 60%
|
|========================================== | 61%
|
|=========================================== | 61%
|
|=========================================== | 62%
|
|============================================ | 62%
|
|============================================ | 63%
|
|============================================ | 64%
|
|============================================= | 64%
|
|============================================= | 65%
|
|============================================== | 65%
|
|============================================== | 66%
|
|=============================================== | 66%
|
|=============================================== | 67%
|
|=============================================== | 68%
|
|================================================ | 68%
|
|================================================ | 69%
|
|================================================= | 69%
|
|================================================= | 70%
|
|================================================= | 71%
|
|================================================== | 71%
|
|================================================== | 72%
|
|=================================================== | 72%
|
|=================================================== | 73%
|
|=================================================== | 74%
|
|==================================================== | 74%
|
|==================================================== | 75%
|
|===================================================== | 75%
|
|===================================================== | 76%
|
|====================================================== | 77%
|
|====================================================== | 78%
|
|======================================================= | 78%
|
|======================================================= | 79%
|
|======================================================== | 80%
|
|======================================================== | 81%
|
|========================================================= | 81%
|
|========================================================= | 82%
|
|========================================================== | 82%
|
|========================================================== | 83%
|
|========================================================== | 84%
|
|=========================================================== | 84%
|
|=========================================================== | 85%
|
|============================================================ | 85%
|
|============================================================ | 86%
|
|============================================================= | 87%
|
|============================================================= | 88%
|
|============================================================== | 88%
|
|============================================================== | 89%
|
|=============================================================== | 89%
|
|=============================================================== | 90%
|
|=============================================================== | 91%
|
|================================================================ | 91%
|
|================================================================ | 92%
|
|================================================================= | 92%
|
|================================================================= | 93%
|
|================================================================= | 94%
|
|================================================================== | 94%
|
|================================================================== | 95%
|
|=================================================================== | 95%
|
|=================================================================== | 96%
|
|==================================================================== | 96%
|
|==================================================================== | 97%
|
|==================================================================== | 98%
|
|===================================================================== | 98%
|
|===================================================================== | 99%
|
|======================================================================| 99%
|
|======================================================================| 100%
|
| | 0%
|
|=================================== | 50%
|
|======================================================================| 100%
|
| | 0%
|
| | 1%
|
|= | 1%
|
|== | 3%
|
|=== | 5%
|
|==== | 6%
|
|===== | 7%
|
|===== | 8%
|
|====== | 8%
|
|====== | 9%
|
|======= | 10%
|
|======== | 11%
|
|========= | 13%
|
|========== | 14%
|
|========== | 15%
|
|============ | 17%
|
|============= | 18%
|
|============== | 19%
|
|============== | 20%
|
|=============== | 21%
|
|=============== | 22%
|
|================ | 22%
|
|================ | 23%
|
|================= | 24%
|
|================== | 25%
|
|================== | 26%
|
|=================== | 28%
|
|===================== | 31%
|
|====================== | 31%
|
|====================== | 32%
|
|======================= | 33%
|
|======================== | 34%
|
|======================== | 35%
|
|========================= | 36%
|
|========================== | 37%
|
|========================== | 38%
|
|=========================== | 38%
|
|=========================== | 39%
|
|============================ | 40%
|
|============================= | 41%
|
|============================== | 42%
|
|============================== | 43%
|
|=============================== | 44%
|
|================================ | 45%
|
|================================ | 46%
|
|================================= | 47%
|
|================================== | 48%
|
|================================== | 49%
|
|=================================== | 50%
|
|==================================== | 51%
|
|==================================== | 52%
|
|======================================= | 56%
|
|========================================= | 58%
|
|========================================= | 59%
|
|========================================== | 60%
|
|========================================== | 61%
|
|=========================================== | 61%
|
|=========================================== | 62%
|
|============================================ | 63%
|
|============================================= | 64%
|
|============================================= | 65%
|
|============================================== | 66%
|
|=============================================== | 67%
|
|=============================================== | 68%
|
|================================================ | 68%
|
|================================================= | 70%
|
|================================================== | 71%
|
|=================================================== | 73%
|
|==================================================== | 74%
|
|==================================================== | 75%
|
|===================================================== | 75%
|
|===================================================== | 76%
|
|====================================================== | 77%
|
|======================================================= | 78%
|
|======================================================= | 79%
|
|======================================================== | 79%
|
|======================================================== | 80%
|
|========================================================= | 81%
|
|========================================================= | 82%
|
|========================================================== | 82%
|
|========================================================== | 83%
|
|=========================================================== | 84%
|
|============================================================ | 85%
|
|============================================================== | 89%
|
|=============================================================== | 90%
|
|================================================================= | 93%
|
|================================================================== | 94%
|
|================================================================== | 95%
|
|=================================================================== | 96%
|
|==================================================================== | 98%
|
|===================================================================== | 99%
|
|======================================================================| 100%
<simpleWarning in file.create(to[okay]): cannot create file 'GDCdata/TCGA-ACC/harmonized/Simple_Nucleotide_Variation/Masked_Somatic_Mutation/9d298cc7-71d2-43f5-835d-d7ef7a43bb11/TCGA.ACC.muse.9d298cc7-71d2-43f5-835d-d7ef7a43bb11.DR-10.0.somatic.maf.gz', reason 'No such file or directory'>
|
| | 0%
|
| | 1%
|
|== | 3%
|
|=== | 4%
|
|=== | 5%
|
|==== | 6%
|
|===== | 7%
|
|===== | 8%
|
|====== | 8%
|
|====== | 9%
|
|======= | 10%
|
|======== | 11%
|
|======== | 12%
|
|========= | 13%
|
|========== | 14%
|
|========== | 15%
|
|=========== | 15%
|
|=========== | 16%
|
|============ | 17%
|
|============= | 18%
|
|============= | 19%
|
|============== | 20%
|
|=============== | 21%
|
|=============== | 22%
|
|================ | 22%
|
|================= | 24%
|
|================== | 25%
|
|================== | 26%
|
|=================== | 27%
|
|==================== | 28%
|
|==================== | 29%
|
|===================== | 29%
|
|===================== | 30%
|
|===================== | 31%
|
|====================== | 31%
|
|====================== | 32%
|
|======================= | 33%
|
|======================= | 34%
|
|======================== | 34%
|
|======================== | 35%
|
|========================= | 36%
|
|========================== | 37%
|
|========================== | 38%
|
|=========================== | 38%
|
|=========================== | 39%
|
|============================ | 40%
|
|============================= | 41%
|
|============================= | 42%
|
|============================== | 43%
|
|=============================== | 44%
|
|=============================== | 45%
|
|================================ | 45%
|
|================================== | 48%
|
|================================== | 49%
|
|=================================== | 50%
|
|==================================== | 51%
|
|==================================== | 52%
|
|===================================== | 52%
|
|===================================== | 53%
|
|====================================== | 54%
|
|======================================= | 56%
|
|======================================== | 57%
|
|========================================= | 58%
|
|========================================= | 59%
|
|========================================== | 59%
|
|========================================== | 60%
|
|========================================== | 61%
|
|=========================================== | 61%
|
|=========================================== | 62%
|
|============================================ | 63%
|
|============================================= | 64%
|
|============================================= | 65%
|
|============================================== | 66%
|
|=============================================== | 67%
|
|=============================================== | 68%
|
|================================================ | 68%
|
|================================================ | 69%
|
|================================================= | 70%
|
|================================================== | 71%
|
|================================================== | 72%
|
|=================================================== | 73%
|
|==================================================== | 74%
|
|==================================================== | 75%
|
|===================================================== | 75%
|
|===================================================== | 76%
|
|====================================================== | 77%
|
|======================================================= | 78%
|
|======================================================= | 79%
|
|======================================================== | 80%
|
|========================================================= | 81%
|
|========================================================= | 82%
|
|========================================================== | 82%
|
|========================================================== | 83%
|
|=========================================================== | 84%
|
|============================================================ | 85%
|
|============================================================ | 86%
|
|============================================================= | 86%
|
|============================================================= | 87%
|
|============================================================= | 88%
|
|============================================================== | 89%
|
|=================================================================== | 96%
|
|==================================================================== | 97%
|
|==================================================================== | 98%
|
|===================================================================== | 98%
|
|======================================================================| 100%
|
| | 0%
|
|= | 2%
|
|== | 3%
|
|=== | 5%
|
|==== | 6%
|
|===== | 7%
|
|====== | 8%
|
|====== | 9%
|
|======= | 9%
|
|======= | 10%
|
|========= | 13%
|
|========== | 14%
|
|=========== | 16%
|
|============ | 18%
|
|============= | 18%
|
|============= | 19%
|
|============== | 20%
|
|============== | 21%
|
|=============== | 21%
|
|================= | 24%
|
|================= | 25%
|
|================== | 25%
|
|================== | 26%
|
|=================== | 27%
|
|=================== | 28%
|
|==================== | 28%
|
|==================== | 29%
|
|===================== | 30%
|
|====================== | 31%
|
|======================= | 32%
|
|======================= | 33%
|
|======================== | 35%
|
|========================= | 36%
|
|========================== | 37%
|
|=========================== | 38%
|
|=========================== | 39%
|
|============================ | 39%
|
|============================ | 40%
|
|============================= | 41%
|
|============================== | 42%
|
|=============================== | 44%
|
|================================ | 46%
|
|================================= | 47%
|
|================================= | 48%
|
|================================== | 48%
|
|================================== | 49%
|
|=================================== | 50%
|
|=================================== | 51%
|
|==================================== | 51%
|
|==================================== | 52%
|
|===================================== | 53%
|
|====================================== | 54%
|
|====================================== | 55%
|
|======================================= | 55%
|
|======================================= | 56%
|
|======================================== | 57%
|
|======================================== | 58%
|
|========================================= | 58%
|
|========================================= | 59%
|
|========================================== | 60%
|
|=========================================== | 61%
|
|=========================================== | 62%
|
|============================================ | 62%
|
|============================================ | 63%
|
|============================================= | 64%
|
|============================================= | 65%
|
|============================================== | 65%
|
|============================================== | 66%
|
|=============================================== | 67%
|
|================================================ | 68%
|
|================================================ | 69%
|
|================================================= | 69%
|
|================================================= | 70%
|
|================================================== | 71%
|
|=================================================== | 72%
|
|=================================================== | 73%
|
|=================================================== | 74%
|
|==================================================== | 74%
|
|==================================================== | 75%
|
|===================================================== | 76%
|
|====================================================== | 77%
|
|====================================================== | 78%
|
|======================================================= | 78%
|
|======================================================= | 79%
|
|======================================================== | 80%
|
|======================================================== | 81%
|
|========================================================= | 81%
|
|========================================================= | 82%
|
|========================================================== | 83%
|
|=========================================================== | 84%
|
|=========================================================== | 85%
|
|============================================================ | 85%
|
|============================================================ | 86%
|
|============================================================= | 87%
|
|============================================================= | 88%
|
|============================================================== | 88%
|
|============================================================== | 89%
|
|=============================================================== | 90%
|
|================================================================ | 91%
|
|================================================================= | 93%
|
|================================================================== | 94%
|
|=================================================================== | 95%
|
|=================================================================== | 96%
|
|==================================================================== | 97%
|
|===================================================================== | 98%
|
|===================================================================== | 99%
|
|======================================================================| 99%
|
|======================================================================| 100%
<simpleWarning in file.create(to[okay]): cannot create file 'maf/TCGA-ACC/harmonized/Simple_Nucleotide_Variation/Masked_Somatic_Mutation/9d298cc7-71d2-43f5-835d-d7ef7a43bb11/TCGA.ACC.muse.9d298cc7-71d2-43f5-835d-d7ef7a43bb11.DR-10.0.somatic.maf.gz', reason 'No such file or directory'>
|
| | 0%
|
| | 1%
|
|= | 1%
|
|= | 2%
|
|== | 3%
|
|=== | 5%
|
|======== | 12%
|
|========== | 14%
|
|=========== | 16%
|
|============ | 17%
|
|============== | 19%
|
|============== | 20%
|
|=============== | 21%
|
|================ | 22%
|
|=================== | 28%
|
|==================== | 28%
|
|====================== | 31%
|
|====================== | 32%
|
|======================= | 33%
|
|======================== | 34%
|
|========================= | 35%
|
|========================== | 37%
|
|=========================== | 38%
|
|=========================== | 39%
|
|============================= | 42%
|
|============================== | 43%
|
|=============================== | 44%
|
|================================ | 45%
|
|================================ | 46%
|
|================================= | 47%
|
|================================== | 48%
|
|=================================== | 49%
|
|=================================== | 50%
|
|=================================== | 51%
|
|==================================== | 51%
|
|===================================== | 53%
|
|====================================== | 55%
|
|======================================= | 56%
|
|======================================== | 58%
|
|========================================= | 58%
|
|========================================= | 59%
|
|========================================== | 60%
|
|=========================================== | 61%
|
|=========================================== | 62%
|
|============================================= | 64%
|
|============================================= | 65%
|
|============================================== | 65%
|
|============================================== | 66%
|
|=========================================================== | 85%
|
|============================================================ | 86%
|
|============================================================= | 87%
|
|=============================================================== | 90%
|
|================================================================ | 91%
|
|==================================================================== | 97%
|
|===================================================================== | 98%
|
|===================================================================== | 99%
|
|======================================================================| 100%
[1] "I need about 1 minute to finish complete Enrichment analysis GO[BP,MF,CC] and Pathways... "
[1] "GO Enrichment Analysis BP completed....done"
[1] "GO Enrichment Analysis MF completed....done"
[1] "GO Enrichment Analysis CC completed....done"
[1] "Pathway Enrichment Analysis completed....done"
groups Mean Median Max Min
1 TP 0.3590198 0.3601768 0.4099433 0.3240056
groups Mean Median Max Min
1 TP 0.3590198 0.3601768 0.4099433 0.3240056
groups Mean Median Max Min
1 LGm1 0.3789137 0.3789137 0.3789137 0.3789137
2 LGm2 0.4099433 0.4099433 0.4099433 0.4099433
3 LGm4 0.3454189 0.3454189 0.3668322 0.3240056
4 LGm5 0.3481159 0.3524203 0.3608853 0.3267376
LGm1 LGm2 LGm4 LGm5
LGm1 NA NA NA NA
LGm2 NA NA NA NA
LGm4 NA NA NA 0.9217168
LGm5 NA NA 0.9217168 NA
groups Mean Median Max Min
1 LGm1 0.3789137 0.3789137 0.3789137 0.3789137
2 LGm2 0.4099433 0.4099433 0.4099433 0.4099433
3 LGm4 0.3454189 0.3454189 0.3668322 0.3240056
4 LGm5 0.3481159 0.3524203 0.3608853 0.3267376
LGm1 LGm2 LGm4 LGm5
LGm1 NA NA NA NA
LGm2 NA NA NA NA
LGm4 NA NA NA 0.9217168
LGm5 NA NA 0.9217168 NA
groups Mean Median Max Min
1 LGm1 0.3789137 0.3789137 0.3789137 0.3789137
2 LGm2 0.4099433 0.4099433 0.4099433 0.4099433
3 LGm4 0.3454189 0.3454189 0.3668322 0.3240056
4 LGm5 0.3481159 0.3524203 0.3608853 0.3267376
LGm1 LGm2 LGm4 LGm5
LGm1 NA NA NA NA
LGm2 NA NA NA NA
LGm4 NA NA NA 0.9217168
LGm5 NA NA 0.9217168 NA
groups Mean Median Max Min
1 alive 0.3594683 0.3594683 0.3594683 0.3594683
2 dead 0.3589557 0.3608853 0.4099433 0.3240056
alive dead
alive NA NA
dead NA NA
== testthat results ===========================================================
OK: 85 SKIPPED: 0 FAILED: 0
>
> proc.time()
user system elapsed
280.82 4.95 403.64
|
|
TCGAbiolinks.Rcheck/examples_i386/TCGAbiolinks-Ex.timings
|
TCGAbiolinks.Rcheck/examples_x64/TCGAbiolinks-Ex.timings
|