| Back to Multiple platform build/check report for BioC 3.6 |
|
This page was generated on 2018-04-12 13:26:42 -0400 (Thu, 12 Apr 2018).
| Package 1387/1472 | Hostname | OS / Arch | INSTALL | BUILD | CHECK | BUILD BIN | ||||||
| TCGAbiolinks 2.6.12 Antonio Colaprico
| malbec1 | Linux (Ubuntu 16.04.1 LTS) / x86_64 | OK | OK | ERROR | |||||||
| tokay1 | Windows Server 2012 R2 Standard / x64 | [ OK ] | OK | OK | OK | |||||||
| veracruz1 | OS X 10.11.6 El Capitan / x86_64 | OK | OK | OK | OK |
| Package: TCGAbiolinks |
| Version: 2.6.12 |
| Command: rm -rf TCGAbiolinks.buildbin-libdir && mkdir TCGAbiolinks.buildbin-libdir && C:\cygwin\bin\curl.exe -O https://malbec1.bioconductor.org/BBS/3.6/bioc/src/contrib/TCGAbiolinks_2.6.12.tar.gz && C:\Users\biocbuild\bbs-3.6-bioc\R\bin\R.exe CMD INSTALL --build --library=TCGAbiolinks.buildbin-libdir --merge-multiarch TCGAbiolinks_2.6.12.tar.gz && C:\Users\biocbuild\bbs-3.6-bioc\R\bin\R.exe CMD INSTALL TCGAbiolinks_2.6.12.zip && rm TCGAbiolinks_2.6.12.tar.gz TCGAbiolinks_2.6.12.zip |
| StartedAt: 2018-04-11 18:50:05 -0400 (Wed, 11 Apr 2018) |
| EndedAt: 2018-04-11 18:52:26 -0400 (Wed, 11 Apr 2018) |
| EllapsedTime: 140.5 seconds |
| RetCode: 0 |
| Status: OK |
##############################################################################
##############################################################################
###
### Running command:
###
### rm -rf TCGAbiolinks.buildbin-libdir && mkdir TCGAbiolinks.buildbin-libdir && C:\cygwin\bin\curl.exe -O https://malbec1.bioconductor.org/BBS/3.6/bioc/src/contrib/TCGAbiolinks_2.6.12.tar.gz && C:\Users\biocbuild\bbs-3.6-bioc\R\bin\R.exe CMD INSTALL --build --library=TCGAbiolinks.buildbin-libdir --merge-multiarch TCGAbiolinks_2.6.12.tar.gz && C:\Users\biocbuild\bbs-3.6-bioc\R\bin\R.exe CMD INSTALL TCGAbiolinks_2.6.12.zip && rm TCGAbiolinks_2.6.12.tar.gz TCGAbiolinks_2.6.12.zip
###
##############################################################################
##############################################################################
% Total % Received % Xferd Average Speed Time Time Time Current
Dload Upload Total Spent Left Speed
0 0 0 0 0 0 0 0 --:--:-- --:--:-- --:--:-- 0
100 8976k 100 8976k 0 0 61.6M 0 --:--:-- --:--:-- --:--:-- 63.0M
install for i386
* installing *source* package 'TCGAbiolinks' ...
** R
** data
*** moving datasets to lazyload DB
** inst
** preparing package for lazy loading
** help
*** installing help indices
converting help for package 'TCGAbiolinks'
finding HTML links ... done
BRCA_rnaseqv2 html
GDCdownload html
GDCprepare html
GDCprepare_clinic html
GDCquery html
GDCquery_Maf html
GDCquery_clinic html
GeneSplitRegulon html
GenesCutID html
PanCancerAtlas_subtypes html
TCGAVisualize_volcano html
TCGA_MolecularSubtype html
TCGAanalyze_Clustering html
TCGAanalyze_DEA html
TCGAanalyze_DEA_Affy html
TCGAanalyze_DMR html
TCGAanalyze_EA html
TCGAanalyze_EAcomplete html
TCGAanalyze_Filtering html
TCGAanalyze_LevelTab html
TCGAanalyze_Normalization html
TCGAanalyze_Pathview html
TCGAanalyze_Preprocessing html
TCGAanalyze_SurvivalKM html
TCGAanalyze_analyseGRN html
TCGAanalyze_networkInference html
TCGAanalyze_survival html
TCGAbatch_Correction html
TCGAbiolinks html
TCGAprepare_Affy html
TCGAquery_MatchedCoupledSampleTypes html
TCGAquery_SampleTypes html
TCGAquery_recount2 html
TCGAquery_subtype html
TCGAtumor_purity html
TCGAvisualize_BarPlot html
TCGAvisualize_EAbarplot html
TCGAvisualize_Heatmap html
TCGAvisualize_PCA html
TCGAvisualize_SurvivalCoxNET html
TCGAvisualize_meanMethylation html
TCGAvisualize_oncoprint html
TCGAvisualize_starburst html
TabSubtypesCol_merged html
Tumor.purity html
UseRaw_afterFilter html
batch.info html
bcgsc.ca_CHOL.IlluminaHiSeq_DNASeq.1.somatic.maf
html
calculate.pvalues html
chol_maf html
clinBRCA html
clinical.biotab html
colDataPrepare html
dataBRCA html
dataDEGsFiltLevel html
dataREAD html
dataREAD_df html
diffmean html
gaiaCNVplot html
gbm.exp.harmonized html
gbm.exp.legacy html
geneInfo html
geneInfoHT html
getAdjacencyBiogrid html
getDataCategorySummary html
getGDCInfo html
getGDCprojects html
getGistic html
getManifest html
getResults html
getTSS html
ggbiplot html
isServeOK html
matchedMetExp html
met.gbm.27k html
msi_results html
pancan2018 html
tabSurvKMcompleteDEGs html
** building package indices
** installing vignettes
** testing if installed package can be loaded
In R CMD INSTALL
install for x64
* installing *source* package 'TCGAbiolinks' ...
** testing if installed package can be loaded
* MD5 sums
packaged installation of 'TCGAbiolinks' as TCGAbiolinks_2.6.12.zip
* DONE (TCGAbiolinks)
In R CMD INSTALL
In R CMD INSTALL
* installing to library 'C:/Users/biocbuild/bbs-3.6-bioc/R/library'
package 'TCGAbiolinks' successfully unpacked and MD5 sums checked
In R CMD INSTALL