| Back to Multiple platform build/check report for BioC 3.6 |
|
This page was generated on 2018-04-12 13:39:28 -0400 (Thu, 12 Apr 2018).
| Package 900/1472 | Hostname | OS / Arch | INSTALL | BUILD | CHECK | BUILD BIN | ||||||
| MSGFplus 1.12.0 Thomas Lin Pedersen
| malbec1 | Linux (Ubuntu 16.04.1 LTS) / x86_64 | OK | OK | OK | |||||||
| tokay1 | Windows Server 2012 R2 Standard / x64 | OK | OK | OK | OK | |||||||
| veracruz1 | OS X 10.11.6 El Capitan / x86_64 | OK | OK | [ OK ] | OK |
| Package: MSGFplus |
| Version: 1.12.0 |
| Command: /Library/Frameworks/R.framework/Versions/Current/Resources/bin/R CMD check --no-vignettes --timings MSGFplus_1.12.0.tar.gz |
| StartedAt: 2018-04-12 06:47:35 -0400 (Thu, 12 Apr 2018) |
| EndedAt: 2018-04-12 06:48:17 -0400 (Thu, 12 Apr 2018) |
| EllapsedTime: 42.0 seconds |
| RetCode: 0 |
| Status: OK |
| CheckDir: MSGFplus.Rcheck |
| Warnings: 0 |
############################################################################## ############################################################################## ### ### Running command: ### ### /Library/Frameworks/R.framework/Versions/Current/Resources/bin/R CMD check --no-vignettes --timings MSGFplus_1.12.0.tar.gz ### ############################################################################## ############################################################################## * using log directory ‘/Users/biocbuild/bbs-3.6-bioc/meat/MSGFplus.Rcheck’ * using R version 3.4.4 (2018-03-15) * using platform: x86_64-apple-darwin15.6.0 (64-bit) * using session charset: UTF-8 * using option ‘--no-vignettes’ * checking for file ‘MSGFplus/DESCRIPTION’ ... OK * checking extension type ... Package * this is package ‘MSGFplus’ version ‘1.12.0’ * checking package namespace information ... OK * checking package dependencies ... OK * checking if this is a source package ... OK * checking if there is a namespace ... OK * checking for hidden files and directories ... OK * checking for portable file names ... OK * checking for sufficient/correct file permissions ... OK * checking whether package ‘MSGFplus’ can be installed ... OK * checking installed package size ... OK * checking package directory ... OK * checking ‘build’ directory ... OK * checking DESCRIPTION meta-information ... OK * checking top-level files ... OK * checking for left-over files ... OK * checking index information ... OK * checking package subdirectories ... OK * checking R files for non-ASCII characters ... OK * checking R files for syntax errors ... OK * checking whether the package can be loaded ... OK * checking whether the package can be loaded with stated dependencies ... OK * checking whether the package can be unloaded cleanly ... OK * checking whether the namespace can be loaded with stated dependencies ... OK * checking whether the namespace can be unloaded cleanly ... OK * checking dependencies in R code ... NOTE Namespace in Imports field not imported from: ‘ProtGenerics’ All declared Imports should be used. * checking S3 generic/method consistency ... OK * checking replacement functions ... OK * checking foreign function calls ... OK * checking R code for possible problems ... OK * checking Rd files ... OK * checking Rd metadata ... OK * checking Rd cross-references ... OK * checking for missing documentation entries ... OK * checking for code/documentation mismatches ... OK * checking Rd \usage sections ... OK * checking Rd contents ... OK * checking for unstated dependencies in examples ... OK * checking installed files from ‘inst/doc’ ... OK * checking files in ‘vignettes’ ... OK * checking examples ... OK * checking for unstated dependencies in ‘tests’ ... OK * checking tests ... Running ‘test-all.R’ OK * checking for unstated dependencies in vignettes ... OK * checking package vignettes in ‘inst/doc’ ... OK * checking running R code from vignettes ... SKIPPED * checking re-building of vignette outputs ... SKIPPED * checking PDF version of manual ... OK * DONE Status: 1 NOTE See ‘/Users/biocbuild/bbs-3.6-bioc/meat/MSGFplus.Rcheck/00check.log’ for details.
MSGFplus.Rcheck/00install.out
* installing *source* package ‘MSGFplus’ ... ** R ** inst ** preparing package for lazy loading ** help *** installing help indices ** building package indices ** installing vignettes ** testing if installed package can be loaded * DONE (MSGFplus)
MSGFplus.Rcheck/tests/test-all.Rout
R version 3.4.4 (2018-03-15) -- "Someone to Lean On"
Copyright (C) 2018 The R Foundation for Statistical Computing
Platform: x86_64-apple-darwin15.6.0 (64-bit)
R is free software and comes with ABSOLUTELY NO WARRANTY.
You are welcome to redistribute it under certain conditions.
Type 'license()' or 'licence()' for distribution details.
R is a collaborative project with many contributors.
Type 'contributors()' for more information and
'citation()' on how to cite R or R packages in publications.
Type 'demo()' for some demos, 'help()' for on-line help, or
'help.start()' for an HTML browser interface to help.
Type 'q()' to quit R.
> library(testthat)
> test_check('MSGFplus')
Loading required package: MSGFplus
Attaching package: 'MSGFplus'
The following object is masked from 'package:testthat':
matches
══ testthat results ═══════════════════════════════════════════════════════════
OK: 169 SKIPPED: 0 FAILED: 0
>
> proc.time()
user system elapsed
2.000 0.130 2.188
MSGFplus.Rcheck/MSGFplus-Ex.timings
| name | user | system | elapsed | |
| chargeRange | 0.004 | 0.000 | 0.004 | |
| db | 0.070 | 0.001 | 0.071 | |
| enzyme | 0.011 | 0.001 | 0.011 | |
| fragmentation | 0.006 | 0.000 | 0.006 | |
| getMSGFpar | 0.008 | 0.001 | 0.009 | |
| instrument | 0.006 | 0.000 | 0.007 | |
| isotopeError | 0.003 | 0.001 | 0.003 | |
| lengthRange | 0.003 | 0.000 | 0.002 | |
| matches | 0.002 | 0.001 | 0.003 | |
| mods | 0.005 | 0.000 | 0.005 | |
| msgfAsync-class | 0.001 | 0.000 | 0.000 | |
| msgfPar-class | 0.029 | 0.000 | 0.032 | |
| msgfPar | 0.051 | 0.000 | 0.055 | |
| msgfParChargeRange-class | 0.001 | 0.000 | 0.001 | |
| msgfParEnzyme-class | 0.004 | 0.000 | 0.004 | |
| msgfParFragmentation-class | 0.004 | 0.001 | 0.004 | |
| msgfParFromID | 0.001 | 0.000 | 0.001 | |
| msgfParGUI | 0 | 0 | 0 | |
| msgfParInstrument-class | 0.003 | 0.001 | 0.002 | |
| msgfParIsotopeError-class | 0.001 | 0.000 | 0.001 | |
| msgfParLengthRange-class | 0.001 | 0.000 | 0.001 | |
| msgfParMatches-class | 0.001 | 0.000 | 0.001 | |
| msgfParModification-class | 0.001 | 0.000 | 0.002 | |
| msgfParModificationList-class | 0.005 | 0.000 | 0.005 | |
| msgfParNtt-class | 0.001 | 0.000 | 0.001 | |
| msgfParProtocol-class | 0.003 | 0.000 | 0.003 | |
| msgfParTda-class | 0.001 | 0.000 | 0.001 | |
| msgfParTolerance-class | 0.002 | 0.001 | 0.002 | |
| ntt | 0.002 | 0.000 | 0.003 | |
| protocol | 0.007 | 0.001 | 0.007 | |
| runMSGF | 0.001 | 0.000 | 0.001 | |
| tda | 0.004 | 0.000 | 0.004 | |
| tolerance | 0.003 | 0.000 | 0.004 | |