| Back to Multiple platform build/check report for BioC 3.6 |
|
This page was generated on 2018-04-12 13:25:04 -0400 (Thu, 12 Apr 2018).
| Package 900/1472 | Hostname | OS / Arch | INSTALL | BUILD | CHECK | BUILD BIN | ||||||
| MSGFplus 1.12.0 Thomas Lin Pedersen
| malbec1 | Linux (Ubuntu 16.04.1 LTS) / x86_64 | OK | OK | OK | |||||||
| tokay1 | Windows Server 2012 R2 Standard / x64 | OK | OK | [ OK ] | OK | |||||||
| veracruz1 | OS X 10.11.6 El Capitan / x86_64 | OK | OK | OK | OK |
| Package: MSGFplus |
| Version: 1.12.0 |
| Command: rm -rf MSGFplus.buildbin-libdir MSGFplus.Rcheck && mkdir MSGFplus.buildbin-libdir MSGFplus.Rcheck && C:\Users\biocbuild\bbs-3.6-bioc\R\bin\R.exe CMD INSTALL --build --merge-multiarch --library=MSGFplus.buildbin-libdir MSGFplus_1.12.0.tar.gz >MSGFplus.Rcheck\00install.out 2>&1 && cp MSGFplus.Rcheck\00install.out MSGFplus-install.out && C:\Users\biocbuild\bbs-3.6-bioc\R\bin\R.exe CMD check --library=MSGFplus.buildbin-libdir --install="check:MSGFplus-install.out" --force-multiarch --no-vignettes --timings MSGFplus_1.12.0.tar.gz |
| StartedAt: 2018-04-12 01:39:00 -0400 (Thu, 12 Apr 2018) |
| EndedAt: 2018-04-12 01:40:10 -0400 (Thu, 12 Apr 2018) |
| EllapsedTime: 70.4 seconds |
| RetCode: 0 |
| Status: OK |
| CheckDir: MSGFplus.Rcheck |
| Warnings: 0 |
############################################################################## ############################################################################## ### ### Running command: ### ### rm -rf MSGFplus.buildbin-libdir MSGFplus.Rcheck && mkdir MSGFplus.buildbin-libdir MSGFplus.Rcheck && C:\Users\biocbuild\bbs-3.6-bioc\R\bin\R.exe CMD INSTALL --build --merge-multiarch --library=MSGFplus.buildbin-libdir MSGFplus_1.12.0.tar.gz >MSGFplus.Rcheck\00install.out 2>&1 && cp MSGFplus.Rcheck\00install.out MSGFplus-install.out && C:\Users\biocbuild\bbs-3.6-bioc\R\bin\R.exe CMD check --library=MSGFplus.buildbin-libdir --install="check:MSGFplus-install.out" --force-multiarch --no-vignettes --timings MSGFplus_1.12.0.tar.gz ### ############################################################################## ############################################################################## * using log directory 'C:/Users/biocbuild/bbs-3.6-bioc/meat/MSGFplus.Rcheck' * using R version 3.4.4 (2018-03-15) * using platform: x86_64-w64-mingw32 (64-bit) * using session charset: ISO8859-1 * using option '--no-vignettes' * checking for file 'MSGFplus/DESCRIPTION' ... OK * checking extension type ... Package * this is package 'MSGFplus' version '1.12.0' * checking package namespace information ... OK * checking package dependencies ... OK * checking if this is a source package ... OK * checking if there is a namespace ... OK * checking for hidden files and directories ... OK * checking for portable file names ... OK * checking whether package 'MSGFplus' can be installed ... OK * checking installed package size ... OK * checking package directory ... OK * checking 'build' directory ... OK * checking DESCRIPTION meta-information ... OK * checking top-level files ... OK * checking for left-over files ... OK * checking index information ... OK * checking package subdirectories ... OK * checking R files for non-ASCII characters ... OK * checking R files for syntax errors ... OK * loading checks for arch 'i386' ** checking whether the package can be loaded ... OK ** checking whether the package can be loaded with stated dependencies ... OK ** checking whether the package can be unloaded cleanly ... OK ** checking whether the namespace can be loaded with stated dependencies ... OK ** checking whether the namespace can be unloaded cleanly ... OK * loading checks for arch 'x64' ** checking whether the package can be loaded ... OK ** checking whether the package can be loaded with stated dependencies ... OK ** checking whether the package can be unloaded cleanly ... OK ** checking whether the namespace can be loaded with stated dependencies ... OK ** checking whether the namespace can be unloaded cleanly ... OK * checking dependencies in R code ... NOTE Namespace in Imports field not imported from: 'ProtGenerics' All declared Imports should be used. * checking S3 generic/method consistency ... OK * checking replacement functions ... OK * checking foreign function calls ... OK * checking R code for possible problems ... OK * checking Rd files ... OK * checking Rd metadata ... OK * checking Rd cross-references ... OK * checking for missing documentation entries ... OK * checking for code/documentation mismatches ... OK * checking Rd \usage sections ... OK * checking Rd contents ... OK * checking for unstated dependencies in examples ... OK * checking installed files from 'inst/doc' ... OK * checking files in 'vignettes' ... OK * checking examples ... ** running examples for arch 'i386' ... OK ** running examples for arch 'x64' ... OK * checking for unstated dependencies in 'tests' ... OK * checking tests ... ** running tests for arch 'i386' ... Running 'test-all.R' OK ** running tests for arch 'x64' ... Running 'test-all.R' OK * checking for unstated dependencies in vignettes ... OK * checking package vignettes in 'inst/doc' ... OK * checking running R code from vignettes ... SKIPPED * checking re-building of vignette outputs ... SKIPPED * checking PDF version of manual ... OK * DONE Status: 1 NOTE See 'C:/Users/biocbuild/bbs-3.6-bioc/meat/MSGFplus.Rcheck/00check.log' for details.
MSGFplus.Rcheck/00install.out
install for i386
* installing *source* package 'MSGFplus' ...
** R
** inst
** preparing package for lazy loading
** help
*** installing help indices
converting help for package 'MSGFplus'
finding HTML links ... done
MSGFplus-package html
chargeRange html
db html
enzyme html
fragmentation html
getMSGFpar html
instrument html
isotopeError html
lengthRange html
matches html
mods html
msgfAsync-class html
msgfPar-class html
msgfPar html
msgfParChargeRange-class html
msgfParEnzyme-class html
msgfParFragmentation-class html
msgfParFromID html
msgfParGUI html
msgfParInstrument-class html
msgfParIsotopeError-class html
msgfParLengthRange-class html
msgfParMatches-class html
msgfParModification-class html
msgfParModificationList-class html
msgfParNtt-class html
msgfParProtocol-class html
msgfParTda-class html
msgfParTolerance-class html
ntt html
protocol html
runMSGF html
tda html
tolerance html
** building package indices
** installing vignettes
** testing if installed package can be loaded
In R CMD INSTALL
install for x64
* installing *source* package 'MSGFplus' ...
** testing if installed package can be loaded
* MD5 sums
packaged installation of 'MSGFplus' as MSGFplus_1.12.0.zip
* DONE (MSGFplus)
In R CMD INSTALL
In R CMD INSTALL
|
MSGFplus.Rcheck/tests_i386/test-all.Rout
R version 3.4.4 (2018-03-15) -- "Someone to Lean On"
Copyright (C) 2018 The R Foundation for Statistical Computing
Platform: i386-w64-mingw32/i386 (32-bit)
R is free software and comes with ABSOLUTELY NO WARRANTY.
You are welcome to redistribute it under certain conditions.
Type 'license()' or 'licence()' for distribution details.
R is a collaborative project with many contributors.
Type 'contributors()' for more information and
'citation()' on how to cite R or R packages in publications.
Type 'demo()' for some demos, 'help()' for on-line help, or
'help.start()' for an HTML browser interface to help.
Type 'q()' to quit R.
> library(testthat)
> test_check('MSGFplus')
Loading required package: MSGFplus
Attaching package: 'MSGFplus'
The following object is masked from 'package:testthat':
matches
== testthat results ===========================================================
OK: 169 SKIPPED: 0 FAILED: 0
>
> proc.time()
user system elapsed
1.40 0.01 2.07
|
MSGFplus.Rcheck/tests_x64/test-all.Rout
R version 3.4.4 (2018-03-15) -- "Someone to Lean On"
Copyright (C) 2018 The R Foundation for Statistical Computing
Platform: x86_64-w64-mingw32/x64 (64-bit)
R is free software and comes with ABSOLUTELY NO WARRANTY.
You are welcome to redistribute it under certain conditions.
Type 'license()' or 'licence()' for distribution details.
R is a collaborative project with many contributors.
Type 'contributors()' for more information and
'citation()' on how to cite R or R packages in publications.
Type 'demo()' for some demos, 'help()' for on-line help, or
'help.start()' for an HTML browser interface to help.
Type 'q()' to quit R.
> library(testthat)
> test_check('MSGFplus')
Loading required package: MSGFplus
Attaching package: 'MSGFplus'
The following object is masked from 'package:testthat':
matches
== testthat results ===========================================================
OK: 169 SKIPPED: 0 FAILED: 0
>
> proc.time()
user system elapsed
2.51 0.10 3.17
|
|
MSGFplus.Rcheck/examples_i386/MSGFplus-Ex.timings
|
MSGFplus.Rcheck/examples_x64/MSGFplus-Ex.timings
|