| Back to Multiple platform build/check report for BioC 3.6 |
|
This page was generated on 2018-04-12 13:26:38 -0400 (Thu, 12 Apr 2018).
| Package 653/1472 | Hostname | OS / Arch | INSTALL | BUILD | CHECK | BUILD BIN | ||||||
| HilbertCurve 1.9.1 Zuguang Gu
| malbec1 | Linux (Ubuntu 16.04.1 LTS) / x86_64 | OK | OK | OK | |||||||
| tokay1 | Windows Server 2012 R2 Standard / x64 | [ OK ] | OK | WARNINGS | OK | |||||||
| veracruz1 | OS X 10.11.6 El Capitan / x86_64 | OK | OK | OK | OK |
| Package: HilbertCurve |
| Version: 1.9.1 |
| Command: rm -rf HilbertCurve.buildbin-libdir && mkdir HilbertCurve.buildbin-libdir && C:\cygwin\bin\curl.exe -O https://malbec1.bioconductor.org/BBS/3.6/bioc/src/contrib/HilbertCurve_1.9.1.tar.gz && C:\Users\biocbuild\bbs-3.6-bioc\R\bin\R.exe CMD INSTALL --build --library=HilbertCurve.buildbin-libdir --merge-multiarch HilbertCurve_1.9.1.tar.gz && C:\Users\biocbuild\bbs-3.6-bioc\R\bin\R.exe CMD INSTALL HilbertCurve_1.9.1.zip && rm HilbertCurve_1.9.1.tar.gz HilbertCurve_1.9.1.zip |
| StartedAt: 2018-04-11 18:38:22 -0400 (Wed, 11 Apr 2018) |
| EndedAt: 2018-04-11 18:39:28 -0400 (Wed, 11 Apr 2018) |
| EllapsedTime: 65.3 seconds |
| RetCode: 0 |
| Status: OK |
##############################################################################
##############################################################################
###
### Running command:
###
### rm -rf HilbertCurve.buildbin-libdir && mkdir HilbertCurve.buildbin-libdir && C:\cygwin\bin\curl.exe -O https://malbec1.bioconductor.org/BBS/3.6/bioc/src/contrib/HilbertCurve_1.9.1.tar.gz && C:\Users\biocbuild\bbs-3.6-bioc\R\bin\R.exe CMD INSTALL --build --library=HilbertCurve.buildbin-libdir --merge-multiarch HilbertCurve_1.9.1.tar.gz && C:\Users\biocbuild\bbs-3.6-bioc\R\bin\R.exe CMD INSTALL HilbertCurve_1.9.1.zip && rm HilbertCurve_1.9.1.tar.gz HilbertCurve_1.9.1.zip
###
##############################################################################
##############################################################################
% Total % Received % Xferd Average Speed Time Time Time Current
Dload Upload Total Spent Left Speed
0 0 0 0 0 0 0 0 --:--:-- --:--:-- --:--:-- 0
100 5187k 100 5187k 0 0 68.2M 0 --:--:-- --:--:-- --:--:-- 71.3M
install for i386
* installing *source* package 'HilbertCurve' ...
** R
** inst
** preparing package for lazy loading
** help
*** installing help indices
converting help for package 'HilbertCurve'
finding HTML links ... done
GenomicHilbertCurve-class html
Rd warning: C:/Users/biocbuild/bbs-3.6-bioc/tmpdir/RtmpeEESTI/R.INSTALL12f085b5fbe/HilbertCurve/man/GenomicHilbertCurve-class.rd:30: missing file link 'GRanges'
GenomicHilbertCurve html
Rd warning: C:/Users/biocbuild/bbs-3.6-bioc/tmpdir/RtmpeEESTI/R.INSTALL12f085b5fbe/HilbertCurve/man/GenomicHilbertCurve.rd:17: missing file link 'GRanges'
HilbertCurve-class html
HilbertCurve html
Rd warning: C:/Users/biocbuild/bbs-3.6-bioc/tmpdir/RtmpeEESTI/R.INSTALL12f085b5fbe/HilbertCurve/man/HilbertCurve.rd:33: missing file link 'grob'
default_overlay html
hc_centered_text-HilbertCurve-method html
Rd warning: C:/Users/biocbuild/bbs-3.6-bioc/tmpdir/RtmpeEESTI/R.INSTALL12f085b5fbe/HilbertCurve/man/hc_centered_text-HilbertCurve-method.rd:16: missing file link 'IRanges'
hc_layer-GenomicHilbertCurve-method html
Rd warning: C:/Users/biocbuild/bbs-3.6-bioc/tmpdir/RtmpeEESTI/R.INSTALL12f085b5fbe/HilbertCurve/man/hc_layer-GenomicHilbertCurve-method.rd:17: missing file link 'GRanges'
hc_layer-HilbertCurve-method html
Rd warning: C:/Users/biocbuild/bbs-3.6-bioc/tmpdir/RtmpeEESTI/R.INSTALL12f085b5fbe/HilbertCurve/man/hc_layer-HilbertCurve-method.rd:17: missing file link 'IRanges'
hc_layer-dispatch html
hc_level-HilbertCurve-method html
hc_map-GenomicHilbertCurve-method html
hc_normal_points-HilbertCurve-method html
Rd warning: C:/Users/biocbuild/bbs-3.6-bioc/tmpdir/RtmpeEESTI/R.INSTALL12f085b5fbe/HilbertCurve/man/hc_normal_points-HilbertCurve-method.rd:17: missing file link 'IRanges'
hc_offset-HilbertCurve-method html
hc_png-HilbertCurve-method html
hc_points-GenomicHilbertCurve-method html
Rd warning: C:/Users/biocbuild/bbs-3.6-bioc/tmpdir/RtmpeEESTI/R.INSTALL12f085b5fbe/HilbertCurve/man/hc_points-GenomicHilbertCurve-method.rd:18: missing file link 'GRanges'
hc_points-HilbertCurve-method html
Rd warning: C:/Users/biocbuild/bbs-3.6-bioc/tmpdir/RtmpeEESTI/R.INSTALL12f085b5fbe/HilbertCurve/man/hc_points-HilbertCurve-method.rd:18: missing file link 'IRanges'
hc_points-dispatch html
hc_polygon-GenomicHilbertCurve-method html
Rd warning: C:/Users/biocbuild/bbs-3.6-bioc/tmpdir/RtmpeEESTI/R.INSTALL12f085b5fbe/HilbertCurve/man/hc_polygon-GenomicHilbertCurve-method.rd:16: missing file link 'GRanges'
hc_polygon-HilbertCurve-method html
Rd warning: C:/Users/biocbuild/bbs-3.6-bioc/tmpdir/RtmpeEESTI/R.INSTALL12f085b5fbe/HilbertCurve/man/hc_polygon-HilbertCurve-method.rd:17: missing file link 'IRanges'
hc_polygon-dispatch html
hc_rect-GenomicHilbertCurve-method html
Rd warning: C:/Users/biocbuild/bbs-3.6-bioc/tmpdir/RtmpeEESTI/R.INSTALL12f085b5fbe/HilbertCurve/man/hc_rect-GenomicHilbertCurve-method.rd:16: missing file link 'GRanges'
hc_rect-HilbertCurve-method html
Rd warning: C:/Users/biocbuild/bbs-3.6-bioc/tmpdir/RtmpeEESTI/R.INSTALL12f085b5fbe/HilbertCurve/man/hc_rect-HilbertCurve-method.rd:17: missing file link 'IRanges'
hc_rect-dispatch html
hc_segmented_points-HilbertCurve-method
html
Rd warning: C:/Users/biocbuild/bbs-3.6-bioc/tmpdir/RtmpeEESTI/R.INSTALL12f085b5fbe/HilbertCurve/man/hc_segmented_points-HilbertCurve-method.rd:19: missing file link 'IRanges'
hc_segments-GenomicHilbertCurve-method
html
Rd warning: C:/Users/biocbuild/bbs-3.6-bioc/tmpdir/RtmpeEESTI/R.INSTALL12f085b5fbe/HilbertCurve/man/hc_segments-GenomicHilbertCurve-method.rd:15: missing file link 'GRanges'
hc_segments-HilbertCurve-method html
Rd warning: C:/Users/biocbuild/bbs-3.6-bioc/tmpdir/RtmpeEESTI/R.INSTALL12f085b5fbe/HilbertCurve/man/hc_segments-HilbertCurve-method.rd:16: missing file link 'IRanges'
hc_segments-dispatch html
hc_text-GenomicHilbertCurve-method html
Rd warning: C:/Users/biocbuild/bbs-3.6-bioc/tmpdir/RtmpeEESTI/R.INSTALL12f085b5fbe/HilbertCurve/man/hc_text-GenomicHilbertCurve-method.rd:15: missing file link 'GRanges'
hc_text-HilbertCurve-method html
Rd warning: C:/Users/biocbuild/bbs-3.6-bioc/tmpdir/RtmpeEESTI/R.INSTALL12f085b5fbe/HilbertCurve/man/hc_text-HilbertCurve-method.rd:15: missing file link 'IRanges'
hc_text-dispatch html
show-HilbertCurve-method html
unzoom-HilbertCurve-method html
zoom-HilbertCurve-method html
** building package indices
** installing vignettes
'HilbertCurve.Rmd'
** testing if installed package can be loaded
In R CMD INSTALL
install for x64
* installing *source* package 'HilbertCurve' ...
** testing if installed package can be loaded
* MD5 sums
packaged installation of 'HilbertCurve' as HilbertCurve_1.9.1.zip
* DONE (HilbertCurve)
In R CMD INSTALL
In R CMD INSTALL
* installing to library 'C:/Users/biocbuild/bbs-3.6-bioc/R/library'
package 'HilbertCurve' successfully unpacked and MD5 sums checked
In R CMD INSTALL