| Back to Multiple platform build/check report for BioC 3.6 |
|
This page was generated on 2018-04-10 14:33:28 -0400 (Tue, 10 Apr 2018).
| Package 18/1472 | Hostname | OS / Arch | INSTALL | BUILD | CHECK | BUILD BIN | ||||||
| AffyCompatible 1.38.0 Martin Morgan
| malbec1 | Linux (Ubuntu 16.04.1 LTS) / x86_64 | OK | OK | OK | |||||||
| tokay1 | Windows Server 2012 R2 Standard / x64 | OK | OK | [ OK ] | OK | |||||||
| veracruz1 | OS X 10.11.6 El Capitan / x86_64 | OK | OK | OK | OK |
| Package: AffyCompatible |
| Version: 1.38.0 |
| Command: rm -rf AffyCompatible.buildbin-libdir AffyCompatible.Rcheck && mkdir AffyCompatible.buildbin-libdir AffyCompatible.Rcheck && C:\Users\biocbuild\bbs-3.6-bioc\R\bin\R.exe CMD INSTALL --build --merge-multiarch --library=AffyCompatible.buildbin-libdir AffyCompatible_1.38.0.tar.gz >AffyCompatible.Rcheck\00install.out 2>&1 && cp AffyCompatible.Rcheck\00install.out AffyCompatible-install.out && C:\Users\biocbuild\bbs-3.6-bioc\R\bin\R.exe CMD check --library=AffyCompatible.buildbin-libdir --install="check:AffyCompatible-install.out" --force-multiarch --no-vignettes --timings AffyCompatible_1.38.0.tar.gz |
| StartedAt: 2018-04-09 22:12:54 -0400 (Mon, 09 Apr 2018) |
| EndedAt: 2018-04-09 22:17:05 -0400 (Mon, 09 Apr 2018) |
| EllapsedTime: 251.8 seconds |
| RetCode: 0 |
| Status: OK |
| CheckDir: AffyCompatible.Rcheck |
| Warnings: 0 |
##############################################################################
##############################################################################
###
### Running command:
###
### rm -rf AffyCompatible.buildbin-libdir AffyCompatible.Rcheck && mkdir AffyCompatible.buildbin-libdir AffyCompatible.Rcheck && C:\Users\biocbuild\bbs-3.6-bioc\R\bin\R.exe CMD INSTALL --build --merge-multiarch --library=AffyCompatible.buildbin-libdir AffyCompatible_1.38.0.tar.gz >AffyCompatible.Rcheck\00install.out 2>&1 && cp AffyCompatible.Rcheck\00install.out AffyCompatible-install.out && C:\Users\biocbuild\bbs-3.6-bioc\R\bin\R.exe CMD check --library=AffyCompatible.buildbin-libdir --install="check:AffyCompatible-install.out" --force-multiarch --no-vignettes --timings AffyCompatible_1.38.0.tar.gz
###
##############################################################################
##############################################################################
* using log directory 'C:/Users/biocbuild/bbs-3.6-bioc/meat/AffyCompatible.Rcheck'
* using R version 3.4.4 (2018-03-15)
* using platform: x86_64-w64-mingw32 (64-bit)
* using session charset: ISO8859-1
* using option '--no-vignettes'
* checking for file 'AffyCompatible/DESCRIPTION' ... OK
* checking extension type ... Package
* this is package 'AffyCompatible' version '1.38.0'
* checking package namespace information ... OK
* checking package dependencies ... OK
* checking if this is a source package ... OK
* checking if there is a namespace ... OK
* checking for hidden files and directories ... OK
* checking for portable file names ... OK
* checking whether package 'AffyCompatible' can be installed ... OK
* checking installed package size ... OK
* checking package directory ... OK
* checking 'build' directory ... OK
* checking DESCRIPTION meta-information ... OK
* checking top-level files ... OK
* checking for left-over files ... OK
* checking index information ... OK
* checking package subdirectories ... OK
* checking R files for non-ASCII characters ... OK
* checking R files for syntax errors ... OK
* loading checks for arch 'i386'
** checking whether the package can be loaded ... OK
** checking whether the package can be loaded with stated dependencies ... OK
** checking whether the package can be unloaded cleanly ... OK
** checking whether the namespace can be loaded with stated dependencies ... OK
** checking whether the namespace can be unloaded cleanly ... OK
* loading checks for arch 'x64'
** checking whether the package can be loaded ... OK
** checking whether the package can be loaded with stated dependencies ... OK
** checking whether the package can be unloaded cleanly ... OK
** checking whether the namespace can be loaded with stated dependencies ... OK
** checking whether the namespace can be unloaded cleanly ... OK
* checking dependencies in R code ... OK
* checking S3 generic/method consistency ... OK
* checking replacement functions ... OK
* checking foreign function calls ... OK
* checking R code for possible problems ... OK
* checking Rd files ... OK
* checking Rd metadata ... OK
* checking Rd cross-references ... OK
* checking for missing documentation entries ... OK
* checking for code/documentation mismatches ... OK
* checking Rd \usage sections ... OK
* checking Rd contents ... OK
* checking for unstated dependencies in examples ... OK
* checking R/sysdata.rda ... OK
* checking installed files from 'inst/doc' ... OK
* checking files in 'vignettes' ... OK
* checking examples ...
** running examples for arch 'i386' ... OK
Examples with CPU or elapsed time > 5s
user system elapsed
NetAffxResource-class 9.08 0.36 13.39
** running examples for arch 'x64' ... OK
Examples with CPU or elapsed time > 5s
user system elapsed
NetAffxResource-class 7.58 0.2 9.73
* checking for unstated dependencies in vignettes ... OK
* checking package vignettes in 'inst/doc' ... OK
* checking running R code from vignettes ... SKIPPED
* checking re-building of vignette outputs ... SKIPPED
* checking PDF version of manual ... OK
* DONE
Status: OK
AffyCompatible.Rcheck/00install.out
install for i386
* installing *source* package 'AffyCompatible' ...
** R
** inst
** preparing package for lazy loading
** help
*** installing help indices
converting help for package 'AffyCompatible'
finding HTML links ... done
AffyCompatible-class html
AffyCompatible-package html
NetAffxResource-class html
NetAffxResource html
accessors-NetAffxResource html
readArr html
readMage html
readNetAffx html
readXml html
xclass html
zzz-.TypedAssociation-class html
zzz-ARRCompatibility-class html
zzz-DTTCompatibility-class html
zzz-NetAffxCompatibility-class html
zzz html
** building package indices
** installing vignettes
** testing if installed package can be loaded
In R CMD INSTALL
install for x64
* installing *source* package 'AffyCompatible' ...
** testing if installed package can be loaded
* MD5 sums
packaged installation of 'AffyCompatible' as AffyCompatible_1.38.0.zip
* DONE (AffyCompatible)
In R CMD INSTALL
In R CMD INSTALL
|
AffyCompatible.Rcheck/examples_i386/AffyCompatible-Ex.timings
|
AffyCompatible.Rcheck/examples_x64/AffyCompatible-Ex.timings
|