| Back to Multiple platform build/check report for BioC 3.6 |
|
This page was generated on 2018-04-12 13:19:12 -0400 (Thu, 12 Apr 2018).
| Package 18/1472 | Hostname | OS / Arch | INSTALL | BUILD | CHECK | BUILD BIN | ||||||
| AffyCompatible 1.38.0 Martin Morgan
| malbec1 | Linux (Ubuntu 16.04.1 LTS) / x86_64 | OK | OK | OK | |||||||
| tokay1 | Windows Server 2012 R2 Standard / x64 | [ OK ] | ERROR | skipped | skipped | |||||||
| veracruz1 | OS X 10.11.6 El Capitan / x86_64 | OK | OK | OK | OK |
| Package: AffyCompatible |
| Version: 1.38.0 |
| Command: rm -rf AffyCompatible.buildbin-libdir && mkdir AffyCompatible.buildbin-libdir && C:\cygwin\bin\curl.exe -O https://malbec1.bioconductor.org/BBS/3.6/bioc/src/contrib/AffyCompatible_1.38.0.tar.gz && C:\Users\biocbuild\bbs-3.6-bioc\R\bin\R.exe CMD INSTALL --build --library=AffyCompatible.buildbin-libdir --merge-multiarch AffyCompatible_1.38.0.tar.gz && C:\Users\biocbuild\bbs-3.6-bioc\R\bin\R.exe CMD INSTALL AffyCompatible_1.38.0.zip && rm AffyCompatible_1.38.0.tar.gz AffyCompatible_1.38.0.zip |
| StartedAt: 2018-04-11 18:33:40 -0400 (Wed, 11 Apr 2018) |
| EndedAt: 2018-04-11 18:34:50 -0400 (Wed, 11 Apr 2018) |
| EllapsedTime: 70.2 seconds |
| RetCode: 0 |
| Status: OK |
##############################################################################
##############################################################################
###
### Running command:
###
### rm -rf AffyCompatible.buildbin-libdir && mkdir AffyCompatible.buildbin-libdir && C:\cygwin\bin\curl.exe -O https://malbec1.bioconductor.org/BBS/3.6/bioc/src/contrib/AffyCompatible_1.38.0.tar.gz && C:\Users\biocbuild\bbs-3.6-bioc\R\bin\R.exe CMD INSTALL --build --library=AffyCompatible.buildbin-libdir --merge-multiarch AffyCompatible_1.38.0.tar.gz && C:\Users\biocbuild\bbs-3.6-bioc\R\bin\R.exe CMD INSTALL AffyCompatible_1.38.0.zip && rm AffyCompatible_1.38.0.tar.gz AffyCompatible_1.38.0.zip
###
##############################################################################
##############################################################################
% Total % Received % Xferd Average Speed Time Time Time Current
Dload Upload Total Spent Left Speed
0 0 0 0 0 0 0 0 --:--:-- --:--:-- --:--:-- 0
100 74420 100 74420 0 0 2998k 0 --:--:-- --:--:-- --:--:-- 3460k
install for i386
* installing *source* package 'AffyCompatible' ...
** R
** inst
** preparing package for lazy loading
** help
*** installing help indices
converting help for package 'AffyCompatible'
finding HTML links ... done
AffyCompatible-class html
AffyCompatible-package html
NetAffxResource-class html
NetAffxResource html
accessors-NetAffxResource html
readArr html
readMage html
readNetAffx html
readXml html
xclass html
zzz-.TypedAssociation-class html
zzz-ARRCompatibility-class html
zzz-DTTCompatibility-class html
zzz-NetAffxCompatibility-class html
zzz html
** building package indices
** installing vignettes
** testing if installed package can be loaded
In R CMD INSTALL
install for x64
* installing *source* package 'AffyCompatible' ...
** testing if installed package can be loaded
* MD5 sums
packaged installation of 'AffyCompatible' as AffyCompatible_1.38.0.zip
* DONE (AffyCompatible)
In R CMD INSTALL
In R CMD INSTALL
* installing to library 'C:/Users/biocbuild/bbs-3.6-bioc/R/library'
package 'AffyCompatible' successfully unpacked and MD5 sums checked
In R CMD INSTALL