| Back to Multiple platform build/check report for BioC 3.6 |
|
This page was generated on 2018-04-12 13:32:47 -0400 (Thu, 12 Apr 2018).
| Package 18/1472 | Hostname | OS / Arch | INSTALL | BUILD | CHECK | BUILD BIN | ||||||
| AffyCompatible 1.38.0 Martin Morgan
| malbec1 | Linux (Ubuntu 16.04.1 LTS) / x86_64 | OK | OK | OK | |||||||
| tokay1 | Windows Server 2012 R2 Standard / x64 | OK | ERROR | skipped | skipped | |||||||
| veracruz1 | OS X 10.11.6 El Capitan / x86_64 | OK | OK | [ OK ] | OK |
| Package: AffyCompatible |
| Version: 1.38.0 |
| Command: /Library/Frameworks/R.framework/Versions/Current/Resources/bin/R CMD check --no-vignettes --timings AffyCompatible_1.38.0.tar.gz |
| StartedAt: 2018-04-12 00:10:26 -0400 (Thu, 12 Apr 2018) |
| EndedAt: 2018-04-12 00:12:35 -0400 (Thu, 12 Apr 2018) |
| EllapsedTime: 128.9 seconds |
| RetCode: 0 |
| Status: OK |
| CheckDir: AffyCompatible.Rcheck |
| Warnings: 0 |
##############################################################################
##############################################################################
###
### Running command:
###
### /Library/Frameworks/R.framework/Versions/Current/Resources/bin/R CMD check --no-vignettes --timings AffyCompatible_1.38.0.tar.gz
###
##############################################################################
##############################################################################
* using log directory ‘/Users/biocbuild/bbs-3.6-bioc/meat/AffyCompatible.Rcheck’
* using R version 3.4.4 (2018-03-15)
* using platform: x86_64-apple-darwin15.6.0 (64-bit)
* using session charset: UTF-8
* using option ‘--no-vignettes’
* checking for file ‘AffyCompatible/DESCRIPTION’ ... OK
* checking extension type ... Package
* this is package ‘AffyCompatible’ version ‘1.38.0’
* checking package namespace information ... OK
* checking package dependencies ... OK
* checking if this is a source package ... OK
* checking if there is a namespace ... OK
* checking for hidden files and directories ... OK
* checking for portable file names ... OK
* checking for sufficient/correct file permissions ... OK
* checking whether package ‘AffyCompatible’ can be installed ... OK
* checking installed package size ... OK
* checking package directory ... OK
* checking ‘build’ directory ... OK
* checking DESCRIPTION meta-information ... OK
* checking top-level files ... OK
* checking for left-over files ... OK
* checking index information ... OK
* checking package subdirectories ... OK
* checking R files for non-ASCII characters ... OK
* checking R files for syntax errors ... OK
* checking whether the package can be loaded ... OK
* checking whether the package can be loaded with stated dependencies ... OK
* checking whether the package can be unloaded cleanly ... OK
* checking whether the namespace can be loaded with stated dependencies ... OK
* checking whether the namespace can be unloaded cleanly ... OK
* checking dependencies in R code ... OK
* checking S3 generic/method consistency ... OK
* checking replacement functions ... OK
* checking foreign function calls ... OK
* checking R code for possible problems ... OK
* checking Rd files ... OK
* checking Rd metadata ... OK
* checking Rd cross-references ... OK
* checking for missing documentation entries ... OK
* checking for code/documentation mismatches ... OK
* checking Rd \usage sections ... OK
* checking Rd contents ... OK
* checking for unstated dependencies in examples ... OK
* checking R/sysdata.rda ... OK
* checking sizes of PDF files under ‘inst/doc’ ... OK
* checking installed files from ‘inst/doc’ ... OK
* checking files in ‘vignettes’ ... OK
* checking examples ... OK
Examples with CPU or elapsed time > 5s
user system elapsed
NetAffxResource-class 8.81 0.208 12.488
* checking for unstated dependencies in vignettes ... OK
* checking package vignettes in ‘inst/doc’ ... OK
* checking running R code from vignettes ... SKIPPED
* checking re-building of vignette outputs ... SKIPPED
* checking PDF version of manual ... OK
* DONE
Status: OK
AffyCompatible.Rcheck/00install.out
* installing *source* package ‘AffyCompatible’ ... ** R ** inst ** preparing package for lazy loading ** help *** installing help indices ** building package indices ** installing vignettes ** testing if installed package can be loaded * DONE (AffyCompatible)
AffyCompatible.Rcheck/AffyCompatible-Ex.timings
| name | user | system | elapsed | |
| AffyCompatible-class | 0.002 | 0.001 | 0.002 | |
| NetAffxResource-class | 8.810 | 0.208 | 12.488 | |
| readArr | 0.277 | 0.021 | 0.307 | |
| readMage | 1.054 | 0.022 | 1.116 | |
| readNetAffx | 0 | 0 | 0 | |
| readXml | 0.045 | 0.000 | 0.045 | |
| xclass | 0.080 | 0.003 | 0.085 | |
| zzz-ARRCompatibility-class | 0.002 | 0.000 | 0.003 | |
| zzz-DTTCompatibility-class | 0.048 | 0.014 | 0.062 | |
| zzz-NetAffxCompatibility-class | 0.001 | 0.000 | 0.002 | |