DAPAR 1.7.7 Samuel Wieczorek
 | Snapshot Date: 2017-03-03 17:15:47 -0500 (Fri, 03 Mar 2017) |  | URL: https://hedgehog.fhcrc.org/bioconductor/trunk/madman/Rpacks/DAPAR |  | Last Changed Rev: 126016 / Revision: 127142 |  | Last Changed Date: 2017-01-19 04:57:23 -0500 (Thu, 19 Jan 2017) |  
  | malbec2  | Linux (Ubuntu 16.04.1 LTS) / x86_64  |  OK  |  OK  |  WARNINGS  |  |   | 
| tokay2  | Windows Server 2012 R2 Standard / x64  |  OK  |  OK  |  WARNINGS  |  OK  |   | 
| toluca2  | Mac OS X Mavericks (10.9.5) / x86_64  |  OK  |  OK  |  WARNINGS  |  OK  |   | 
| oaxaca  | Mac OS X Mavericks (10.9.5) / x86_64  |  OK  | [ OK ] |  WARNINGS  |  OK  |  | 
##############################################################################
##############################################################################
###
### Running command:
###
###   /Library/Frameworks/R.framework/Versions/Current/Resources/bin/R CMD build --keep-empty-dirs --no-resave-data DAPAR
###
##############################################################################
##############################################################################
* checking for file ‘DAPAR/DESCRIPTION’ ... OK
* preparing ‘DAPAR’:
* checking DESCRIPTION meta-information ... OK
* installing the package to build vignettes
* creating vignettes ... OK
Warning: ‘inst/doc’ files
    ‘Prostar_UserManual.pdf’, ‘UPSprotx2.pdf’, ‘intro.pdf’,  ‘Prostar_UserManual.R’
  ignored as vignettes have been rebuilt.
  Run R CMD build with --no-build-vignettes to prevent rebuilding.
* checking for LF line-endings in source and make files
* checking for empty or unneeded directories
* looking to see if a ‘data/datalist’ file should be added
* building ‘DAPAR_1.7.7.tar.gz’