DAPAR 1.7.23 Samuel Wieczorek
 | Snapshot Date: 2017-04-22 17:18:01 -0400 (Sat, 22 Apr 2017) |  | URL: https://hedgehog.fhcrc.org/bioconductor/trunk/madman/Rpacks/DAPAR |  | Last Changed Rev: 128755 / Revision: 129046 |  | Last Changed Date: 2017-04-16 12:36:52 -0400 (Sun, 16 Apr 2017) |  
  | malbec2  | Linux (Ubuntu 16.04.1 LTS) / x86_64  |  OK  |  OK  |  WARNINGS  |  |   | 
| tokay2  | Windows Server 2012 R2 Standard / x64  |  OK  |  OK  |  WARNINGS  |  OK  |   | 
| toluca2  | Mac OS X Mavericks (10.9.5) / x86_64  |  OK  | [ OK ] |  WARNINGS  |  OK  |  | 
| veracruz2  | OS X 10.11.6 El Capitan / x86_64  |  OK  |  OK  |  WARNINGS  |  OK  |   | 
##############################################################################
##############################################################################
###
### Running command:
###
###   /Library/Frameworks/R.framework/Versions/Current/Resources/bin/R CMD build --keep-empty-dirs --no-resave-data DAPAR
###
##############################################################################
##############################################################################
* checking for file ‘DAPAR/DESCRIPTION’ ... OK
* preparing ‘DAPAR’:
* checking DESCRIPTION meta-information ... OK
* installing the package to build vignettes
* creating vignettes ... OK
Warning: ‘inst/doc’ files
    ‘Prostar_UserManual.pdf’, ‘intro.pdf’, ‘Prostar_UserManual.R’
  ignored as vignettes have been rebuilt.
  Run R CMD build with --no-build-vignettes to prevent rebuilding.
* checking for LF line-endings in source and make files
* checking for empty or unneeded directories
WARNING: directory ‘DAPAR/inst/extdata’ is empty
* looking to see if a ‘data/datalist’ file should be added
* building ‘DAPAR_1.7.23.tar.gz’