| Back to the "Multiple platform build/check report" | A B [C] D E F G H I J K L M N O P Q R S T U V W X Y Z |
This page was generated on 2017-08-16 13:33:04 -0400 (Wed, 16 Aug 2017).
| Package 268/1382 | Hostname | OS / Arch | INSTALL | BUILD | CHECK | BUILD BIN | |||||
| ComplexHeatmap 1.14.0 Zuguang Gu
| malbec2 | Linux (Ubuntu 16.04.1 LTS) / x86_64 | OK | OK | OK | ||||||
| tokay2 | Windows Server 2012 R2 Standard / x64 | OK | OK | OK | OK | ||||||
| veracruz2 | OS X 10.11.6 El Capitan / x86_64 | OK | OK | [ OK ] | OK |
| Package: ComplexHeatmap |
| Version: 1.14.0 |
| Command: /Library/Frameworks/R.framework/Versions/Current/Resources/bin/R CMD check --no-vignettes --timings ComplexHeatmap_1.14.0.tar.gz |
| StartedAt: 2017-08-16 01:20:51 -0400 (Wed, 16 Aug 2017) |
| EndedAt: 2017-08-16 01:22:58 -0400 (Wed, 16 Aug 2017) |
| EllapsedTime: 126.4 seconds |
| RetCode: 0 |
| Status: OK |
| CheckDir: ComplexHeatmap.Rcheck |
| Warnings: 0 |
##############################################################################
##############################################################################
###
### Running command:
###
### /Library/Frameworks/R.framework/Versions/Current/Resources/bin/R CMD check --no-vignettes --timings ComplexHeatmap_1.14.0.tar.gz
###
##############################################################################
##############################################################################
* using log directory ‘/Users/biocbuild/bbs-3.5-bioc/meat/ComplexHeatmap.Rcheck’
* using R version 3.4.1 (2017-06-30)
* using platform: x86_64-apple-darwin15.6.0 (64-bit)
* using session charset: UTF-8
* using option ‘--no-vignettes’
* checking for file ‘ComplexHeatmap/DESCRIPTION’ ... OK
* checking extension type ... Package
* this is package ‘ComplexHeatmap’ version ‘1.14.0’
* checking package namespace information ... OK
* checking package dependencies ... OK
* checking if this is a source package ... OK
* checking if there is a namespace ... OK
* checking for hidden files and directories ... OK
* checking for portable file names ... OK
* checking for sufficient/correct file permissions ... OK
* checking whether package ‘ComplexHeatmap’ can be installed ... OK
* checking installed package size ... NOTE
installed size is 7.3Mb
sub-directories of 1Mb or more:
doc 5.9Mb
* checking package directory ... OK
* checking ‘build’ directory ... OK
* checking DESCRIPTION meta-information ... OK
* checking top-level files ... OK
* checking for left-over files ... OK
* checking index information ... OK
* checking package subdirectories ... OK
* checking R files for non-ASCII characters ... OK
* checking R files for syntax errors ... OK
* checking whether the package can be loaded ... OK
* checking whether the package can be loaded with stated dependencies ... OK
* checking whether the package can be unloaded cleanly ... OK
* checking whether the namespace can be loaded with stated dependencies ... OK
* checking whether the namespace can be unloaded cleanly ... OK
* checking dependencies in R code ... OK
* checking S3 generic/method consistency ... OK
* checking replacement functions ... OK
* checking foreign function calls ... OK
* checking R code for possible problems ... OK
* checking Rd files ... OK
* checking Rd metadata ... OK
* checking Rd cross-references ... OK
* checking for missing documentation entries ... OK
* checking for code/documentation mismatches ... OK
* checking Rd \usage sections ... OK
* checking Rd contents ... OK
* checking for unstated dependencies in examples ... OK
* checking installed files from ‘inst/doc’ ... OK
* checking files in ‘vignettes’ ... OK
* checking examples ... OK
Examples with CPU or elapsed time > 5s
user system elapsed
Heatmap 15.836 0.104 16.18
* checking for unstated dependencies in ‘tests’ ... OK
* checking tests ...
Running ‘test-all.R’
OK
* checking for unstated dependencies in vignettes ... OK
* checking package vignettes in ‘inst/doc’ ... OK
* checking running R code from vignettes ... SKIPPED
* checking re-building of vignette outputs ... SKIPPED
* checking PDF version of manual ... OK
* DONE
Status: 1 NOTE
See
‘/Users/biocbuild/bbs-3.5-bioc/meat/ComplexHeatmap.Rcheck/00check.log’
for details.
ComplexHeatmap.Rcheck/00install.out:
* installing *source* package ‘ComplexHeatmap’ ... ** R ** inst ** preparing package for lazy loading ** help *** installing help indices ** building package indices ** installing vignettes ** testing if installed package can be loaded * DONE (ComplexHeatmap)
ComplexHeatmap.Rcheck/ComplexHeatmap-Ex.timings:
| name | user | system | elapsed | |
| AdditiveUnit-class | 0.000 | 0.000 | 0.001 | |
| AdditiveUnit | 0.000 | 0.000 | 0.001 | |
| ColorMapping-class | 0 | 0 | 0 | |
| ColorMapping | 0.092 | 0.001 | 0.095 | |
| ComplexHeatmap-package | 0.000 | 0.000 | 0.001 | |
| Heatmap-class | 0 | 0 | 0 | |
| Heatmap | 15.836 | 0.104 | 16.180 | |
| HeatmapAnnotation-class | 0.000 | 0.000 | 0.001 | |
| HeatmapAnnotation | 0.166 | 0.001 | 0.168 | |
| HeatmapList-class | 3.972 | 0.010 | 4.088 | |
| HeatmapList | 0.000 | 0.000 | 0.001 | |
| Legend | 0.000 | 0.000 | 0.001 | |
| SingleAnnotation-class | 0.001 | 0.000 | 0.001 | |
| SingleAnnotation | 0.095 | 0.001 | 0.097 | |
| add.AdditiveUnit | 4.594 | 0.014 | 4.726 | |
| add_heatmap-Heatmap-method | 1.143 | 0.003 | 1.186 | |
| add_heatmap-HeatmapAnnotation-method | 0.374 | 0.002 | 0.389 | |
| add_heatmap-HeatmapList-method | 1.949 | 0.018 | 1.997 | |
| add_heatmap-dispatch | 0.000 | 0.000 | 0.001 | |
| anno_barplot | 0.166 | 0.001 | 0.182 | |
| anno_boxplot | 0.266 | 0.002 | 0.285 | |
| anno_density | 0.376 | 0.004 | 0.388 | |
| anno_histogram | 0.166 | 0.001 | 0.170 | |
| anno_link | 1.614 | 0.015 | 1.680 | |
| anno_oncoprint_barplot | 0.001 | 0.000 | 0.001 | |
| anno_points | 0.023 | 0.002 | 0.027 | |
| anno_text | 0.279 | 0.001 | 0.300 | |
| annotation_legend_size-HeatmapList-method | 0.000 | 0.000 | 0.001 | |
| color_mapping_legend-ColorMapping-method | 0.180 | 0.002 | 0.186 | |
| columnAnnotation | 0.014 | 0.000 | 0.015 | |
| column_anno_barplot | 0.001 | 0.001 | 0.001 | |
| column_anno_boxplot | 0.001 | 0.000 | 0.001 | |
| column_anno_density | 0.000 | 0.000 | 0.001 | |
| column_anno_histogram | 0.000 | 0.000 | 0.001 | |
| column_anno_link | 0 | 0 | 0 | |
| column_anno_points | 0.001 | 0.000 | 0.001 | |
| column_anno_text | 0 | 0 | 0 | |
| column_dend-Heatmap-method | 0.076 | 0.001 | 0.081 | |
| column_dend-HeatmapList-method | 0.345 | 0.001 | 0.368 | |
| column_dend-dispatch | 0.001 | 0.000 | 0.000 | |
| column_order-Heatmap-method | 0.068 | 0.000 | 0.069 | |
| column_order-HeatmapList-method | 0.221 | 0.001 | 0.234 | |
| column_order-dispatch | 0.001 | 0.000 | 0.000 | |
| component_height-Heatmap-method | 0.000 | 0.000 | 0.001 | |
| component_height-HeatmapList-method | 0.001 | 0.000 | 0.001 | |
| component_height-dispatch | 0.000 | 0.000 | 0.001 | |
| component_width-Heatmap-method | 0.000 | 0.000 | 0.001 | |
| component_width-HeatmapList-method | 0.001 | 0.000 | 0.001 | |
| component_width-dispatch | 0 | 0 | 0 | |
| decorate_annotation | 0.583 | 0.001 | 0.602 | |
| decorate_column_dend | 0.001 | 0.000 | 0.001 | |
| decorate_column_names | 0.001 | 0.000 | 0.001 | |
| decorate_column_title | 0.001 | 0.000 | 0.001 | |
| decorate_dend | 0.301 | 0.001 | 0.308 | |
| decorate_dimnames | 0.360 | 0.001 | 0.370 | |
| decorate_heatmap_body | 0.243 | 0.000 | 0.258 | |
| decorate_row_dend | 0.001 | 0.000 | 0.000 | |
| decorate_row_names | 0 | 0 | 0 | |
| decorate_row_title | 0.001 | 0.000 | 0.001 | |
| decorate_title | 0.274 | 0.001 | 0.278 | |
| densityHeatmap | 3.863 | 0.016 | 3.978 | |
| dist2 | 0.035 | 0.000 | 0.035 | |
| draw-Heatmap-method | 0.376 | 0.001 | 0.386 | |
| draw-HeatmapAnnotation-method | 0.164 | 0.003 | 0.175 | |
| draw-HeatmapList-method | 1.418 | 0.013 | 1.453 | |
| draw-SingleAnnotation-method | 0.136 | 0.005 | 0.144 | |
| draw-dispatch | 0.001 | 0.000 | 0.001 | |
| draw_annotation-Heatmap-method | 0.001 | 0.000 | 0.001 | |
| draw_annotation_legend-HeatmapList-method | 0.001 | 0.000 | 0.001 | |
| draw_dend-Heatmap-method | 0.000 | 0.000 | 0.001 | |
| draw_dimnames-Heatmap-method | 0.001 | 0.000 | 0.000 | |
| draw_heatmap_body-Heatmap-method | 0.004 | 0.000 | 0.005 | |
| draw_heatmap_legend-HeatmapList-method | 0.000 | 0.000 | 0.001 | |
| draw_heatmap_list-HeatmapList-method | 0 | 0 | 0 | |
| draw_title-Heatmap-method | 0.001 | 0.000 | 0.001 | |
| draw_title-HeatmapList-method | 0.001 | 0.000 | 0.001 | |
| draw_title-dispatch | 0.001 | 0.000 | 0.001 | |
| enhanced_basicplot | 1.166 | 0.004 | 1.207 | |
| get_color_mapping_list-HeatmapAnnotation-method | 0.000 | 0.000 | 0.001 | |
| get_color_mapping_param_list-HeatmapAnnotation-method | 0.000 | 0.000 | 0.001 | |
| grid.dendrogram | 0.024 | 0.001 | 0.024 | |
| heatmap_legend_size-HeatmapList-method | 0 | 0 | 0 | |
| ht_global_opt | 0 | 0 | 0 | |
| is_abs_unit | 0.002 | 0.000 | 0.002 | |
| make_column_cluster-Heatmap-method | 0.001 | 0.000 | 0.001 | |
| make_layout-Heatmap-method | 0.000 | 0.000 | 0.001 | |
| make_layout-HeatmapList-method | 0.000 | 0.000 | 0.001 | |
| make_layout-dispatch | 0.001 | 0.000 | 0.001 | |
| make_row_cluster-Heatmap-method | 0.001 | 0.000 | 0.001 | |
| map_to_colors-ColorMapping-method | 0.027 | 0.001 | 0.028 | |
| max_text_height | 0.003 | 0.000 | 0.004 | |
| max_text_width | 0.002 | 0.000 | 0.003 | |
| oncoPrint | 0.000 | 0.000 | 0.001 | |
| packLegend | 0.001 | 0.000 | 0.000 | |
| plotDataFrame | 2.808 | 0.005 | 2.873 | |
| prepare-Heatmap-method | 0.000 | 0.000 | 0.001 | |
| rowAnnotation | 0.017 | 0.001 | 0.018 | |
| row_anno_barplot | 0.001 | 0.000 | 0.001 | |
| row_anno_boxplot | 0.000 | 0.000 | 0.001 | |
| row_anno_density | 0.000 | 0.000 | 0.001 | |
| row_anno_histogram | 0.001 | 0.000 | 0.001 | |
| row_anno_link | 0.001 | 0.000 | 0.001 | |
| row_anno_points | 0.000 | 0.000 | 0.001 | |
| row_anno_text | 0.000 | 0.000 | 0.001 | |
| row_dend-Heatmap-method | 0.084 | 0.000 | 0.093 | |
| row_dend-HeatmapList-method | 0.244 | 0.001 | 0.245 | |
| row_dend-dispatch | 0.000 | 0.000 | 0.001 | |
| row_order-Heatmap-method | 0.101 | 0.001 | 0.106 | |
| row_order-HeatmapList-method | 0.312 | 0.000 | 0.314 | |
| row_order-dispatch | 0.001 | 0.000 | 0.001 | |
| selectArea | 0.001 | 0.000 | 0.001 | |
| set_component_height-Heatmap-method | 0.001 | 0.000 | 0.001 | |
| show-ColorMapping-method | 0.000 | 0.000 | 0.001 | |
| show-Heatmap-method | 0.758 | 0.002 | 0.789 | |
| show-HeatmapAnnotation-method | 0.001 | 0.000 | 0.001 | |
| show-HeatmapList-method | 0.001 | 0.000 | 0.001 | |
| show-SingleAnnotation-method | 0.001 | 0.000 | 0.001 | |
| show-dispatch | 0.000 | 0.000 | 0.001 | |
| unify_mat_list | 0.000 | 0.000 | 0.001 | |