| Back to the "Multiple platform build/check report" | A B [C] D E F G H I J K L M N O P Q R S T U V W X Y Z | 
This page was generated on 2017-08-16 13:24:23 -0400 (Wed, 16 Aug 2017).
| Package 268/1382 | Hostname | OS / Arch | INSTALL | BUILD | CHECK | BUILD BIN | |||||
| ComplexHeatmap 1.14.0 Zuguang Gu 
  | malbec2 | Linux (Ubuntu 16.04.1 LTS) / x86_64 | OK | OK | OK | ||||||
| tokay2 | Windows Server 2012 R2 Standard / x64 | OK | OK | [ OK ] | OK | ||||||
| veracruz2 | OS X 10.11.6 El Capitan / x86_64 | OK | OK | OK | OK | 
| Package: ComplexHeatmap | 
| Version: 1.14.0 | 
| Command: rm -rf ComplexHeatmap.buildbin-libdir ComplexHeatmap.Rcheck && mkdir ComplexHeatmap.buildbin-libdir ComplexHeatmap.Rcheck && C:\Users\biocbuild\bbs-3.5-bioc\R\bin\R.exe CMD INSTALL --build --merge-multiarch --library=ComplexHeatmap.buildbin-libdir ComplexHeatmap_1.14.0.tar.gz >ComplexHeatmap.Rcheck\00install.out 2>&1 && cp ComplexHeatmap.Rcheck\00install.out ComplexHeatmap-install.out && C:\Users\biocbuild\bbs-3.5-bioc\R\bin\R.exe CMD check --library=ComplexHeatmap.buildbin-libdir --install="check:ComplexHeatmap-install.out" --force-multiarch --no-vignettes --timings ComplexHeatmap_1.14.0.tar.gz | 
| StartedAt: 2017-08-15 22:54:46 -0400 (Tue, 15 Aug 2017) | 
| EndedAt: 2017-08-15 22:58:16 -0400 (Tue, 15 Aug 2017) | 
| EllapsedTime: 210.3 seconds | 
| RetCode: 0 | 
| Status: OK | 
| CheckDir: ComplexHeatmap.Rcheck | 
| Warnings: 0 | 
##############################################################################
##############################################################################
###
### Running command:
###
###   rm -rf ComplexHeatmap.buildbin-libdir ComplexHeatmap.Rcheck && mkdir ComplexHeatmap.buildbin-libdir ComplexHeatmap.Rcheck && C:\Users\biocbuild\bbs-3.5-bioc\R\bin\R.exe CMD INSTALL --build --merge-multiarch --library=ComplexHeatmap.buildbin-libdir ComplexHeatmap_1.14.0.tar.gz >ComplexHeatmap.Rcheck\00install.out 2>&1 && cp ComplexHeatmap.Rcheck\00install.out ComplexHeatmap-install.out  &&  C:\Users\biocbuild\bbs-3.5-bioc\R\bin\R.exe CMD check --library=ComplexHeatmap.buildbin-libdir --install="check:ComplexHeatmap-install.out" --force-multiarch --no-vignettes --timings ComplexHeatmap_1.14.0.tar.gz
###
##############################################################################
##############################################################################
* using log directory 'C:/Users/biocbuild/bbs-3.5-bioc/meat/ComplexHeatmap.Rcheck'
* using R version 3.4.1 (2017-06-30)
* using platform: x86_64-w64-mingw32 (64-bit)
* using session charset: ISO8859-1
* using option '--no-vignettes'
* checking for file 'ComplexHeatmap/DESCRIPTION' ... OK
* checking extension type ... Package
* this is package 'ComplexHeatmap' version '1.14.0'
* checking package namespace information ... OK
* checking package dependencies ... OK
* checking if this is a source package ... OK
* checking if there is a namespace ... OK
* checking for hidden files and directories ... OK
* checking for portable file names ... OK
* checking whether package 'ComplexHeatmap' can be installed ... OK
* checking installed package size ... OK
* checking package directory ... OK
* checking 'build' directory ... OK
* checking DESCRIPTION meta-information ... OK
* checking top-level files ... OK
* checking for left-over files ... OK
* checking index information ... OK
* checking package subdirectories ... OK
* checking R files for non-ASCII characters ... OK
* checking R files for syntax errors ... OK
* loading checks for arch 'i386'
** checking whether the package can be loaded ... OK
** checking whether the package can be loaded with stated dependencies ... OK
** checking whether the package can be unloaded cleanly ... OK
** checking whether the namespace can be loaded with stated dependencies ... OK
** checking whether the namespace can be unloaded cleanly ... OK
* loading checks for arch 'x64'
** checking whether the package can be loaded ... OK
** checking whether the package can be loaded with stated dependencies ... OK
** checking whether the package can be unloaded cleanly ... OK
** checking whether the namespace can be loaded with stated dependencies ... OK
** checking whether the namespace can be unloaded cleanly ... OK
* checking dependencies in R code ... OK
* checking S3 generic/method consistency ... OK
* checking replacement functions ... OK
* checking foreign function calls ... OK
* checking R code for possible problems ... OK
* checking Rd files ... OK
* checking Rd metadata ... OK
* checking Rd cross-references ... OK
* checking for missing documentation entries ... OK
* checking for code/documentation mismatches ... OK
* checking Rd \usage sections ... OK
* checking Rd contents ... OK
* checking for unstated dependencies in examples ... OK
* checking installed files from 'inst/doc' ... OK
* checking files in 'vignettes' ... OK
* checking examples ...
** running examples for arch 'i386' ... OK
Examples with CPU or elapsed time > 5s
         user system elapsed
Heatmap 13.93   0.07   13.98
** running examples for arch 'x64' ... OK
Examples with CPU or elapsed time > 5s
                  user system elapsed
Heatmap          17.03   0.06   17.09
add.AdditiveUnit  5.33   0.00    5.33
* checking for unstated dependencies in 'tests' ... OK
* checking tests ...
** running tests for arch 'i386' ...
  Running 'test-all.R'
 OK
** running tests for arch 'x64' ...
  Running 'test-all.R'
 OK
* checking for unstated dependencies in vignettes ... OK
* checking package vignettes in 'inst/doc' ... OK
* checking running R code from vignettes ... SKIPPED
* checking re-building of vignette outputs ... SKIPPED
* checking PDF version of manual ... OK
* DONE
Status: OK
ComplexHeatmap.Rcheck/00install.out:
install for i386 * installing *source* package 'ComplexHeatmap' ... ** R ** inst ** preparing package for lazy loading ** help *** installing help indices ** building package indices ** installing vignettes ** testing if installed package can be loaded install for x64 * installing *source* package 'ComplexHeatmap' ... ** testing if installed package can be loaded * MD5 sums packaged installation of 'ComplexHeatmap' as ComplexHeatmap_1.14.0.zip * DONE (ComplexHeatmap)
ComplexHeatmap.Rcheck/examples_i386/ComplexHeatmap-Ex.timings:
| name | user | system | elapsed | |
| AdditiveUnit-class | 0 | 0 | 0 | |
| AdditiveUnit | 0 | 0 | 0 | |
| ColorMapping-class | 0 | 0 | 0 | |
| ColorMapping | 0.06 | 0.00 | 0.06 | |
| ComplexHeatmap-package | 0 | 0 | 0 | |
| Heatmap-class | 0 | 0 | 0 | |
| Heatmap | 13.93 | 0.07 | 13.98 | |
| HeatmapAnnotation-class | 0 | 0 | 0 | |
| HeatmapAnnotation | 0.14 | 0.00 | 0.14 | |
| HeatmapList-class | 3.51 | 0.00 | 3.52 | |
| HeatmapList | 0 | 0 | 0 | |
| Legend | 0 | 0 | 0 | |
| SingleAnnotation-class | 0 | 0 | 0 | |
| SingleAnnotation | 0.04 | 0.00 | 0.05 | |
| add.AdditiveUnit | 4.11 | 0.00 | 4.11 | |
| add_heatmap-Heatmap-method | 1.10 | 0.00 | 1.09 | |
| add_heatmap-HeatmapAnnotation-method | 0.34 | 0.00 | 0.35 | |
| add_heatmap-HeatmapList-method | 1.84 | 0.00 | 1.84 | |
| add_heatmap-dispatch | 0 | 0 | 0 | |
| anno_barplot | 0.13 | 0.00 | 0.12 | |
| anno_boxplot | 0.17 | 0.01 | 0.19 | |
| anno_density | 0.28 | 0.03 | 0.31 | |
| anno_histogram | 0.14 | 0.00 | 0.14 | |
| anno_link | 1.36 | 0.00 | 1.36 | |
| anno_oncoprint_barplot | 0 | 0 | 0 | |
| anno_points | 0.01 | 0.00 | 0.02 | |
| anno_text | 0.30 | 0.00 | 0.29 | |
| annotation_legend_size-HeatmapList-method | 0 | 0 | 0 | |
| color_mapping_legend-ColorMapping-method | 0.22 | 0.00 | 0.22 | |
| columnAnnotation | 0.03 | 0.00 | 0.03 | |
| column_anno_barplot | 0 | 0 | 0 | |
| column_anno_boxplot | 0 | 0 | 0 | |
| column_anno_density | 0 | 0 | 0 | |
| column_anno_histogram | 0 | 0 | 0 | |
| column_anno_link | 0 | 0 | 0 | |
| column_anno_points | 0 | 0 | 0 | |
| column_anno_text | 0 | 0 | 0 | |
| column_dend-Heatmap-method | 0.09 | 0.00 | 0.09 | |
| column_dend-HeatmapList-method | 0.31 | 0.00 | 0.31 | |
| column_dend-dispatch | 0 | 0 | 0 | |
| column_order-Heatmap-method | 0.11 | 0.00 | 0.11 | |
| column_order-HeatmapList-method | 0.27 | 0.00 | 0.27 | |
| column_order-dispatch | 0 | 0 | 0 | |
| component_height-Heatmap-method | 0 | 0 | 0 | |
| component_height-HeatmapList-method | 0 | 0 | 0 | |
| component_height-dispatch | 0 | 0 | 0 | |
| component_width-Heatmap-method | 0 | 0 | 0 | |
| component_width-HeatmapList-method | 0 | 0 | 0 | |
| component_width-dispatch | 0 | 0 | 0 | |
| decorate_annotation | 0.73 | 0.00 | 0.74 | |
| decorate_column_dend | 0 | 0 | 0 | |
| decorate_column_names | 0 | 0 | 0 | |
| decorate_column_title | 0 | 0 | 0 | |
| decorate_dend | 0.38 | 0.00 | 0.38 | |
| decorate_dimnames | 0.42 | 0.00 | 0.42 | |
| decorate_heatmap_body | 0.36 | 0.00 | 0.36 | |
| decorate_row_dend | 0 | 0 | 0 | |
| decorate_row_names | 0 | 0 | 0 | |
| decorate_row_title | 0 | 0 | 0 | |
| decorate_title | 0.39 | 0.00 | 0.39 | |
| densityHeatmap | 4.16 | 0.00 | 4.16 | |
| dist2 | 0.01 | 0.00 | 0.01 | |
| draw-Heatmap-method | 0.25 | 0.00 | 0.25 | |
| draw-HeatmapAnnotation-method | 0.11 | 0.02 | 0.13 | |
| draw-HeatmapList-method | 0.98 | 0.00 | 0.98 | |
| draw-SingleAnnotation-method | 0.10 | 0.01 | 0.11 | |
| draw-dispatch | 0 | 0 | 0 | |
| draw_annotation-Heatmap-method | 0 | 0 | 0 | |
| draw_annotation_legend-HeatmapList-method | 0 | 0 | 0 | |
| draw_dend-Heatmap-method | 0 | 0 | 0 | |
| draw_dimnames-Heatmap-method | 0 | 0 | 0 | |
| draw_heatmap_body-Heatmap-method | 0 | 0 | 0 | |
| draw_heatmap_legend-HeatmapList-method | 0 | 0 | 0 | |
| draw_heatmap_list-HeatmapList-method | 0 | 0 | 0 | |
| draw_title-Heatmap-method | 0 | 0 | 0 | |
| draw_title-HeatmapList-method | 0 | 0 | 0 | |
| draw_title-dispatch | 0 | 0 | 0 | |
| enhanced_basicplot | 0.97 | 0.00 | 0.97 | |
| get_color_mapping_list-HeatmapAnnotation-method | 0 | 0 | 0 | |
| get_color_mapping_param_list-HeatmapAnnotation-method | 0 | 0 | 0 | |
| grid.dendrogram | 0.02 | 0.00 | 0.02 | |
| heatmap_legend_size-HeatmapList-method | 0 | 0 | 0 | |
| ht_global_opt | 0 | 0 | 0 | |
| is_abs_unit | 0 | 0 | 0 | |
| make_column_cluster-Heatmap-method | 0 | 0 | 0 | |
| make_layout-Heatmap-method | 0 | 0 | 0 | |
| make_layout-HeatmapList-method | 0 | 0 | 0 | |
| make_layout-dispatch | 0 | 0 | 0 | |
| make_row_cluster-Heatmap-method | 0 | 0 | 0 | |
| map_to_colors-ColorMapping-method | 0.03 | 0.00 | 0.03 | |
| max_text_height | 0 | 0 | 0 | |
| max_text_width | 0.02 | 0.00 | 0.02 | |
| oncoPrint | 0 | 0 | 0 | |
| packLegend | 0 | 0 | 0 | |
| plotDataFrame | 2.14 | 0.01 | 2.16 | |
| prepare-Heatmap-method | 0 | 0 | 0 | |
| rowAnnotation | 0.01 | 0.00 | 0.01 | |
| row_anno_barplot | 0 | 0 | 0 | |
| row_anno_boxplot | 0 | 0 | 0 | |
| row_anno_density | 0 | 0 | 0 | |
| row_anno_histogram | 0 | 0 | 0 | |
| row_anno_link | 0 | 0 | 0 | |
| row_anno_points | 0 | 0 | 0 | |
| row_anno_text | 0 | 0 | 0 | |
| row_dend-Heatmap-method | 0.08 | 0.00 | 0.08 | |
| row_dend-HeatmapList-method | 0.19 | 0.00 | 0.19 | |
| row_dend-dispatch | 0 | 0 | 0 | |
| row_order-Heatmap-method | 0.06 | 0.00 | 0.06 | |
| row_order-HeatmapList-method | 0.17 | 0.00 | 0.17 | |
| row_order-dispatch | 0 | 0 | 0 | |
| selectArea | 0 | 0 | 0 | |
| set_component_height-Heatmap-method | 0 | 0 | 0 | |
| show-ColorMapping-method | 0 | 0 | 0 | |
| show-Heatmap-method | 0.7 | 0.0 | 0.7 | |
| show-HeatmapAnnotation-method | 0 | 0 | 0 | |
| show-HeatmapList-method | 0 | 0 | 0 | |
| show-SingleAnnotation-method | 0 | 0 | 0 | |
| show-dispatch | 0.02 | 0.00 | 0.02 | |
| unify_mat_list | 0 | 0 | 0 | |
ComplexHeatmap.Rcheck/examples_x64/ComplexHeatmap-Ex.timings:
| name | user | system | elapsed | |
| AdditiveUnit-class | 0 | 0 | 0 | |
| AdditiveUnit | 0 | 0 | 0 | |
| ColorMapping-class | 0 | 0 | 0 | |
| ColorMapping | 0.07 | 0.00 | 0.07 | |
| ComplexHeatmap-package | 0 | 0 | 0 | |
| Heatmap-class | 0 | 0 | 0 | |
| Heatmap | 17.03 | 0.06 | 17.09 | |
| HeatmapAnnotation-class | 0 | 0 | 0 | |
| HeatmapAnnotation | 0.27 | 0.00 | 0.27 | |
| HeatmapList-class | 4.15 | 0.00 | 4.15 | |
| HeatmapList | 0 | 0 | 0 | |
| Legend | 0 | 0 | 0 | |
| SingleAnnotation-class | 0 | 0 | 0 | |
| SingleAnnotation | 0.08 | 0.00 | 0.08 | |
| add.AdditiveUnit | 5.33 | 0.00 | 5.33 | |
| add_heatmap-Heatmap-method | 1.01 | 0.00 | 1.01 | |
| add_heatmap-HeatmapAnnotation-method | 0.38 | 0.00 | 0.38 | |
| add_heatmap-HeatmapList-method | 2.8 | 0.0 | 2.8 | |
| add_heatmap-dispatch | 0 | 0 | 0 | |
| anno_barplot | 0.14 | 0.00 | 0.14 | |
| anno_boxplot | 0.23 | 0.00 | 0.23 | |
| anno_density | 0.36 | 0.00 | 0.36 | |
| anno_histogram | 0.14 | 0.00 | 0.14 | |
| anno_link | 1.64 | 0.02 | 1.66 | |
| anno_oncoprint_barplot | 0 | 0 | 0 | |
| anno_points | 0.03 | 0.00 | 0.03 | |
| anno_text | 0.27 | 0.00 | 0.26 | |
| annotation_legend_size-HeatmapList-method | 0 | 0 | 0 | |
| color_mapping_legend-ColorMapping-method | 0.2 | 0.0 | 1.3 | |
| columnAnnotation | 0.01 | 0.00 | 0.01 | |
| column_anno_barplot | 0 | 0 | 0 | |
| column_anno_boxplot | 0 | 0 | 0 | |
| column_anno_density | 0 | 0 | 0 | |
| column_anno_histogram | 0 | 0 | 0 | |
| column_anno_link | 0 | 0 | 0 | |
| column_anno_points | 0 | 0 | 0 | |
| column_anno_text | 0 | 0 | 0 | |
| column_dend-Heatmap-method | 0.11 | 0.00 | 0.11 | |
| column_dend-HeatmapList-method | 0.31 | 0.00 | 0.31 | |
| column_dend-dispatch | 0 | 0 | 0 | |
| column_order-Heatmap-method | 0.07 | 0.00 | 0.08 | |
| column_order-HeatmapList-method | 0.32 | 0.00 | 0.32 | |
| column_order-dispatch | 0 | 0 | 0 | |
| component_height-Heatmap-method | 0 | 0 | 0 | |
| component_height-HeatmapList-method | 0 | 0 | 0 | |
| component_height-dispatch | 0 | 0 | 0 | |
| component_width-Heatmap-method | 0 | 0 | 0 | |
| component_width-HeatmapList-method | 0 | 0 | 0 | |
| component_width-dispatch | 0 | 0 | 0 | |
| decorate_annotation | 0.85 | 0.00 | 0.84 | |
| decorate_column_dend | 0 | 0 | 0 | |
| decorate_column_names | 0 | 0 | 0 | |
| decorate_column_title | 0 | 0 | 0 | |
| decorate_dend | 0.29 | 0.00 | 0.30 | |
| decorate_dimnames | 0.33 | 0.00 | 0.33 | |
| decorate_heatmap_body | 0.24 | 0.00 | 0.23 | |
| decorate_row_dend | 0 | 0 | 0 | |
| decorate_row_names | 0 | 0 | 0 | |
| decorate_row_title | 0 | 0 | 0 | |
| decorate_title | 0.25 | 0.00 | 0.25 | |
| densityHeatmap | 3.67 | 0.00 | 3.67 | |
| dist2 | 0.03 | 0.00 | 0.03 | |
| draw-Heatmap-method | 0.29 | 0.00 | 0.28 | |
| draw-HeatmapAnnotation-method | 0.12 | 0.00 | 0.13 | |
| draw-HeatmapList-method | 1.24 | 0.00 | 1.23 | |
| draw-SingleAnnotation-method | 0.10 | 0.00 | 0.11 | |
| draw-dispatch | 0 | 0 | 0 | |
| draw_annotation-Heatmap-method | 0 | 0 | 0 | |
| draw_annotation_legend-HeatmapList-method | 0 | 0 | 0 | |
| draw_dend-Heatmap-method | 0 | 0 | 0 | |
| draw_dimnames-Heatmap-method | 0 | 0 | 0 | |
| draw_heatmap_body-Heatmap-method | 0 | 0 | 0 | |
| draw_heatmap_legend-HeatmapList-method | 0 | 0 | 0 | |
| draw_heatmap_list-HeatmapList-method | 0 | 0 | 0 | |
| draw_title-Heatmap-method | 0 | 0 | 0 | |
| draw_title-HeatmapList-method | 0 | 0 | 0 | |
| draw_title-dispatch | 0 | 0 | 0 | |
| enhanced_basicplot | 1.03 | 0.01 | 1.05 | |
| get_color_mapping_list-HeatmapAnnotation-method | 0 | 0 | 0 | |
| get_color_mapping_param_list-HeatmapAnnotation-method | 0 | 0 | 0 | |
| grid.dendrogram | 0.03 | 0.00 | 0.03 | |
| heatmap_legend_size-HeatmapList-method | 0 | 0 | 0 | |
| ht_global_opt | 0 | 0 | 0 | |
| is_abs_unit | 0 | 0 | 0 | |
| make_column_cluster-Heatmap-method | 0 | 0 | 0 | |
| make_layout-Heatmap-method | 0 | 0 | 0 | |
| make_layout-HeatmapList-method | 0 | 0 | 0 | |
| make_layout-dispatch | 0 | 0 | 0 | |
| make_row_cluster-Heatmap-method | 0 | 0 | 0 | |
| map_to_colors-ColorMapping-method | 0.02 | 0.00 | 0.01 | |
| max_text_height | 0.01 | 0.00 | 0.02 | |
| max_text_width | 0 | 0 | 0 | |
| oncoPrint | 0 | 0 | 0 | |
| packLegend | 0 | 0 | 0 | |
| plotDataFrame | 2.71 | 0.00 | 2.70 | |
| prepare-Heatmap-method | 0 | 0 | 0 | |
| rowAnnotation | 0.01 | 0.00 | 0.02 | |
| row_anno_barplot | 0 | 0 | 0 | |
| row_anno_boxplot | 0 | 0 | 0 | |
| row_anno_density | 0 | 0 | 0 | |
| row_anno_histogram | 0 | 0 | 0 | |
| row_anno_link | 0 | 0 | 0 | |
| row_anno_points | 0 | 0 | 0 | |
| row_anno_text | 0 | 0 | 0 | |
| row_dend-Heatmap-method | 0.08 | 0.00 | 0.07 | |
| row_dend-HeatmapList-method | 0.24 | 0.00 | 0.24 | |
| row_dend-dispatch | 0 | 0 | 0 | |
| row_order-Heatmap-method | 0.07 | 0.00 | 0.08 | |
| row_order-HeatmapList-method | 0.22 | 0.00 | 0.22 | |
| row_order-dispatch | 0 | 0 | 0 | |
| selectArea | 0 | 0 | 0 | |
| set_component_height-Heatmap-method | 0 | 0 | 0 | |
| show-ColorMapping-method | 0 | 0 | 0 | |
| show-Heatmap-method | 0.92 | 0.00 | 0.92 | |
| show-HeatmapAnnotation-method | 0 | 0 | 0 | |
| show-HeatmapList-method | 0 | 0 | 0 | |
| show-SingleAnnotation-method | 0 | 0 | 0 | |
| show-dispatch | 0 | 0 | 0 | |
| unify_mat_list | 0 | 0 | 0 | |