ComplexHeatmap 1.14.0 Zuguang Gu
 | Snapshot Date: 2017-08-15 17:17:57 -0400 (Tue, 15 Aug 2017) |  | URL: https://hedgehog.fhcrc.org/bioconductor/branches/RELEASE_3_5/madman/Rpacks/ComplexHeatmap |  | Last Changed Rev: 129126 / Revision: 131943 |  | Last Changed Date: 2017-04-24 15:25:24 -0400 (Mon, 24 Apr 2017) |  
  | malbec2  | Linux (Ubuntu 16.04.1 LTS) / x86_64  |  OK  |  OK  |  OK  |  |   | 
| tokay2  | Windows Server 2012 R2 Standard / x64  |  OK  |  OK  |  OK  | [ OK ] |   | 
| veracruz2  | OS X 10.11.6 El Capitan / x86_64  |  OK  |  OK  |  OK  |  OK  |   | 
##############################################################################
##############################################################################
###
### Running command:
###
###   cd ComplexHeatmap.buildbin-libdir/ComplexHeatmap && zip -r ../../ComplexHeatmap_1.14.0.zip . & cd ../..
###
##############################################################################
##############################################################################
  adding: CITATION (264 bytes security) (deflated 48%)
  adding: DESCRIPTION (264 bytes security) (deflated 40%)
  adding: doc/ (304 bytes security) (stored 0%)
  adding: doc/index.html (264 bytes security) (deflated 84%)
  adding: doc/s1.introduction.html (264 bytes security) (deflated 40%)
  adding: doc/s1.introduction.R (264 bytes security) (deflated 56%)
  adding: doc/s1.introduction.Rmd (264 bytes security) (deflated 60%)
  adding: doc/s2.single_heatmap.html (264 bytes security) (deflated 39%)
  adding: doc/s2.single_heatmap.R (264 bytes security) (deflated 77%)
  adding: doc/s2.single_heatmap.Rmd (264 bytes security) (deflated 68%)
  adding: doc/s3.a_list_of_heatmaps.html (264 bytes security) (deflated 41%)
  adding: doc/s3.a_list_of_heatmaps.R (264 bytes security) (deflated 78%)
  adding: doc/s3.a_list_of_heatmaps.Rmd (264 bytes security) (deflated 66%)
  adding: doc/s4.heatmap_annotation.html (264 bytes security) (deflated 41%)
  adding: doc/s4.heatmap_annotation.R (264 bytes security) (deflated 83%)
  adding: doc/s4.heatmap_annotation.Rmd (264 bytes security) (deflated 74%)
  adding: doc/s5.legend.html (264 bytes security) (deflated 41%)
  adding: doc/s5.legend.R (264 bytes security) (deflated 80%)
  adding: doc/s5.legend.Rmd (264 bytes security) (deflated 71%)
  adding: doc/s6.heatmap_decoration.html (264 bytes security) (deflated 37%)
  adding: doc/s6.heatmap_decoration.R (264 bytes security) (deflated 75%)
  adding: doc/s6.heatmap_decoration.Rmd (264 bytes security) (deflated 70%)
  adding: doc/s7.interactive.html (264 bytes security) (deflated 26%)
  adding: doc/s7.interactive.R (264 bytes security) (deflated 47%)
  adding: doc/s7.interactive.Rmd (264 bytes security) (deflated 46%)
  adding: doc/s8.oncoprint.html (264 bytes security) (deflated 39%)
  adding: doc/s8.oncoprint.R (264 bytes security) (deflated 81%)
  adding: doc/s8.oncoprint.Rmd (264 bytes security) (deflated 69%)
  adding: doc/s9.examples.html (264 bytes security) (deflated 29%)
  adding: doc/s9.examples.R (264 bytes security) (deflated 72%)
  adding: doc/s9.examples.Rmd (264 bytes security) (deflated 65%)
  adding: extdata/ (304 bytes security) (stored 0%)
  adding: extdata/gene_expression.rds (264 bytes security) (deflated 1%)
  adding: extdata/gr.rds (264 bytes security) (deflated 0%)
  adding: extdata/measles.rds (264 bytes security) (deflated 1%)
  adding: extdata/meth.rds (264 bytes security) (deflated 0%)
  adding: extdata/sample_order.txt (264 bytes security) (deflated 80%)
  adding: extdata/tcga_lung_adenocarcinoma_provisional_ras_raf_mek_jnk_signalling.txt (264 bytes security) (deflated 92%)
  adding: help/ (304 bytes security) (stored 0%)
  adding: help/aliases.rds (264 bytes security) (stored 0%)
  adding: help/AnIndex (264 bytes security) (deflated 82%)
  adding: help/ComplexHeatmap.rdb (264 bytes security) (deflated 2%)
  adding: help/ComplexHeatmap.rdx (264 bytes security) (deflated 2%)
  adding: help/paths.rds (264 bytes security) (stored 0%)
  adding: html/ (304 bytes security) (stored 0%)
  adding: html/00Index.html (264 bytes security) (deflated 86%)
  adding: html/R.css (264 bytes security) (deflated 75%)
  adding: INDEX (264 bytes security) (deflated 81%)
  adding: MD5 (264 bytes security) (deflated 49%)
  adding: Meta/ (304 bytes security) (stored 0%)
  adding: Meta/features.rds (264 bytes security) (stored 0%)
  adding: Meta/hsearch.rds (264 bytes security) (stored 0%)
  adding: Meta/links.rds (264 bytes security) (stored 0%)
  adding: Meta/nsInfo.rds (264 bytes security) (stored 0%)
  adding: Meta/package.rds (264 bytes security) (stored 0%)
  adding: Meta/Rd.rds (264 bytes security) (stored 0%)
  adding: Meta/vignette.rds (264 bytes security) (stored 0%)
  adding: NAMESPACE (264 bytes security) (deflated 75%)
  adding: NEWS (264 bytes security) (deflated 70%)
  adding: R/ (304 bytes security) (stored 0%)
  adding: R/ComplexHeatmap (264 bytes security) (deflated 41%)
  adding: R/ComplexHeatmap.rdb (264 bytes security) (deflated 32%)
  adding: R/ComplexHeatmap.rdx (264 bytes security) (deflated 2%)
  adding: tests/ (304 bytes security) (stored 0%)