Back to Build/check report for BioC 3.23:   simplified   long
ABCDEFGHIJKL[M]NOPQRSTUVWXYZ

This page was generated on 2025-11-13 11:32 -0500 (Thu, 13 Nov 2025).

HostnameOSArch (*)R versionInstalled pkgs
kjohnson3macOS 13.7.7 Venturaarm64R Under development (unstable) (2025-11-04 r88984) -- "Unsuffered Consequences" 4013
Click on any hostname to see more info about the system (e.g. compilers)      (*) as reported by 'uname -p', except on Windows and Mac OS X

All results for package metagenomeSeq


To the developers/maintainers of the metagenomeSeq package:
- Allow up to 24 hours (and sometimes 48 hours) for your latest push to git@git.bioconductor.org:packages/metagenomeSeq.git to reflect on this report. See Troubleshooting Build Report for more information.
- Use the following Renviron settings to reproduce errors and warnings.
- If 'R CMD check' started to fail recently on the Linux builder(s) over a missing dependency, add the missing dependency to 'Suggests:' in your DESCRIPTION file. See Renviron.bioc for more information.

raw results

Package 1230/2325HostnameOS / ArchINSTALLBUILDCHECKBUILD BIN
metagenomeSeq 1.53.0  (landing page)
Joseph N. Paulson
Snapshot Date: 2025-11-12 13:40 -0500 (Wed, 12 Nov 2025)
git_url: https://git.bioconductor.org/packages/metagenomeSeq
git_branch: devel
git_last_commit: 48a74a4
git_last_commit_date: 2025-10-29 10:14:26 -0500 (Wed, 29 Oct 2025)
kjohnson3macOS 13.7.7 Ventura / arm64  OK    ERROR  skippedskipped



Results for Bioconductor software packages that depend directly on package metagenomeSeq

QUICK STATSOS / ArchINSTALLBUILDCHECKBUILD BIN
kjohnson3macOS 13.7.7 Ventura / arm64
041
041
0001
001
Package 1/5HostnameOS / ArchINSTALLBUILDCHECKBUILD BIN
benchdamic 1.17.0  (landing page)
Matteo Calgaro
git_last_commit: 316209e
git_last_commit_date: 2025-10-29 11:13:17 -0500
kjohnson3macOS 13.7.7 Ventura / arm64  ERROR    ERROR  skippedskipped
Package 2/5HostnameOS / ArchINSTALLBUILDCHECKBUILD BIN
Maaslin2 1.25.0  (landing page)
Lauren McIver
git_last_commit: 576923d
git_last_commit_date: 2025-10-29 10:53:16 -0500
kjohnson3macOS 13.7.7 Ventura / arm64  ERROR    ERROR  skippedskipped
Package 3/5HostnameOS / ArchINSTALLBUILDCHECKBUILD BIN
mbQTL 1.11.0  (landing page)
Mercedeh Movassagh
git_last_commit: 22bccdc
git_last_commit_date: 2025-10-29 11:20:58 -0500
kjohnson3macOS 13.7.7 Ventura / arm64  OK    OK    OK    OK  NO, package depends on 'metagenomeSeq' which is not available
Package 4/5HostnameOS / ArchINSTALLBUILDCHECKBUILD BIN
microbiomeDASim 1.25.0  (landing page)
Justin Williams
git_last_commit: 5e863d9
git_last_commit_date: 2025-10-29 10:54:08 -0500
kjohnson3macOS 13.7.7 Ventura / arm64  ERROR    ERROR  skippedskipped
Package 5/5HostnameOS / ArchINSTALLBUILDCHECKBUILD BIN
microbiomeExplorer 1.21.0  (landing page)
Janina Reeder
git_last_commit: 6045c09
git_last_commit_date: 2025-10-29 11:03:17 -0500
kjohnson3macOS 13.7.7 Ventura / arm64  ERROR    ERROR  skippedskipped