| Back to Build/check report for BioC 3.23: simplified long |
|
This page was generated on 2025-11-13 11:32 -0500 (Thu, 13 Nov 2025).
| Hostname | OS | Arch (*) | R version | Installed pkgs |
|---|---|---|---|---|
| kjohnson3 | macOS 13.7.7 Ventura | arm64 | R Under development (unstable) (2025-11-04 r88984) -- "Unsuffered Consequences" | 4013 |
| Click on any hostname to see more info about the system (e.g. compilers) (*) as reported by 'uname -p', except on Windows and Mac OS X | ||||
| Package 165/2325 | Hostname | OS / Arch | INSTALL | BUILD | CHECK | BUILD BIN | ||||||||
| benchdamic 1.17.0 (landing page) Matteo Calgaro
| kjohnson3 | macOS 13.7.7 Ventura / arm64 | ERROR | ERROR | skipped | skipped | ||||||||
|
To the developers/maintainers of the benchdamic package: - Allow up to 24 hours (and sometimes 48 hours) for your latest push to git@git.bioconductor.org:packages/benchdamic.git to reflect on this report. See Troubleshooting Build Report for more information. - Use the following Renviron settings to reproduce errors and warnings. - If 'R CMD check' started to fail recently on the Linux builder(s) over a missing dependency, add the missing dependency to 'Suggests:' in your DESCRIPTION file. See Renviron.bioc for more information. |
| Package: benchdamic |
| Version: 1.17.0 |
| Command: /Library/Frameworks/R.framework/Resources/bin/R CMD build --keep-empty-dirs --no-resave-data benchdamic |
| StartedAt: 2025-11-12 15:51:34 -0500 (Wed, 12 Nov 2025) |
| EndedAt: 2025-11-12 15:51:35 -0500 (Wed, 12 Nov 2025) |
| EllapsedTime: 1.0 seconds |
| RetCode: 1 |
| Status: ERROR |
| PackageFile: None |
| PackageFileSize: NA |
##############################################################################
##############################################################################
###
### Running command:
###
### /Library/Frameworks/R.framework/Resources/bin/R CMD build --keep-empty-dirs --no-resave-data benchdamic
###
##############################################################################
##############################################################################
* checking for file ‘benchdamic/DESCRIPTION’ ... OK
* preparing ‘benchdamic’:
* checking DESCRIPTION meta-information ... OK
* installing the package (it is needed to build vignettes)
-----------------------------------
ERROR: dependencies ‘phyloseq’, ‘zinbwave’, ‘edgeR’, ‘microbiome’, ‘Maaslin2’ are not available for package ‘benchdamic’
Perhaps try a variation of:
install.packages(c('phyloseq', 'zinbwave', 'edgeR', 'microbiome', 'Maaslin2'))
* removing ‘/private/var/folders/r0/l4fjk6cj5xj0j3brt4bplpl40000gt/T/RtmptRCCa5/Rinst119492c426d5d/benchdamic’
-----------------------------------
ERROR: package installation failed