| Back to Build/check report for BioC 3.23: simplified long |
|
This page was generated on 2025-11-12 11:32 -0500 (Wed, 12 Nov 2025).
| Hostname | OS | Arch (*) | R version | Installed pkgs |
|---|---|---|---|---|
| nebbiolo1 | Linux (Ubuntu 24.04.3 LTS) | x86_64 | R Under development (unstable) (2025-10-20 r88955) -- "Unsuffered Consequences" | 4823 |
| Click on any hostname to see more info about the system (e.g. compilers) (*) as reported by 'uname -p', except on Windows and Mac OS X | ||||
| Package 165/2325 | Hostname | OS / Arch | INSTALL | BUILD | CHECK | BUILD BIN | ||||||||
| benchdamic 1.17.0 (landing page) Matteo Calgaro
| nebbiolo1 | Linux (Ubuntu 24.04.3 LTS) / x86_64 | OK | OK | OK | |||||||||
|
To the developers/maintainers of the benchdamic package: - Allow up to 24 hours (and sometimes 48 hours) for your latest push to git@git.bioconductor.org:packages/benchdamic.git to reflect on this report. See Troubleshooting Build Report for more information. - Use the following Renviron settings to reproduce errors and warnings. - If 'R CMD check' started to fail recently on the Linux builder(s) over a missing dependency, add the missing dependency to 'Suggests:' in your DESCRIPTION file. See Renviron.bioc for more information. |
| Package: benchdamic |
| Version: 1.17.0 |
| Command: /home/biocbuild/bbs-3.23-bioc/R/bin/R CMD check --install=check:benchdamic.install-out.txt --library=/home/biocbuild/bbs-3.23-bioc/R/site-library --timings benchdamic_1.17.0.tar.gz |
| StartedAt: 2025-11-11 21:26:06 -0500 (Tue, 11 Nov 2025) |
| EndedAt: 2025-11-11 21:59:28 -0500 (Tue, 11 Nov 2025) |
| EllapsedTime: 2001.8 seconds |
| RetCode: 0 |
| Status: OK |
| CheckDir: benchdamic.Rcheck |
| Warnings: 0 |
##############################################################################
##############################################################################
###
### Running command:
###
### /home/biocbuild/bbs-3.23-bioc/R/bin/R CMD check --install=check:benchdamic.install-out.txt --library=/home/biocbuild/bbs-3.23-bioc/R/site-library --timings benchdamic_1.17.0.tar.gz
###
##############################################################################
##############################################################################
* using log directory ‘/home/biocbuild/bbs-3.23-bioc/meat/benchdamic.Rcheck’
* using R Under development (unstable) (2025-10-20 r88955)
* using platform: x86_64-pc-linux-gnu
* R was compiled by
gcc (Ubuntu 13.3.0-6ubuntu2~24.04) 13.3.0
GNU Fortran (Ubuntu 13.3.0-6ubuntu2~24.04) 13.3.0
* running under: Ubuntu 24.04.3 LTS
* using session charset: UTF-8
* checking for file ‘benchdamic/DESCRIPTION’ ... OK
* checking extension type ... Package
* this is package ‘benchdamic’ version ‘1.17.0’
* package encoding: UTF-8
* checking package namespace information ... OK
* checking package dependencies ... INFO
Imports includes 32 non-default packages.
Importing from so many packages makes the package vulnerable to any of
them becoming unavailable. Move as many as possible to Suggests and
use conditionally.
* checking if this is a source package ... OK
* checking if there is a namespace ... OK
* checking for hidden files and directories ... OK
* checking for portable file names ... OK
* checking for sufficient/correct file permissions ... OK
* checking whether package ‘benchdamic’ can be installed ... OK
* checking installed package size ... OK
* checking package directory ... OK
* checking ‘build’ directory ... OK
* checking DESCRIPTION meta-information ... OK
* checking top-level files ... OK
* checking for left-over files ... OK
* checking index information ... OK
* checking package subdirectories ... OK
* checking code files for non-ASCII characters ... OK
* checking R files for syntax errors ... OK
* checking whether the package can be loaded ... OK
* checking whether the package can be loaded with stated dependencies ... OK
* checking whether the package can be unloaded cleanly ... OK
* checking whether the namespace can be loaded with stated dependencies ... OK
* checking whether the namespace can be unloaded cleanly ... OK
* checking loading without being on the library search path ... OK
* checking dependencies in R code ... NOTE
Namespace in Imports field not imported from: ‘microbiome’
All declared Imports should be used.
* checking S3 generic/method consistency ... OK
* checking replacement functions ... OK
* checking foreign function calls ... OK
* checking R code for possible problems ... OK
* checking Rd files ... OK
* checking Rd metadata ... OK
* checking Rd cross-references ... NOTE
Non-topic package-anchored link(s) in Rd file 'norm_DESeq2.Rd':
‘[DESeq2]{estimateSizeFactors}’
See section 'Cross-references' in the 'Writing R Extensions' manual.
* checking for missing documentation entries ... OK
* checking for code/documentation mismatches ... OK
* checking Rd \usage sections ... OK
* checking Rd contents ... OK
* checking for unstated dependencies in examples ... OK
* checking contents of ‘data’ directory ... OK
* checking data for non-ASCII characters ... OK
* checking LazyData ... OK
* checking data for ASCII and uncompressed saves ... OK
* checking files in ‘vignettes’ ... OK
* checking examples ... OK
Examples with CPU (user + system) or elapsed time > 5s
user system elapsed
createTIEC 10.117 0.326 14.621
plotConcordance 5.655 0.069 5.938
fitModels 5.516 0.111 5.628
DA_ALDEx2 5.060 0.350 5.414
* checking for unstated dependencies in ‘tests’ ... OK
* checking tests ...
Running ‘testthat.R’
OK
* checking for unstated dependencies in vignettes ... OK
* checking package vignettes ... OK
* checking re-building of vignette outputs ... OK
* checking PDF version of manual ... OK
* DONE
Status: 2 NOTEs
See
‘/home/biocbuild/bbs-3.23-bioc/meat/benchdamic.Rcheck/00check.log’
for details.
benchdamic.Rcheck/00install.out
############################################################################## ############################################################################## ### ### Running command: ### ### /home/biocbuild/bbs-3.23-bioc/R/bin/R CMD INSTALL benchdamic ### ############################################################################## ############################################################################## * installing to library ‘/home/biocbuild/bbs-3.23-bioc/R/site-library’ * installing *source* package ‘benchdamic’ ... ** this is package ‘benchdamic’ version ‘1.17.0’ ** using staged installation ** R ** data *** moving datasets to lazyload DB ** inst ** byte-compile and prepare package for lazy loading Found more than one class "dist" in cache; using the first, from namespace 'BiocGenerics' Also defined by ‘spam’ ** help *** installing help indices ** building package indices ** installing vignettes ** testing if installed package can be loaded from temporary location Found more than one class "dist" in cache; using the first, from namespace 'BiocGenerics' Also defined by ‘spam’ ** testing if installed package can be loaded from final location Found more than one class "dist" in cache; using the first, from namespace 'BiocGenerics' Also defined by ‘spam’ ** testing if installed package keeps a record of temporary installation path * DONE (benchdamic)
benchdamic.Rcheck/tests/testthat.Rout
R Under development (unstable) (2025-10-20 r88955) -- "Unsuffered Consequences"
Copyright (C) 2025 The R Foundation for Statistical Computing
Platform: x86_64-pc-linux-gnu
R is free software and comes with ABSOLUTELY NO WARRANTY.
You are welcome to redistribute it under certain conditions.
Type 'license()' or 'licence()' for distribution details.
R is a collaborative project with many contributors.
Type 'contributors()' for more information and
'citation()' on how to cite R or R packages in publications.
Type 'demo()' for some demos, 'help()' for on-line help, or
'help.start()' for an HTML browser interface to help.
Type 'q()' to quit R.
> library(testthat)
> library(benchdamic)
Found more than one class "dist" in cache; using the first, from namespace 'BiocGenerics'
Also defined by 'spam'
>
> test_check("benchdamic")
|------------(25%)----------(50%)----------(75%)----------|
|------------(25%)----------(50%)----------(75%)----------|
|------------(25%)----------(50%)----------(75%)----------|
|------------(25%)----------(50%)----------(75%)----------|
|------------(25%)----------(50%)----------(75%)----------|
[ FAIL 0 | WARN 0 | SKIP 0 | PASS 334 ]
>
> proc.time()
user system elapsed
67.291 3.670 79.232
benchdamic.Rcheck/benchdamic-Ex.timings
| name | user | system | elapsed | |
| CAT | 0.003 | 0.001 | 0.004 | |
| DA_ALDEx2 | 5.060 | 0.350 | 5.414 | |
| DA_ANCOM | 0.720 | 0.027 | 0.747 | |
| DA_DESeq2 | 2.681 | 0.075 | 2.756 | |
| DA_MAST | 1.160 | 0.034 | 1.171 | |
| DA_Maaslin2 | 0.254 | 0.024 | 0.281 | |
| DA_NOISeq | 1.372 | 0.052 | 1.424 | |
| DA_Seurat | 1.848 | 0.016 | 1.864 | |
| DA_ZicoSeq | 0.621 | 0.008 | 0.630 | |
| DA_basic | 0.031 | 0.000 | 0.031 | |
| DA_corncob | 0.673 | 0.015 | 0.696 | |
| DA_dearseq | 0.055 | 0.000 | 0.056 | |
| DA_edgeR | 0.170 | 0.001 | 0.171 | |
| DA_limma | 0.066 | 0.002 | 0.068 | |
| DA_linda | 0.044 | 0.001 | 0.044 | |
| DA_maaslin3 | 0.464 | 0.007 | 0.472 | |
| DA_metagenomeSeq | 0.232 | 0.002 | 0.235 | |
| DA_mixMC | 0.590 | 0.002 | 0.592 | |
| RMSE | 0.001 | 0.000 | 0.001 | |
| addKnowledge | 0.210 | 0.004 | 0.213 | |
| areaCAT | 3.799 | 0.065 | 3.864 | |
| checkNormalization | 0.000 | 0.000 | 0.001 | |
| createColors | 0.004 | 0.000 | 0.004 | |
| createConcordance | 4.726 | 0.055 | 4.936 | |
| createEnrichment | 0.407 | 0.028 | 0.564 | |
| createMocks | 0.004 | 0.002 | 0.012 | |
| createPositives | 2.157 | 0.029 | 3.650 | |
| createSplits | 0.060 | 0.004 | 0.064 | |
| createTIEC | 10.117 | 0.326 | 14.621 | |
| enrichmentTest | 0.406 | 0.016 | 0.687 | |
| extractDA | 0.544 | 0.009 | 0.725 | |
| extractStatistics | 0.546 | 0.012 | 0.594 | |
| fitDM | 0.082 | 0.006 | 0.089 | |
| fitHURDLE | 2.669 | 0.042 | 2.815 | |
| fitModels | 5.516 | 0.111 | 5.628 | |
| fitNB | 0.07 | 0.00 | 0.07 | |
| fitZIG | 0.091 | 0.003 | 0.094 | |
| fitZINB | 0.764 | 0.021 | 0.785 | |
| getDA | 0.095 | 0.007 | 0.103 | |
| getPositives | 0.088 | 0.001 | 0.090 | |
| getStatistics | 0.082 | 0.005 | 0.087 | |
| get_counts_metadata | 0.118 | 0.002 | 0.119 | |
| iterative_ordering | 0.008 | 0.001 | 0.010 | |
| meanDifferences | 0.002 | 0.000 | 0.002 | |
| norm_CSS | 0.074 | 0.000 | 0.074 | |
| norm_DESeq2 | 0.671 | 0.002 | 0.673 | |
| norm_TSS | 0.089 | 0.000 | 0.092 | |
| norm_edgeR | 0.098 | 0.001 | 0.107 | |
| plotConcordance | 5.655 | 0.069 | 5.938 | |
| plotContingency | 1.367 | 0.038 | 1.405 | |
| plotEnrichment | 1.296 | 0.004 | 1.300 | |
| plotFDR | 2.580 | 0.036 | 2.616 | |
| plotFPR | 2.435 | 0.024 | 2.459 | |
| plotKS | 2.446 | 0.069 | 2.515 | |
| plotLogP | 2.375 | 0.013 | 2.388 | |
| plotMD | 3.391 | 0.071 | 3.461 | |
| plotMutualFindings | 1.307 | 0.007 | 1.314 | |
| plotPositives | 0.786 | 0.002 | 0.787 | |
| plotQQ | 2.390 | 0.024 | 2.415 | |
| plotRMSE | 2.656 | 0.013 | 2.668 | |
| prepareObserved | 0.002 | 0.000 | 0.001 | |
| runDA | 0.461 | 0.001 | 0.462 | |
| runMocks | 0.691 | 0.008 | 0.699 | |
| runNormalizations | 0.418 | 0.001 | 0.420 | |
| runSplits | 3.357 | 0.020 | 3.378 | |
| setNormalizations | 0.001 | 0.000 | 0.000 | |
| set_ALDEx2 | 0.006 | 0.001 | 0.006 | |
| set_ANCOM | 0.007 | 0.001 | 0.007 | |
| set_DESeq2 | 0.007 | 0.000 | 0.007 | |
| set_MAST | 0.003 | 0.000 | 0.003 | |
| set_Maaslin2 | 0.005 | 0.000 | 0.004 | |
| set_NOISeq | 0.004 | 0.000 | 0.004 | |
| set_Seurat | 0.006 | 0.000 | 0.006 | |
| set_ZicoSeq | 0.006 | 0.001 | 0.007 | |
| set_basic | 0.001 | 0.000 | 0.002 | |
| set_corncob | 0.004 | 0.000 | 0.003 | |
| set_dearseq | 0.002 | 0.000 | 0.002 | |
| set_edgeR | 0.010 | 0.001 | 0.011 | |
| set_limma | 0.007 | 0.000 | 0.008 | |
| set_linda | 0.004 | 0.002 | 0.006 | |
| set_maaslin3 | 0.006 | 0.001 | 0.006 | |
| set_metagenomeSeq | 0.004 | 0.001 | 0.005 | |
| set_mixMC | 0.002 | 0.000 | 0.003 | |
| weights_ZINB | 0.392 | 0.000 | 0.392 | |