| Back to Multiple platform build/check report for BioC 3.23: simplified long |
|
This page was generated on 2025-11-14 11:35 -0500 (Fri, 14 Nov 2025).
| Hostname | OS | Arch (*) | R version | Installed pkgs |
|---|---|---|---|---|
| nebbiolo1 | Linux (Ubuntu 24.04.3 LTS) | x86_64 | R Under development (unstable) (2025-10-20 r88955) -- "Unsuffered Consequences" | 4825 |
| kjohnson3 | macOS 13.7.7 Ventura | arm64 | R Under development (unstable) (2025-11-04 r88984) -- "Unsuffered Consequences" | 4547 |
| Click on any hostname to see more info about the system (e.g. compilers) (*) as reported by 'uname -p', except on Windows and Mac OS X | ||||
| Package 59/2325 | Hostname | OS / Arch | INSTALL | BUILD | CHECK | BUILD BIN | ||||||||
| AlpsNMR 4.13.0 (landing page) Sergio Oller Moreno
| nebbiolo1 | Linux (Ubuntu 24.04.3 LTS) / x86_64 | OK | OK | OK | |||||||||
| kjohnson3 | macOS 13.7.7 Ventura / arm64 | OK | OK | OK | OK | |||||||||
|
To the developers/maintainers of the AlpsNMR package: - Allow up to 24 hours (and sometimes 48 hours) for your latest push to git@git.bioconductor.org:packages/AlpsNMR.git to reflect on this report. See Troubleshooting Build Report for more information. - Use the following Renviron settings to reproduce errors and warnings. - If 'R CMD check' started to fail recently on the Linux builder(s) over a missing dependency, add the missing dependency to 'Suggests:' in your DESCRIPTION file. See Renviron.bioc for more information. |
| Package: AlpsNMR |
| Version: 4.13.0 |
| Command: /home/biocbuild/bbs-3.23-bioc/R/bin/R CMD check --install=check:AlpsNMR.install-out.txt --library=/home/biocbuild/bbs-3.23-bioc/R/site-library --timings AlpsNMR_4.13.0.tar.gz |
| StartedAt: 2025-11-13 20:58:48 -0500 (Thu, 13 Nov 2025) |
| EndedAt: 2025-11-13 21:03:44 -0500 (Thu, 13 Nov 2025) |
| EllapsedTime: 296.4 seconds |
| RetCode: 0 |
| Status: OK |
| CheckDir: AlpsNMR.Rcheck |
| Warnings: 0 |
##############################################################################
##############################################################################
###
### Running command:
###
### /home/biocbuild/bbs-3.23-bioc/R/bin/R CMD check --install=check:AlpsNMR.install-out.txt --library=/home/biocbuild/bbs-3.23-bioc/R/site-library --timings AlpsNMR_4.13.0.tar.gz
###
##############################################################################
##############################################################################
* using log directory ‘/home/biocbuild/bbs-3.23-bioc/meat/AlpsNMR.Rcheck’
* using R Under development (unstable) (2025-10-20 r88955)
* using platform: x86_64-pc-linux-gnu
* R was compiled by
gcc (Ubuntu 13.3.0-6ubuntu2~24.04) 13.3.0
GNU Fortran (Ubuntu 13.3.0-6ubuntu2~24.04) 13.3.0
* running under: Ubuntu 24.04.3 LTS
* using session charset: UTF-8
* checking for file ‘AlpsNMR/DESCRIPTION’ ... OK
* checking extension type ... Package
* this is package ‘AlpsNMR’ version ‘4.13.0’
* package encoding: UTF-8
* checking package namespace information ... OK
* checking package dependencies ... INFO
Imports includes 26 non-default packages.
Importing from so many packages makes the package vulnerable to any of
them becoming unavailable. Move as many as possible to Suggests and
use conditionally.
* checking if this is a source package ... OK
* checking if there is a namespace ... OK
* checking for hidden files and directories ... OK
* checking for portable file names ... OK
* checking for sufficient/correct file permissions ... OK
* checking whether package ‘AlpsNMR’ can be installed ... OK
* checking installed package size ... OK
* checking package directory ... OK
* checking ‘build’ directory ... OK
* checking DESCRIPTION meta-information ... OK
* checking top-level files ... OK
* checking for left-over files ... OK
* checking index information ... OK
* checking package subdirectories ... OK
* checking code files for non-ASCII characters ... OK
* checking R files for syntax errors ... OK
* checking whether the package can be loaded ... OK
* checking whether the package can be loaded with stated dependencies ... OK
* checking whether the package can be unloaded cleanly ... OK
* checking whether the namespace can be loaded with stated dependencies ... OK
* checking whether the namespace can be unloaded cleanly ... OK
* checking loading without being on the library search path ... OK
* checking dependencies in R code ... OK
* checking S3 generic/method consistency ... OK
* checking replacement functions ... OK
* checking foreign function calls ... OK
* checking R code for possible problems ... OK
* checking Rd files ... OK
* checking Rd metadata ... OK
* checking Rd cross-references ... NOTE
Non-topic package-anchored link(s) in Rd file 'reexports.Rd':
‘[magrittr:pipe]{%>%}’
See section 'Cross-references' in the 'Writing R Extensions' manual.
Found the following Rd file(s) with Rd \link{} targets missing package
anchors:
filter.nmr_dataset_family.Rd: dplyr
Please provide package anchors for all Rd \link{} targets not in the
package itself and the base packages.
* checking for missing documentation entries ... OK
* checking for code/documentation mismatches ... OK
* checking Rd \usage sections ... OK
* checking Rd contents ... OK
* checking for unstated dependencies in examples ... OK
* checking contents of ‘data’ directory ... OK
* checking data for non-ASCII characters ... OK
* checking data for ASCII and uncompressed saves ... OK
* checking sizes of PDF files under ‘inst/doc’ ...* checking files in ‘vignettes’ ... OK
* checking examples ... OK
Examples with CPU (user + system) or elapsed time > 5s
user system elapsed
Peak_detection 7.721 1.918 7.080
SummarizedExperiment_to_nmr_data_1r 6.503 0.988 6.835
nmr_pca_outliers_filter 3.905 3.032 3.316
nmr_pca_outliers_robust 4.806 0.858 4.971
* checking for unstated dependencies in ‘tests’ ... OK
* checking tests ...
Running ‘testthat.R’
OK
* checking for unstated dependencies in vignettes ... OK
* checking package vignettes ... OK
* checking re-building of vignette outputs ... OK
* checking PDF version of manual ... OK
* DONE
Status: 1 NOTE
See
‘/home/biocbuild/bbs-3.23-bioc/meat/AlpsNMR.Rcheck/00check.log’
for details.
AlpsNMR.Rcheck/00install.out
############################################################################## ############################################################################## ### ### Running command: ### ### /home/biocbuild/bbs-3.23-bioc/R/bin/R CMD INSTALL AlpsNMR ### ############################################################################## ############################################################################## * installing to library ‘/home/biocbuild/bbs-3.23-bioc/R/site-library’ * installing *source* package ‘AlpsNMR’ ... ** this is package ‘AlpsNMR’ version ‘4.13.0’ ** using staged installation ** R ** data ** inst ** byte-compile and prepare package for lazy loading ** help *** installing help indices *** copying figures ** building package indices ** installing vignettes ** testing if installed package can be loaded from temporary location ** testing if installed package can be loaded from final location ** testing if installed package keeps a record of temporary installation path * DONE (AlpsNMR)
AlpsNMR.Rcheck/tests/testthat.Rout
R Under development (unstable) (2025-10-20 r88955) -- "Unsuffered Consequences"
Copyright (C) 2025 The R Foundation for Statistical Computing
Platform: x86_64-pc-linux-gnu
R is free software and comes with ABSOLUTELY NO WARRANTY.
You are welcome to redistribute it under certain conditions.
Type 'license()' or 'licence()' for distribution details.
R is a collaborative project with many contributors.
Type 'contributors()' for more information and
'citation()' on how to cite R or R packages in publications.
Type 'demo()' for some demos, 'help()' for on-line help, or
'help.start()' for an HTML browser interface to help.
Type 'q()' to quit R.
> library(testthat)
> library(AlpsNMR)
Attaching package: 'AlpsNMR'
The following object is masked from 'package:stats':
filter
>
> test_check("AlpsNMR")
[ FAIL 0 | WARN 0 | SKIP 1 | PASS 93 ]
══ Skipped tests (1) ═══════════════════════════════════════════════════════════
• On Bioconductor (1): 'test_rDolphin.R:2:5'
[ FAIL 0 | WARN 0 | SKIP 1 | PASS 93 ]
>
> proc.time()
user system elapsed
20.679 6.944 20.020
AlpsNMR.Rcheck/AlpsNMR-Ex.timings
| name | user | system | elapsed | |
| AlpsNMR-package | 1.904 | 0.378 | 1.731 | |
| HMDB_blood | 0.006 | 0.001 | 0.007 | |
| HMDB_cell | 0.002 | 0.001 | 0.002 | |
| HMDB_urine | 0.004 | 0.001 | 0.005 | |
| Parameters_blood | 0.002 | 0.000 | 0.002 | |
| Parameters_cell | 0.001 | 0.001 | 0.002 | |
| Parameters_urine | 0.002 | 0.000 | 0.002 | |
| Peak_detection | 7.721 | 1.918 | 7.080 | |
| Pipelines | 0.002 | 0.000 | 0.003 | |
| ROI_blood | 0.003 | 0.001 | 0.004 | |
| ROI_cell | 0.002 | 0.001 | 0.004 | |
| ROI_urine | 0.002 | 0.001 | 0.004 | |
| SummarizedExperiment_to_nmr_data_1r | 6.503 | 0.988 | 6.835 | |
| SummarizedExperiment_to_nmr_dataset_peak_table | 1.005 | 0.532 | 0.855 | |
| bp_VIP_analysis | 2.784 | 1.922 | 3.181 | |
| bp_kfold_VIP_analysis | 0.861 | 0.650 | 0.645 | |
| download_MTBLS242 | 0 | 0 | 0 | |
| file_lister | 0.067 | 0.008 | 0.077 | |
| files_to_rDolphin | 0.000 | 0.001 | 0.000 | |
| filter.nmr_dataset_family | 0.702 | 0.440 | 0.566 | |
| format.nmr_dataset | 0.808 | 0.572 | 0.626 | |
| format.nmr_dataset_1D | 0.775 | 0.627 | 0.649 | |
| format.nmr_dataset_peak_table | 0.915 | 0.648 | 0.767 | |
| get_integration_with_metadata | 0.036 | 0.005 | 0.040 | |
| hmdb | 0.052 | 0.004 | 0.056 | |
| is.nmr_dataset | 0.720 | 0.628 | 0.562 | |
| is.nmr_dataset_1D | 0.691 | 0.601 | 0.651 | |
| is.nmr_dataset_peak_table | 0.886 | 0.622 | 0.704 | |
| load_and_save_functions | 0.663 | 0.577 | 0.533 | |
| models_stability_plot_bootstrap | 0.002 | 0.001 | 0.002 | |
| models_stability_plot_plsda | 0.362 | 0.398 | 0.405 | |
| new_nmr_dataset | 0.026 | 0.043 | 0.002 | |
| new_nmr_dataset_1D | 0.001 | 0.000 | 0.001 | |
| new_nmr_dataset_peak_table | 0.902 | 0.712 | 0.785 | |
| nmr_autophase | 0.221 | 0.122 | 0.317 | |
| nmr_baseline_estimation | 0.010 | 0.001 | 0.010 | |
| nmr_baseline_removal | 0.005 | 0.000 | 0.006 | |
| nmr_baseline_threshold | 0.001 | 0.000 | 0.002 | |
| nmr_baseline_threshold_plot | 0.290 | 0.074 | 0.364 | |
| nmr_batman | 0.003 | 0.000 | 0.004 | |
| nmr_batman_options | 0.000 | 0.000 | 0.001 | |
| nmr_build_peak_table | 0.035 | 0.009 | 0.044 | |
| nmr_data | 0.045 | 0.012 | 0.057 | |
| nmr_data_1r_to_SummarizedExperiment | 1.092 | 0.724 | 1.019 | |
| nmr_data_analysis | 0.401 | 0.552 | 0.435 | |
| nmr_dataset | 0.001 | 0.000 | 0.001 | |
| nmr_dataset_1D | 0.000 | 0.001 | 0.001 | |
| nmr_dataset_peak_table_to_SummarizedExperiment | 1.058 | 0.703 | 0.983 | |
| nmr_exclude_region | 0.004 | 0.002 | 0.006 | |
| nmr_export_data_1r | 0.916 | 0.649 | 0.712 | |
| nmr_get_peak_distances | 0.01 | 0.00 | 0.01 | |
| nmr_identify_regions_blood | 0.016 | 0.010 | 0.026 | |
| nmr_identify_regions_cell | 0.011 | 0.002 | 0.013 | |
| nmr_identify_regions_urine | 0.015 | 0.003 | 0.018 | |
| nmr_integrate_regions | 0.004 | 0.005 | 0.009 | |
| nmr_interpolate_1D | 1.672 | 1.359 | 1.400 | |
| nmr_meta_add | 1.863 | 1.493 | 1.735 | |
| nmr_meta_export | 0.681 | 0.605 | 0.560 | |
| nmr_meta_get | 0.776 | 0.674 | 0.628 | |
| nmr_meta_get_column | 0.704 | 0.594 | 0.578 | |
| nmr_meta_groups | 0.680 | 0.497 | 0.531 | |
| nmr_normalize | 0.324 | 0.130 | 0.454 | |
| nmr_pca_build_model | 1.681 | 1.242 | 1.500 | |
| nmr_pca_outliers | 0.997 | 0.595 | 0.780 | |
| nmr_pca_outliers_filter | 3.905 | 3.032 | 3.316 | |
| nmr_pca_outliers_plot | 0.001 | 0.000 | 0.001 | |
| nmr_pca_outliers_robust | 4.806 | 0.858 | 4.971 | |
| nmr_pca_plots | 0.488 | 0.032 | 0.519 | |
| nmr_peak_clustering | 0.067 | 0.002 | 0.069 | |
| nmr_ppm_resolution | 0.006 | 0.002 | 0.008 | |
| nmr_read_bruker_fid | 0.001 | 0.000 | 0.000 | |
| nmr_read_samples | 1.299 | 1.155 | 1.055 | |
| nmr_zip_bruker_samples | 0.256 | 0.010 | 0.268 | |
| peaklist_accept_peaks | 0.002 | 0.002 | 0.005 | |
| permutation_test_model | 1.484 | 1.093 | 1.743 | |
| permutation_test_plot | 2.538 | 1.662 | 1.721 | |
| plot.nmr_dataset_1D | 0.003 | 0.000 | 0.002 | |
| plot_bootstrap_multimodel | 0.003 | 0.000 | 0.004 | |
| plot_interactive | 3.298 | 1.675 | 0.645 | |
| plot_plsda_multimodel | 0.198 | 0.482 | 0.375 | |
| plot_plsda_samples | 0.128 | 0.162 | 0.218 | |
| plot_vip_scores | 0.002 | 0.000 | 0.003 | |
| plot_webgl | 0.001 | 0.001 | 0.002 | |
| plsda_auroc_vip_compare | 0.544 | 0.449 | 0.794 | |
| plsda_auroc_vip_method | 0 | 0 | 0 | |
| ppm_resolution | 0.003 | 0.001 | 0.004 | |
| print.nmr_dataset | 0.625 | 0.583 | 0.516 | |
| print.nmr_dataset_1D | 0.844 | 0.596 | 0.662 | |
| print.nmr_dataset_peak_table | 0.910 | 0.518 | 0.690 | |
| random_subsampling | 0.001 | 0.003 | 0.004 | |
| save_files_to_rDolphin | 0.001 | 0.000 | 0.000 | |
| save_profiling_output | 0.000 | 0.000 | 0.001 | |
| sub-.nmr_dataset | 0.625 | 0.570 | 0.508 | |
| sub-.nmr_dataset_1D | 1.085 | 0.851 | 0.893 | |
| sub-.nmr_dataset_peak_table | 0.853 | 0.681 | 0.753 | |
| tidy.nmr_dataset_1D | 0.895 | 0.826 | 0.898 | |
| to_ASICS | 0.928 | 0.292 | 1.220 | |
| to_ChemoSpec | 0.894 | 0.682 | 0.849 | |
| validate_nmr_dataset | 2.372 | 1.874 | 2.728 | |
| validate_nmr_dataset_family | 0.720 | 0.640 | 0.664 | |
| validate_nmr_dataset_peak_table | 0.001 | 0.001 | 0.002 | |
| zzz | 0.000 | 0.000 | 2.003 | |