| Back to Multiple platform build/check report for BioC 3.23: simplified long |
|
This page was generated on 2025-11-14 11:36 -0500 (Fri, 14 Nov 2025).
| Hostname | OS | Arch (*) | R version | Installed pkgs |
|---|---|---|---|---|
| nebbiolo1 | Linux (Ubuntu 24.04.3 LTS) | x86_64 | R Under development (unstable) (2025-10-20 r88955) -- "Unsuffered Consequences" | 4825 |
| kjohnson3 | macOS 13.7.7 Ventura | arm64 | R Under development (unstable) (2025-11-04 r88984) -- "Unsuffered Consequences" | 4547 |
| Click on any hostname to see more info about the system (e.g. compilers) (*) as reported by 'uname -p', except on Windows and Mac OS X | ||||
| Package 59/2325 | Hostname | OS / Arch | INSTALL | BUILD | CHECK | BUILD BIN | ||||||||
| AlpsNMR 4.13.0 (landing page) Sergio Oller Moreno
| nebbiolo1 | Linux (Ubuntu 24.04.3 LTS) / x86_64 | OK | OK | OK | |||||||||
| kjohnson3 | macOS 13.7.7 Ventura / arm64 | OK | OK | OK | OK | |||||||||
|
To the developers/maintainers of the AlpsNMR package: - Allow up to 24 hours (and sometimes 48 hours) for your latest push to git@git.bioconductor.org:packages/AlpsNMR.git to reflect on this report. See Troubleshooting Build Report for more information. - Use the following Renviron settings to reproduce errors and warnings. - If 'R CMD check' started to fail recently on the Linux builder(s) over a missing dependency, add the missing dependency to 'Suggests:' in your DESCRIPTION file. See Renviron.bioc for more information. |
| Package: AlpsNMR |
| Version: 4.13.0 |
| Command: /Library/Frameworks/R.framework/Resources/bin/R CMD check --install=check:AlpsNMR.install-out.txt --library=/Library/Frameworks/R.framework/Resources/library --no-vignettes --timings AlpsNMR_4.13.0.tar.gz |
| StartedAt: 2025-11-13 18:27:59 -0500 (Thu, 13 Nov 2025) |
| EndedAt: 2025-11-13 18:29:27 -0500 (Thu, 13 Nov 2025) |
| EllapsedTime: 88.2 seconds |
| RetCode: 0 |
| Status: OK |
| CheckDir: AlpsNMR.Rcheck |
| Warnings: 0 |
##############################################################################
##############################################################################
###
### Running command:
###
### /Library/Frameworks/R.framework/Resources/bin/R CMD check --install=check:AlpsNMR.install-out.txt --library=/Library/Frameworks/R.framework/Resources/library --no-vignettes --timings AlpsNMR_4.13.0.tar.gz
###
##############################################################################
##############################################################################
* using log directory ‘/Users/biocbuild/bbs-3.23-bioc/meat/AlpsNMR.Rcheck’
* using R Under development (unstable) (2025-11-04 r88984)
* using platform: aarch64-apple-darwin20
* R was compiled by
Apple clang version 16.0.0 (clang-1600.0.26.6)
GNU Fortran (GCC) 14.2.0
* running under: macOS Ventura 13.7.8
* using session charset: UTF-8
* using option ‘--no-vignettes’
* checking for file ‘AlpsNMR/DESCRIPTION’ ... OK
* checking extension type ... Package
* this is package ‘AlpsNMR’ version ‘4.13.0’
* package encoding: UTF-8
* checking package namespace information ... OK
* checking package dependencies ... INFO
Imports includes 26 non-default packages.
Importing from so many packages makes the package vulnerable to any of
them becoming unavailable. Move as many as possible to Suggests and
use conditionally.
* checking if this is a source package ... OK
* checking if there is a namespace ... OK
* checking for hidden files and directories ... OK
* checking for portable file names ... OK
* checking for sufficient/correct file permissions ... OK
* checking whether package ‘AlpsNMR’ can be installed ... OK
* checking installed package size ... OK
* checking package directory ... OK
* checking ‘build’ directory ... OK
* checking DESCRIPTION meta-information ... OK
* checking top-level files ... OK
* checking for left-over files ... OK
* checking index information ... OK
* checking package subdirectories ... OK
* checking code files for non-ASCII characters ... OK
* checking R files for syntax errors ... OK
* checking whether the package can be loaded ... OK
* checking whether the package can be loaded with stated dependencies ... OK
* checking whether the package can be unloaded cleanly ... OK
* checking whether the namespace can be loaded with stated dependencies ... OK
* checking whether the namespace can be unloaded cleanly ... OK
* checking dependencies in R code ... OK
* checking S3 generic/method consistency ... OK
* checking replacement functions ... OK
* checking foreign function calls ... OK
* checking R code for possible problems ... OK
* checking Rd files ... OK
* checking Rd metadata ... OK
* checking Rd cross-references ... NOTE
Non-topic package-anchored link(s) in Rd file 'reexports.Rd':
‘[magrittr:pipe]{%>%}’
See section 'Cross-references' in the 'Writing R Extensions' manual.
Found the following Rd file(s) with Rd \link{} targets missing package
anchors:
filter.nmr_dataset_family.Rd: dplyr
Please provide package anchors for all Rd \link{} targets not in the
package itself and the base packages.
* checking for missing documentation entries ... OK
* checking for code/documentation mismatches ... OK
* checking Rd \usage sections ... OK
* checking Rd contents ... OK
* checking for unstated dependencies in examples ... OK
* checking contents of ‘data’ directory ... OK
* checking data for non-ASCII characters ... OK
* checking data for ASCII and uncompressed saves ... OK
* checking sizes of PDF files under ‘inst/doc’ ... OK
* checking files in ‘vignettes’ ... OK
* checking examples ... OK
* checking for unstated dependencies in ‘tests’ ... OK
* checking tests ...
Running ‘testthat.R’
OK
* checking for unstated dependencies in vignettes ... OK
* checking package vignettes ... OK
* checking running R code from vignettes ... SKIPPED
* checking re-building of vignette outputs ... SKIPPED
* checking PDF version of manual ... OK
* DONE
Status: 1 NOTE
See
‘/Users/biocbuild/bbs-3.23-bioc/meat/AlpsNMR.Rcheck/00check.log’
for details.
AlpsNMR.Rcheck/00install.out
############################################################################## ############################################################################## ### ### Running command: ### ### /Library/Frameworks/R.framework/Resources/bin/R CMD INSTALL AlpsNMR ### ############################################################################## ############################################################################## * installing to library ‘/Library/Frameworks/R.framework/Versions/4.6-arm64/Resources/library’ * installing *source* package ‘AlpsNMR’ ... ** this is package ‘AlpsNMR’ version ‘4.13.0’ ** using staged installation ** R ** data ** inst ** byte-compile and prepare package for lazy loading ** help *** installing help indices *** copying figures ** building package indices ** installing vignettes ** testing if installed package can be loaded from temporary location ** testing if installed package can be loaded from final location ** testing if installed package keeps a record of temporary installation path * DONE (AlpsNMR)
AlpsNMR.Rcheck/tests/testthat.Rout
R Under development (unstable) (2025-11-04 r88984) -- "Unsuffered Consequences"
Copyright (C) 2025 The R Foundation for Statistical Computing
Platform: aarch64-apple-darwin20
R is free software and comes with ABSOLUTELY NO WARRANTY.
You are welcome to redistribute it under certain conditions.
Type 'license()' or 'licence()' for distribution details.
R is a collaborative project with many contributors.
Type 'contributors()' for more information and
'citation()' on how to cite R or R packages in publications.
Type 'demo()' for some demos, 'help()' for on-line help, or
'help.start()' for an HTML browser interface to help.
Type 'q()' to quit R.
> library(testthat)
> library(AlpsNMR)
Attaching package: 'AlpsNMR'
The following object is masked from 'package:stats':
filter
>
> test_check("AlpsNMR")
[ FAIL 0 | WARN 0 | SKIP 1 | PASS 93 ]
══ Skipped tests (1) ═══════════════════════════════════════════════════════════
• On Bioconductor (1): 'test_rDolphin.R:2:5'
[ FAIL 0 | WARN 0 | SKIP 1 | PASS 93 ]
>
> proc.time()
user system elapsed
10.924 4.857 11.437
AlpsNMR.Rcheck/AlpsNMR-Ex.timings
| name | user | system | elapsed | |
| AlpsNMR-package | 0.829 | 0.226 | 0.836 | |
| HMDB_blood | 0.003 | 0.002 | 0.004 | |
| HMDB_cell | 0.001 | 0.001 | 0.002 | |
| HMDB_urine | 0.001 | 0.002 | 0.002 | |
| Parameters_blood | 0.001 | 0.001 | 0.001 | |
| Parameters_cell | 0.000 | 0.001 | 0.002 | |
| Parameters_urine | 0.000 | 0.001 | 0.002 | |
| Peak_detection | 3.190 | 1.078 | 3.259 | |
| Pipelines | 0.001 | 0.000 | 0.001 | |
| ROI_blood | 0.001 | 0.001 | 0.002 | |
| ROI_cell | 0.001 | 0.001 | 0.002 | |
| ROI_urine | 0.001 | 0.001 | 0.002 | |
| SummarizedExperiment_to_nmr_data_1r | 2.888 | 0.412 | 3.147 | |
| SummarizedExperiment_to_nmr_dataset_peak_table | 0.480 | 0.387 | 0.473 | |
| bp_VIP_analysis | 0.553 | 0.424 | 0.430 | |
| bp_kfold_VIP_analysis | 0.264 | 0.250 | 0.298 | |
| download_MTBLS242 | 0 | 0 | 0 | |
| file_lister | 0.024 | 0.007 | 0.031 | |
| files_to_rDolphin | 0.000 | 0.000 | 0.001 | |
| filter.nmr_dataset_family | 1.730 | 1.002 | 1.338 | |
| format.nmr_dataset | 0.278 | 0.274 | 0.277 | |
| format.nmr_dataset_1D | 0.328 | 0.280 | 0.330 | |
| format.nmr_dataset_peak_table | 0.322 | 0.302 | 0.346 | |
| get_integration_with_metadata | 0.012 | 0.006 | 0.018 | |
| hmdb | 0.020 | 0.005 | 0.035 | |
| is.nmr_dataset | 0.289 | 0.263 | 0.290 | |
| is.nmr_dataset_1D | 0.298 | 0.260 | 0.302 | |
| is.nmr_dataset_peak_table | 0.346 | 0.292 | 0.343 | |
| load_and_save_functions | 0.267 | 0.289 | 0.332 | |
| models_stability_plot_bootstrap | 0.001 | 0.000 | 0.001 | |
| models_stability_plot_plsda | 0.161 | 0.211 | 0.196 | |
| new_nmr_dataset | 0.000 | 0.001 | 0.001 | |
| new_nmr_dataset_1D | 0.000 | 0.000 | 0.001 | |
| new_nmr_dataset_peak_table | 0.342 | 0.329 | 0.344 | |
| nmr_autophase | 0.083 | 0.057 | 0.144 | |
| nmr_baseline_estimation | 0.004 | 0.003 | 0.008 | |
| nmr_baseline_removal | 0.002 | 0.000 | 0.003 | |
| nmr_baseline_threshold | 0.000 | 0.002 | 0.003 | |
| nmr_baseline_threshold_plot | 0.092 | 0.040 | 0.139 | |
| nmr_batman | 0.001 | 0.001 | 0.001 | |
| nmr_batman_options | 0 | 0 | 0 | |
| nmr_build_peak_table | 0.012 | 0.003 | 0.017 | |
| nmr_data | 0.015 | 0.005 | 0.020 | |
| nmr_data_1r_to_SummarizedExperiment | 0.375 | 0.307 | 0.375 | |
| nmr_data_analysis | 0.136 | 0.190 | 0.174 | |
| nmr_dataset | 0.001 | 0.000 | 0.001 | |
| nmr_dataset_1D | 0.000 | 0.000 | 0.001 | |
| nmr_dataset_peak_table_to_SummarizedExperiment | 0.353 | 0.268 | 0.386 | |
| nmr_exclude_region | 0.003 | 0.000 | 0.003 | |
| nmr_export_data_1r | 0.382 | 0.379 | 0.381 | |
| nmr_get_peak_distances | 0.003 | 0.001 | 0.004 | |
| nmr_identify_regions_blood | 0.004 | 0.003 | 0.008 | |
| nmr_identify_regions_cell | 0.003 | 0.001 | 0.004 | |
| nmr_identify_regions_urine | 0.005 | 0.002 | 0.007 | |
| nmr_integrate_regions | 0.003 | 0.000 | 0.004 | |
| nmr_interpolate_1D | 0.688 | 0.696 | 0.694 | |
| nmr_meta_add | 0.669 | 0.524 | 0.706 | |
| nmr_meta_export | 0.265 | 0.251 | 0.254 | |
| nmr_meta_get | 0.222 | 0.227 | 0.289 | |
| nmr_meta_get_column | 0.310 | 0.338 | 0.324 | |
| nmr_meta_groups | 0.294 | 0.323 | 0.323 | |
| nmr_normalize | 0.102 | 0.047 | 0.154 | |
| nmr_pca_build_model | 0.796 | 0.709 | 0.805 | |
| nmr_pca_outliers | 0.395 | 0.389 | 0.452 | |
| nmr_pca_outliers_filter | 0.352 | 0.248 | 0.349 | |
| nmr_pca_outliers_plot | 0 | 0 | 0 | |
| nmr_pca_outliers_robust | 2.139 | 0.460 | 2.377 | |
| nmr_pca_plots | 0.165 | 0.004 | 0.178 | |
| nmr_peak_clustering | 0.024 | 0.001 | 0.034 | |
| nmr_ppm_resolution | 0.003 | 0.000 | 0.004 | |
| nmr_read_bruker_fid | 0 | 0 | 0 | |
| nmr_read_samples | 0.575 | 0.467 | 0.492 | |
| nmr_zip_bruker_samples | 0.136 | 0.018 | 0.158 | |
| peaklist_accept_peaks | 0.001 | 0.001 | 0.002 | |
| permutation_test_model | 0.950 | 0.637 | 0.797 | |
| permutation_test_plot | 1.404 | 0.871 | 0.837 | |
| plot.nmr_dataset_1D | 0.000 | 0.001 | 0.001 | |
| plot_bootstrap_multimodel | 0.001 | 0.001 | 0.002 | |
| plot_interactive | 0.724 | 0.458 | 0.325 | |
| plot_plsda_multimodel | 0.081 | 0.128 | 0.139 | |
| plot_plsda_samples | 0.049 | 0.086 | 0.134 | |
| plot_vip_scores | 0.000 | 0.001 | 0.001 | |
| plot_webgl | 0.001 | 0.001 | 0.001 | |
| plsda_auroc_vip_compare | 0.191 | 0.259 | 0.461 | |
| plsda_auroc_vip_method | 0 | 0 | 0 | |
| ppm_resolution | 0.001 | 0.000 | 0.002 | |
| print.nmr_dataset | 0.293 | 0.245 | 0.306 | |
| print.nmr_dataset_1D | 0.366 | 0.347 | 0.366 | |
| print.nmr_dataset_peak_table | 0.318 | 0.231 | 0.356 | |
| random_subsampling | 0.001 | 0.001 | 0.002 | |
| save_files_to_rDolphin | 0 | 0 | 0 | |
| save_profiling_output | 0 | 0 | 0 | |
| sub-.nmr_dataset | 0.290 | 0.214 | 0.271 | |
| sub-.nmr_dataset_1D | 0.322 | 0.241 | 0.318 | |
| sub-.nmr_dataset_peak_table | 0.465 | 0.463 | 0.471 | |
| tidy.nmr_dataset_1D | 0.342 | 0.294 | 0.392 | |
| to_ASICS | 0.367 | 0.084 | 0.476 | |
| to_ChemoSpec | 0.382 | 0.380 | 0.414 | |
| validate_nmr_dataset | 0.692 | 0.776 | 0.754 | |
| validate_nmr_dataset_family | 0.383 | 0.368 | 0.421 | |
| validate_nmr_dataset_peak_table | 0.001 | 0.000 | 0.000 | |
| zzz | 0.000 | 0.000 | 2.013 | |