| Back to Multiple platform build/check report for BioC 3.22: simplified long | 
 | 
This page was generated on 2025-10-30 12:36 -0400 (Thu, 30 Oct 2025).
| Hostname | OS | Arch (*) | R version | Installed pkgs | 
|---|---|---|---|---|
| nebbiolo2 | Linux (Ubuntu 24.04.3 LTS) | x86_64 | 4.5.1 Patched (2025-08-23 r88802) -- "Great Square Root" | 4901 | 
| lconway | macOS 12.7.6 Monterey | x86_64 | 4.5.1 Patched (2025-09-10 r88807) -- "Great Square Root" | 4691 | 
| kjohnson3 | macOS 13.7.7 Ventura | arm64 | 4.5.1 Patched (2025-09-10 r88807) -- "Great Square Root" | 4637 | 
| Click on any hostname to see more info about the system (e.g. compilers) (*) as reported by 'uname -p', except on Windows and Mac OS X | ||||
| Package 2227/2361 | Hostname | OS / Arch | INSTALL | BUILD | CHECK | BUILD BIN | ||||||||
| tLOH 1.18.0  (landing page) Michelle Webb 
 | nebbiolo2 | Linux (Ubuntu 24.04.3 LTS) / x86_64 | OK | OK | OK |  | ||||||||
| lconway | macOS 12.7.6 Monterey / x86_64 | OK | OK | OK | OK |  | ||||||||
| kjohnson3 | macOS 13.7.7 Ventura / arm64 | OK | OK | OK | OK |  | ||||||||
| To the developers/maintainers of the tLOH package: - Allow up to 24 hours (and sometimes 48 hours) for your latest push to git@git.bioconductor.org:packages/tLOH.git to reflect on this report. See Troubleshooting Build Report for more information. - Use the following Renviron settings to reproduce errors and warnings. - If 'R CMD check' started to fail recently on the Linux builder(s) over a missing dependency, add the missing dependency to 'Suggests:' in your DESCRIPTION file. See Renviron.bioc for more information. | 
| Package: tLOH | 
| Version: 1.18.0 | 
| Command: /Library/Frameworks/R.framework/Resources/bin/R CMD check --install=check:tLOH.install-out.txt --library=/Library/Frameworks/R.framework/Resources/library --no-vignettes --timings tLOH_1.18.0.tar.gz | 
| StartedAt: 2025-10-30 07:28:05 -0400 (Thu, 30 Oct 2025) | 
| EndedAt: 2025-10-30 07:40:00 -0400 (Thu, 30 Oct 2025) | 
| EllapsedTime: 715.1 seconds | 
| RetCode: 0 | 
| Status: OK | 
| CheckDir: tLOH.Rcheck | 
| Warnings: 0 | 
##############################################################################
##############################################################################
###
### Running command:
###
###   /Library/Frameworks/R.framework/Resources/bin/R CMD check --install=check:tLOH.install-out.txt --library=/Library/Frameworks/R.framework/Resources/library --no-vignettes --timings tLOH_1.18.0.tar.gz
###
##############################################################################
##############################################################################
* using log directory ‘/Users/biocbuild/bbs-3.22-bioc/meat/tLOH.Rcheck’
* using R version 4.5.1 Patched (2025-09-10 r88807)
* using platform: x86_64-apple-darwin20
* R was compiled by
    Apple clang version 14.0.0 (clang-1400.0.29.202)
    GNU Fortran (GCC) 14.2.0
* running under: macOS Monterey 12.7.6
* using session charset: UTF-8
* using option ‘--no-vignettes’
* checking for file ‘tLOH/DESCRIPTION’ ... OK
* checking extension type ... Package
* this is package ‘tLOH’ version ‘1.18.0’
* package encoding: UTF-8
* checking package namespace information ... OK
* checking package dependencies ... OK
* checking if this is a source package ... OK
* checking if there is a namespace ... OK
* checking for hidden files and directories ... OK
* checking for portable file names ... OK
* checking for sufficient/correct file permissions ... OK
* checking whether package ‘tLOH’ can be installed ... OK
* checking installed package size ... OK
* checking package directory ... OK
* checking ‘build’ directory ... OK
* checking DESCRIPTION meta-information ... NOTE
License stub is invalid DCF.
* checking top-level files ... OK
* checking for left-over files ... OK
* checking index information ... OK
* checking package subdirectories ... NOTE
Problems with news in ‘NEWS.md’:
No news entries found.
* checking code files for non-ASCII characters ... OK
* checking R files for syntax errors ... OK
* checking whether the package can be loaded ... OK
* checking whether the package can be loaded with stated dependencies ... OK
* checking whether the package can be unloaded cleanly ... OK
* checking whether the namespace can be loaded with stated dependencies ... OK
* checking whether the namespace can be unloaded cleanly ... OK
* checking dependencies in R code ... OK
* checking S3 generic/method consistency ... OK
* checking replacement functions ... OK
* checking foreign function calls ... OK
* checking R code for possible problems ... OK
* checking Rd files ... OK
* checking Rd metadata ... OK
* checking Rd cross-references ... OK
* checking for missing documentation entries ... OK
* checking for code/documentation mismatches ... OK
* checking Rd \usage sections ... OK
* checking Rd contents ... OK
* checking for unstated dependencies in examples ... OK
* checking contents of ‘data’ directory ... OK
* checking data for non-ASCII characters ... OK
* checking data for ASCII and uncompressed saves ... OK
* checking files in ‘vignettes’ ... OK
* checking examples ... OK
Examples with CPU (user + system) or elapsed time > 5s
                       user system elapsed
hiddenMarkovAnalysis 70.204 12.548 117.716
regionAnalysis       50.617  3.803  64.642
runHMM_2             42.385  0.918  43.516
runHMM_3             41.867  0.923  42.981
prepareHMMdataframes 24.639  2.081  33.559
runHMM_1             24.704  0.434  25.237
splitByChromosome    22.410  0.467  22.980
tLOHCalcUpdate       22.388  0.424  22.947
alleleFrequencyPlot   7.333  0.230   7.594
aggregateCHRPlot      6.678  0.243   6.945
* checking for unstated dependencies in vignettes ... OK
* checking package vignettes ... OK
* checking running R code from vignettes ... SKIPPED
* checking re-building of vignette outputs ... SKIPPED
* checking PDF version of manual ... OK
* DONE
Status: 2 NOTEs
See
  ‘/Users/biocbuild/bbs-3.22-bioc/meat/tLOH.Rcheck/00check.log’
for details.
tLOH.Rcheck/00install.out
############################################################################## ############################################################################## ### ### Running command: ### ### /Library/Frameworks/R.framework/Resources/bin/R CMD INSTALL tLOH ### ############################################################################## ############################################################################## * installing to library ‘/Library/Frameworks/R.framework/Versions/4.5-x86_64/Resources/library’ * installing *source* package ‘tLOH’ ... ** this is package ‘tLOH’ version ‘1.18.0’ ** using staged installation ** R ** data ** inst ** byte-compile and prepare package for lazy loading ** help *** installing help indices ** building package indices ** installing vignettes ** testing if installed package can be loaded from temporary location ** testing if installed package can be loaded from final location ** testing if installed package keeps a record of temporary installation path * DONE (tLOH)
tLOH.Rcheck/tLOH-Ex.timings
| name | user | system | elapsed | |
| aggregateCHRPlot | 6.678 | 0.243 | 6.945 | |
| alleleFrequencyPlot | 7.333 | 0.230 | 7.594 | |
| documentErrorRegions | 0.002 | 0.001 | 0.003 | |
| hiddenMarkovAnalysis | 70.204 | 12.548 | 117.716 | |
| humanGBMsampleAC | 0.034 | 0.023 | 0.133 | |
| initialStartProbabilities | 0.001 | 0.002 | 0.005 | |
| marginalLikelihoodM1 | 0.002 | 0.006 | 0.016 | |
| marginalLikelihoodM2 | 0.002 | 0.005 | 0.013 | |
| marginalM1Calc | 0.000 | 0.001 | 0.001 | |
| marginalM2CalcBHET | 0.001 | 0.001 | 0.004 | |
| marginalM2CalcBLOH | 0.001 | 0.000 | 0.002 | |
| modePeakCalc | 0.001 | 0.001 | 0.001 | |
| prepareHMMdataframes | 24.639 | 2.081 | 33.559 | |
| regionAnalysis | 50.617 | 3.803 | 64.642 | |
| regionFinalize | 0.000 | 0.000 | 0.001 | |
| removeOutlierFromCalc | 0.000 | 0.000 | 0.001 | |
| runHMM_1 | 24.704 | 0.434 | 25.237 | |
| runHMM_2 | 42.385 | 0.918 | 43.516 | |
| runHMM_3 | 41.867 | 0.923 | 42.981 | |
| splitByChromosome | 22.410 | 0.467 | 22.980 | |
| summarizeRegions1 | 0 | 0 | 0 | |
| summarizeRegions2 | 0 | 0 | 0 | |
| tLOHCalc | 4.050 | 0.092 | 4.150 | |
| tLOHCalcUpdate | 22.388 | 0.424 | 22.947 | |
| tLOHDataImport | 0 | 0 | 0 | |