| Back to Multiple platform build/check report for BioC 3.22: simplified long | 
 | 
This page was generated on 2025-10-25 12:05 -0400 (Sat, 25 Oct 2025).
| Hostname | OS | Arch (*) | R version | Installed pkgs | 
|---|---|---|---|---|
| nebbiolo2 | Linux (Ubuntu 24.04.3 LTS) | x86_64 | 4.5.1 Patched (2025-08-23 r88802) -- "Great Square Root" | 4901 | 
| lconway | macOS 12.7.6 Monterey | x86_64 | 4.5.1 Patched (2025-09-10 r88807) -- "Great Square Root" | 4691 | 
| kjohnson3 | macOS 13.7.7 Ventura | arm64 | 4.5.1 Patched (2025-09-10 r88807) -- "Great Square Root" | 4637 | 
| taishan | Linux (openEuler 24.03 LTS) | aarch64 | 4.5.0 (2025-04-11) -- "How About a Twenty-Six" | 4658 | 
| Click on any hostname to see more info about the system (e.g. compilers) (*) as reported by 'uname -p', except on Windows and Mac OS X | ||||
| Package 2078/2361 | Hostname | OS / Arch | INSTALL | BUILD | CHECK | BUILD BIN | ||||||||
| spatialDE 1.15.1  (landing page) Gabriele Sales 
 | nebbiolo2 | Linux (Ubuntu 24.04.3 LTS) / x86_64 | OK | OK | OK |  | ||||||||
| lconway | macOS 12.7.6 Monterey / x86_64 | OK | OK | OK | OK |  | ||||||||
| kjohnson3 | macOS 13.7.7 Ventura / arm64 | OK | OK | OK | OK |  | ||||||||
| taishan | Linux (openEuler 24.03 LTS) / aarch64 | OK | NA | NA | ||||||||||
| To the developers/maintainers of the spatialDE package: - Allow up to 24 hours (and sometimes 48 hours) for your latest push to git@git.bioconductor.org:packages/spatialDE.git to reflect on this report. See Troubleshooting Build Report for more information. - Use the following Renviron settings to reproduce errors and warnings. - If 'R CMD check' started to fail recently on the Linux builder(s) over a missing dependency, add the missing dependency to 'Suggests:' in your DESCRIPTION file. See Renviron.bioc for more information. | 
| Package: spatialDE | 
| Version: 1.15.1 | 
| Command: /Library/Frameworks/R.framework/Resources/bin/R CMD check --install=check:spatialDE.install-out.txt --library=/Library/Frameworks/R.framework/Resources/library --no-vignettes --timings spatialDE_1.15.1.tar.gz | 
| StartedAt: 2025-10-25 00:28:53 -0400 (Sat, 25 Oct 2025) | 
| EndedAt: 2025-10-25 00:33:35 -0400 (Sat, 25 Oct 2025) | 
| EllapsedTime: 281.9 seconds | 
| RetCode: 0 | 
| Status: OK | 
| CheckDir: spatialDE.Rcheck | 
| Warnings: 0 | 
##############################################################################
##############################################################################
###
### Running command:
###
###   /Library/Frameworks/R.framework/Resources/bin/R CMD check --install=check:spatialDE.install-out.txt --library=/Library/Frameworks/R.framework/Resources/library --no-vignettes --timings spatialDE_1.15.1.tar.gz
###
##############################################################################
##############################################################################
* using log directory ‘/Users/biocbuild/bbs-3.22-bioc/meat/spatialDE.Rcheck’
* using R version 4.5.1 Patched (2025-09-10 r88807)
* using platform: x86_64-apple-darwin20
* R was compiled by
    Apple clang version 14.0.0 (clang-1400.0.29.202)
    GNU Fortran (GCC) 14.2.0
* running under: macOS Monterey 12.7.6
* using session charset: UTF-8
* using option ‘--no-vignettes’
* checking for file ‘spatialDE/DESCRIPTION’ ... OK
* this is package ‘spatialDE’ version ‘1.15.1’
* package encoding: UTF-8
* checking package namespace information ... OK
* checking package dependencies ... OK
* checking if this is a source package ... OK
* checking if there is a namespace ... OK
* checking for hidden files and directories ... OK
* checking for portable file names ... OK
* checking for sufficient/correct file permissions ... OK
* checking whether package ‘spatialDE’ can be installed ... NOTE
Found the following notes/warnings:
  Non-staged installation was used
See ‘/Users/biocbuild/bbs-3.22-bioc/meat/spatialDE.Rcheck/00install.out’ for details.
* checking installed package size ... OK
* checking package directory ... OK
* checking ‘build’ directory ... OK
* checking DESCRIPTION meta-information ... OK
* checking top-level files ... OK
* checking for left-over files ... OK
* checking index information ... OK
* checking package subdirectories ... OK
* checking code files for non-ASCII characters ... OK
* checking R files for syntax errors ... OK
* checking whether the package can be loaded ... OK
* checking whether the package can be loaded with stated dependencies ... OK
* checking whether the package can be unloaded cleanly ... OK
* checking whether the namespace can be loaded with stated dependencies ... OK
* checking whether the namespace can be unloaded cleanly ... OK
* checking dependencies in R code ... OK
* checking S3 generic/method consistency ... OK
* checking replacement functions ... OK
* checking foreign function calls ... OK
* checking R code for possible problems ... OK
* checking Rd files ... OK
* checking Rd metadata ... OK
* checking Rd cross-references ... NOTE
Found the following Rd file(s) with Rd \link{} targets missing package
anchors:
  mockSVG.Rd: SpatialExperiment-class
  modelSearch.Rd: SpatialExperiment-class
  multiGenePlots.Rd: SpatialExperiment-class
  spatialDE.Rd: SpatialExperiment-class
  spatialPatterns.Rd: SpatialExperiment-class
Please provide package anchors for all Rd \link{} targets not in the
package itself and the base packages.
* checking for missing documentation entries ... OK
* checking for code/documentation mismatches ... OK
* checking Rd \usage sections ... OK
* checking Rd contents ... OK
* checking for unstated dependencies in examples ... OK
* checking contents of ‘data’ directory ... OK
* checking data for non-ASCII characters ... OK
* checking data for ASCII and uncompressed saves ... OK
* checking line endings in shell scripts ... OK
* checking files in ‘vignettes’ ... OK
* checking examples ... OK
Examples with CPU (user + system) or elapsed time > 5s
                   user system elapsed
spatial_patterns 19.812  3.541  12.542
FSV_sig           5.050  1.665   6.643
* checking for unstated dependencies in ‘tests’ ... OK
* checking tests ...
  Running ‘testthat.R’
 OK
* checking for unstated dependencies in vignettes ... OK
* checking package vignettes ... OK
* checking running R code from vignettes ... SKIPPED
* checking re-building of vignette outputs ... SKIPPED
* checking PDF version of manual ... OK
* DONE
Status: 2 NOTEs
See
  ‘/Users/biocbuild/bbs-3.22-bioc/meat/spatialDE.Rcheck/00check.log’
for details.
spatialDE.Rcheck/00install.out
############################################################################## ############################################################################## ### ### Running command: ### ### /Library/Frameworks/R.framework/Resources/bin/R CMD INSTALL spatialDE ### ############################################################################## ############################################################################## * installing to library ‘/Library/Frameworks/R.framework/Versions/4.5-x86_64/Resources/library’ * installing *source* package ‘spatialDE’ ... ** this is package ‘spatialDE’ version ‘1.15.1’ ** using non-staged installation via StagedInstall field ** R ** data ** inst ** byte-compile and prepare package for lazy loading ** help *** installing help indices ** building package indices ** installing vignettes ** testing if installed package can be loaded * DONE (spatialDE)
spatialDE.Rcheck/tests/testthat.Rout
R version 4.5.1 Patched (2025-09-10 r88807) -- "Great Square Root"
Copyright (C) 2025 The R Foundation for Statistical Computing
Platform: x86_64-apple-darwin20
R is free software and comes with ABSOLUTELY NO WARRANTY.
You are welcome to redistribute it under certain conditions.
Type 'license()' or 'licence()' for distribution details.
R is a collaborative project with many contributors.
Type 'contributors()' for more information and
'citation()' on how to cite R or R packages in publications.
Type 'demo()' for some demos, 'help()' for on-line help, or
'help.start()' for an HTML browser interface to help.
Type 'q()' to quit R.
> library(testthat)
> library(spatialDE)
> 
> test_check("spatialDE")
Loading required package: SingleCellExperiment
Loading required package: SummarizedExperiment
Loading required package: MatrixGenerics
Loading required package: matrixStats
Attaching package: 'MatrixGenerics'
The following objects are masked from 'package:matrixStats':
    colAlls, colAnyNAs, colAnys, colAvgsPerRowSet, colCollapse,
    colCounts, colCummaxs, colCummins, colCumprods, colCumsums,
    colDiffs, colIQRDiffs, colIQRs, colLogSumExps, colMadDiffs,
    colMads, colMaxs, colMeans2, colMedians, colMins, colOrderStats,
    colProds, colQuantiles, colRanges, colRanks, colSdDiffs, colSds,
    colSums2, colTabulates, colVarDiffs, colVars, colWeightedMads,
    colWeightedMeans, colWeightedMedians, colWeightedSds,
    colWeightedVars, rowAlls, rowAnyNAs, rowAnys, rowAvgsPerColSet,
    rowCollapse, rowCounts, rowCummaxs, rowCummins, rowCumprods,
    rowCumsums, rowDiffs, rowIQRDiffs, rowIQRs, rowLogSumExps,
    rowMadDiffs, rowMads, rowMaxs, rowMeans2, rowMedians, rowMins,
    rowOrderStats, rowProds, rowQuantiles, rowRanges, rowRanks,
    rowSdDiffs, rowSds, rowSums2, rowTabulates, rowVarDiffs, rowVars,
    rowWeightedMads, rowWeightedMeans, rowWeightedMedians,
    rowWeightedSds, rowWeightedVars
Loading required package: GenomicRanges
Loading required package: stats4
Loading required package: BiocGenerics
Loading required package: generics
Attaching package: 'generics'
The following objects are masked from 'package:base':
    as.difftime, as.factor, as.ordered, intersect, is.element, setdiff,
    setequal, union
Attaching package: 'BiocGenerics'
The following objects are masked from 'package:stats':
    IQR, mad, sd, var, xtabs
The following objects are masked from 'package:base':
    Filter, Find, Map, Position, Reduce, anyDuplicated, aperm, append,
    as.data.frame, basename, cbind, colnames, dirname, do.call,
    duplicated, eval, evalq, get, grep, grepl, is.unsorted, lapply,
    mapply, match, mget, order, paste, pmax, pmax.int, pmin, pmin.int,
    rank, rbind, rownames, sapply, saveRDS, table, tapply, unique,
    unsplit, which.max, which.min
Loading required package: S4Vectors
Attaching package: 'S4Vectors'
The following object is masked from 'package:utils':
    findMatches
The following objects are masked from 'package:base':
    I, expand.grid, unname
Loading required package: IRanges
Loading required package: Seqinfo
Loading required package: Biobase
Welcome to Bioconductor
    Vignettes contain introductory material; view with
    'browseVignettes()'. To cite Bioconductor, see
    'citation("Biobase")', and for packages 'citation("pkgname")'.
Attaching package: 'Biobase'
The following object is masked from 'package:MatrixGenerics':
    rowMedians
The following objects are masked from 'package:matrixStats':
    anyMissing, rowMedians
Models:   0%|          | 0/10 [00:00<?, ?it/s]
  0%|          | 0/100 [00:00<?, ?it/s][A
 34%|███▍      | 34/100 [00:00<00:00, 335.84it/s][A
 68%|██████▊   | 68/100 [00:00<00:00, 332.17it/s][A
                                                 [A
Models:  10%|█         | 1/10 [00:00<00:02,  3.33it/s]
  0%|          | 0/100 [00:00<?, ?it/s][A
 31%|███       | 31/100 [00:00<00:00, 305.51it/s][A
 62%|██████▏   | 62/100 [00:00<00:00, 290.97it/s][A
 92%|█████████▏| 92/100 [00:00<00:00, 272.71it/s][A
                                                 [A
Models:  20%|██        | 2/10 [00:00<00:02,  2.99it/s]
  0%|          | 0/100 [00:00<?, ?it/s][A
 23%|██▎       | 23/100 [00:00<00:00, 228.48it/s][A
 52%|█████▏    | 52/100 [00:00<00:00, 259.90it/s][A
 83%|████████▎ | 83/100 [00:00<00:00, 279.24it/s][A
                                                 [A
Models:  30%|███       | 3/10 [00:01<00:02,  2.84it/s]
  0%|          | 0/100 [00:00<?, ?it/s][A
 27%|██▋       | 27/100 [00:00<00:00, 263.27it/s][A
 55%|█████▌    | 55/100 [00:00<00:00, 268.74it/s][A
 83%|████████▎ | 83/100 [00:00<00:00, 273.31it/s][A
                                                 [A
Models:  40%|████      | 4/10 [00:01<00:02,  2.73it/s]
  0%|          | 0/100 [00:00<?, ?it/s][A
 24%|██▍       | 24/100 [00:00<00:00, 233.87it/s][A
 48%|████▊     | 48/100 [00:00<00:00, 234.61it/s][A
 72%|███████▏  | 72/100 [00:00<00:00, 235.25it/s][A
 97%|█████████▋| 97/100 [00:00<00:00, 238.57it/s][A
                                                 [A
Models:  50%|█████     | 5/10 [00:01<00:01,  2.59it/s]
  0%|          | 0/100 [00:00<?, ?it/s][A
 27%|██▋       | 27/100 [00:00<00:00, 268.56it/s][A
 54%|█████▍    | 54/100 [00:00<00:00, 266.13it/s][A
 82%|████████▏ | 82/100 [00:00<00:00, 271.27it/s][A
                                                 [A
Models:  60%|██████    | 6/10 [00:02<00:01,  2.59it/s]
  0%|          | 0/100 [00:00<?, ?it/s][A
 29%|██▉       | 29/100 [00:00<00:00, 288.81it/s][A
 58%|█████▊    | 58/100 [00:00<00:00, 269.63it/s][A
 86%|████████▌ | 86/100 [00:00<00:00, 253.08it/s][A
                                                 [A
Models:  70%|███████   | 7/10 [00:02<00:01,  2.57it/s]
  0%|          | 0/100 [00:00<?, ?it/s][A
 25%|██▌       | 25/100 [00:00<00:00, 246.45it/s][A
 50%|█████     | 50/100 [00:00<00:00, 244.94it/s][A
 76%|███████▌  | 76/100 [00:00<00:00, 246.22it/s][A
                                                 [A
Models:  80%|████████  | 8/10 [00:03<00:00,  2.53it/s]
  0%|          | 0/100 [00:00<?, ?it/s][A
 25%|██▌       | 25/100 [00:00<00:00, 246.93it/s][A
 54%|█████▍    | 54/100 [00:00<00:00, 271.21it/s][A
 82%|████████▏ | 82/100 [00:00<00:00, 263.43it/s][A
                                                 [A
Models:  90%|█████████ | 9/10 [00:03<00:00,  2.43it/s]
  0%|          | 0/100 [00:00<?, ?it/s][A
 30%|███       | 30/100 [00:00<00:00, 296.73it/s][A
 60%|██████    | 60/100 [00:00<00:00, 273.21it/s][A
 88%|████████▊ | 88/100 [00:00<00:00, 252.09it/s][A
                                                 [A
Models: 100%|██████████| 10/10 [00:03<00:00,  2.46it/s]
Models: 100%|██████████| 10/10 [00:03<00:00,  2.58it/s]
Models:   0%|          | 0/10 [00:00<?, ?it/s]
  0%|          | 0/100 [00:00<?, ?it/s][A
 42%|████▏     | 42/100 [00:00<00:00, 410.13it/s][A
 84%|████████▍ | 84/100 [00:00<00:00, 396.98it/s][A
                                                 [A
Models:  10%|█         | 1/10 [00:00<00:02,  3.91it/s]
  0%|          | 0/100 [00:00<?, ?it/s][A
 33%|███▎      | 33/100 [00:00<00:00, 317.95it/s][A
 65%|██████▌   | 65/100 [00:00<00:00, 272.70it/s][A
 96%|█████████▌| 96/100 [00:00<00:00, 284.21it/s][A
                                                 [A
Models:  20%|██        | 2/10 [00:00<00:02,  3.17it/s]
  0%|          | 0/100 [00:00<?, ?it/s][A
 31%|███       | 31/100 [00:00<00:00, 309.23it/s][A
 62%|██████▏   | 62/100 [00:00<00:00, 258.75it/s][A
 89%|████████▉ | 89/100 [00:00<00:00, 247.00it/s][A
                                                 [A
Models:  30%|███       | 3/10 [00:01<00:02,  2.85it/s]
  0%|          | 0/100 [00:00<?, ?it/s][A
 30%|███       | 30/100 [00:00<00:00, 289.80it/s][A
 59%|█████▉    | 59/100 [00:00<00:00, 270.98it/s][A
 87%|████████▋ | 87/100 [00:00<00:00, 269.95it/s][A
                                                 [A
Models:  40%|████      | 4/10 [00:01<00:02,  2.77it/s]
  0%|          | 0/100 [00:00<?, ?it/s][A
 26%|██▌       | 26/100 [00:00<00:00, 250.31it/s][A
 52%|█████▏    | 52/100 [00:00<00:00, 217.07it/s][A
 79%|███████▉  | 79/100 [00:00<00:00, 234.30it/s][A
                                                 [A
Models:  50%|█████     | 5/10 [00:01<00:01,  2.61it/s]
  0%|          | 0/100 [00:00<?, ?it/s][A
 32%|███▏      | 32/100 [00:00<00:00, 311.16it/s][A
 64%|██████▍   | 64/100 [00:00<00:00, 263.75it/s][A
 91%|█████████ | 91/100 [00:00<00:00, 241.54it/s][A
                                                 [A
Models:  60%|██████    | 6/10 [00:02<00:01,  2.57it/s]
  0%|          | 0/100 [00:00<?, ?it/s][A
 28%|██▊       | 28/100 [00:00<00:00, 278.76it/s][A
 56%|█████▌    | 56/100 [00:00<00:00, 262.90it/s][A
 83%|████████▎ | 83/100 [00:00<00:00, 259.00it/s][A
                                                 [A
Models:  70%|███████   | 7/10 [00:02<00:01,  2.56it/s]
  0%|          | 0/100 [00:00<?, ?it/s][A
 29%|██▉       | 29/100 [00:00<00:00, 277.56it/s][A
 57%|█████▋    | 57/100 [00:00<00:00, 257.77it/s][A
 83%|████████▎ | 83/100 [00:00<00:00, 253.49it/s][A
                                                 [A
Models:  80%|████████  | 8/10 [00:02<00:00,  2.56it/s]
  0%|          | 0/100 [00:00<?, ?it/s][A
 30%|███       | 30/100 [00:00<00:00, 298.31it/s][A
 60%|██████    | 60/100 [00:00<00:00, 248.54it/s][A
 87%|████████▋ | 87/100 [00:00<00:00, 254.86it/s][A
                                                 [A
Models:  90%|█████████ | 9/10 [00:03<00:00,  2.58it/s]
  0%|          | 0/100 [00:00<?, ?it/s][A
 34%|███▍      | 34/100 [00:00<00:00, 336.14it/s][A
 68%|██████▊   | 68/100 [00:00<00:00, 309.32it/s][A
100%|██████████| 100/100 [00:00<00:00, 303.84it/s][A
                                                  [A
Models: 100%|██████████| 10/10 [00:03<00:00,  2.71it/s]
Models: 100%|██████████| 10/10 [00:03<00:00,  2.70it/s]
/Users/biocbuild/Library/Caches/org.R-project.R/R/basilisk/1.21.5/spatialDE/1.15.1/env/lib/python3.11/site-packages/pandas/core/internals/blocks.py:351: RuntimeWarning: invalid value encountered in log
  result = func(self.values, **kwargs)
Models:   0%|          | 0/10 [00:00<?, ?it/s]
  0%|          | 0/100 [00:00<?, ?it/s][A
 37%|███▋      | 37/100 [00:00<00:00, 360.50it/s][A
 78%|███████▊  | 78/100 [00:00<00:00, 382.82it/s][A
                                                 [A
Models:  10%|█         | 1/10 [00:00<00:02,  3.94it/s]
  0%|          | 0/100 [00:00<?, ?it/s][A
 35%|███▌      | 35/100 [00:00<00:00, 349.08it/s][A
 70%|███████   | 70/100 [00:00<00:00, 287.16it/s][A
100%|██████████| 100/100 [00:00<00:00, 277.16it/s][A
                                                  [A
Models:  20%|██        | 2/10 [00:00<00:02,  3.20it/s]
  0%|          | 0/100 [00:00<?, ?it/s][A
 31%|███       | 31/100 [00:00<00:00, 296.99it/s][A
 61%|██████    | 61/100 [00:00<00:00, 273.96it/s][A
 89%|████████▉ | 89/100 [00:00<00:00, 263.46it/s][A
                                                 [A
Models:  30%|███       | 3/10 [00:00<00:02,  2.93it/s]
  0%|          | 0/100 [00:00<?, ?it/s][A
 27%|██▋       | 27/100 [00:00<00:00, 269.16it/s][A
 54%|█████▍    | 54/100 [00:00<00:00, 247.01it/s][A
 81%|████████  | 81/100 [00:00<00:00, 254.78it/s][A
                                                 [A
Models:  40%|████      | 4/10 [00:01<00:02,  2.76it/s]
  0%|          | 0/100 [00:00<?, ?it/s][A
 29%|██▉       | 29/100 [00:00<00:00, 282.77it/s][A
 58%|█████▊    | 58/100 [00:00<00:00, 254.01it/s][A
 84%|████████▍ | 84/100 [00:00<00:00, 255.56it/s][A
                                                 [A
Models:  50%|█████     | 5/10 [00:01<00:01,  2.68it/s]
  0%|          | 0/100 [00:00<?, ?it/s][A
 26%|██▌       | 26/100 [00:00<00:00, 251.42it/s][A
 52%|█████▏    | 52/100 [00:00<00:00, 236.18it/s][A
 76%|███████▌  | 76/100 [00:00<00:00, 230.41it/s][A
100%|██████████| 100/100 [00:00<00:00, 231.08it/s][A
                                                  [A
Models:  60%|██████    | 6/10 [00:02<00:01,  2.55it/s]
  0%|          | 0/100 [00:00<?, ?it/s][A
 27%|██▋       | 27/100 [00:00<00:00, 265.76it/s][A
 54%|█████▍    | 54/100 [00:00<00:00, 237.49it/s][A
 78%|███████▊  | 78/100 [00:00<00:00, 232.65it/s][A
                                                 [A
Models:  70%|███████   | 7/10 [00:02<00:01,  2.50it/s]
  0%|          | 0/100 [00:00<?, ?it/s][A
 28%|██▊       | 28/100 [00:00<00:00, 270.52it/s][A
 56%|█████▌    | 56/100 [00:00<00:00, 254.40it/s][A
 82%|████████▏ | 82/100 [00:00<00:00, 241.44it/s][A
                                                 [A
Models:  80%|████████  | 8/10 [00:03<00:00,  2.47it/s]
  0%|          | 0/100 [00:00<?, ?it/s][A
 28%|██▊       | 28/100 [00:00<00:00, 277.12it/s][A
 56%|█████▌    | 56/100 [00:00<00:00, 248.86it/s][A
 82%|████████▏ | 82/100 [00:00<00:00, 242.90it/s][A
                                                 [A
Models:  90%|█████████ | 9/10 [00:03<00:00,  2.46it/s]
  0%|          | 0/100 [00:00<?, ?it/s][A
 28%|██▊       | 28/100 [00:00<00:00, 276.06it/s][A
 57%|█████▋    | 57/100 [00:00<00:00, 280.57it/s][A
 86%|████████▌ | 86/100 [00:00<00:00, 275.76it/s][A
                                                 [A
Models: 100%|██████████| 10/10 [00:03<00:00,  2.53it/s]
Models: 100%|██████████| 10/10 [00:03<00:00,  2.62it/s]
Models:   0%|          | 0/10 [00:00<?, ?it/s]
  0%|          | 0/100 [00:00<?, ?it/s][A
 37%|███▋      | 37/100 [00:00<00:00, 360.91it/s][A
 77%|███████▋  | 77/100 [00:00<00:00, 381.87it/s][A
                                                 [A
Models:  10%|█         | 1/10 [00:00<00:02,  3.65it/s]
  0%|          | 0/100 [00:00<?, ?it/s][A
 32%|███▏      | 32/100 [00:00<00:00, 311.48it/s][A
 64%|██████▍   | 64/100 [00:00<00:00, 289.97it/s][A
 94%|█████████▍| 94/100 [00:00<00:00, 278.31it/s][A
                                                 [A
Models:  20%|██        | 2/10 [00:00<00:02,  3.06it/s]
  0%|          | 0/100 [00:00<?, ?it/s][A
 28%|██▊       | 28/100 [00:00<00:00, 277.96it/s][A
 56%|█████▌    | 56/100 [00:00<00:00, 253.27it/s][A
 84%|████████▍ | 84/100 [00:00<00:00, 261.37it/s][A
                                                 [A
Models:  30%|███       | 3/10 [00:01<00:02,  2.84it/s]
  0%|          | 0/100 [00:00<?, ?it/s][A
 27%|██▋       | 27/100 [00:00<00:00, 262.68it/s][A
 54%|█████▍    | 54/100 [00:00<00:00, 236.36it/s][A
 78%|███████▊  | 78/100 [00:00<00:00, 237.79it/s][A
                                                 [A
Models:  40%|████      | 4/10 [00:01<00:02,  2.66it/s]
  0%|          | 0/100 [00:00<?, ?it/s][A
 30%|███       | 30/100 [00:00<00:00, 294.34it/s][A
 60%|██████    | 60/100 [00:00<00:00, 271.07it/s][A
 88%|████████▊ | 88/100 [00:00<00:00, 259.35it/s][A
                                                 [A
Models:  50%|█████     | 5/10 [00:01<00:01,  2.64it/s]
  0%|          | 0/100 [00:00<?, ?it/s][A
 27%|██▋       | 27/100 [00:00<00:00, 261.21it/s][A
 54%|█████▍    | 54/100 [00:00<00:00, 251.57it/s][A
 80%|████████  | 80/100 [00:00<00:00, 245.42it/s][A
                                                 [A
Models:  60%|██████    | 6/10 [00:02<00:01,  2.58it/s]
  0%|          | 0/100 [00:00<?, ?it/s][A
 26%|██▌       | 26/100 [00:00<00:00, 254.17it/s][A
 52%|█████▏    | 52/100 [00:00<00:00, 238.45it/s][A
 76%|███████▌  | 76/100 [00:00<00:00, 236.89it/s][A
                                                 [A
Models:  70%|███████   | 7/10 [00:02<00:01,  2.52it/s]
  0%|          | 0/100 [00:00<?, ?it/s][A
 26%|██▌       | 26/100 [00:00<00:00, 252.42it/s][A
 52%|█████▏    | 52/100 [00:00<00:00, 235.05it/s][A
 76%|███████▌  | 76/100 [00:00<00:00, 216.51it/s][A
100%|██████████| 100/100 [00:00<00:00, 224.94it/s][A
                                                  [A
Models:  80%|████████  | 8/10 [00:03<00:00,  2.43it/s]
  0%|          | 0/100 [00:00<?, ?it/s][A
 28%|██▊       | 28/100 [00:00<00:00, 271.12it/s][A
 56%|█████▌    | 56/100 [00:00<00:00, 263.10it/s][A
 83%|████████▎ | 83/100 [00:00<00:00, 245.25it/s][A
                                                 [A
Models:  90%|█████████ | 9/10 [00:03<00:00,  2.43it/s]
  0%|          | 0/100 [00:00<?, ?it/s][A
 25%|██▌       | 25/100 [00:00<00:00, 245.23it/s][A
 58%|█████▊    | 58/100 [00:00<00:00, 293.14it/s][A
 88%|████████▊ | 88/100 [00:00<00:00, 294.96it/s][A
                                                 [A
Models: 100%|██████████| 10/10 [00:03<00:00,  2.54it/s]
Models: 100%|██████████| 10/10 [00:03<00:00,  2.60it/s]
Models:   0%|          | 0/10 [00:00<?, ?it/s]
  0%|          | 0/100 [00:00<?, ?it/s][A
 37%|███▋      | 37/100 [00:00<00:00, 365.84it/s][A
 74%|███████▍  | 74/100 [00:00<00:00, 359.35it/s][A
                                                 [A
Models:  10%|█         | 1/10 [00:00<00:02,  3.43it/s]
  0%|          | 0/100 [00:00<?, ?it/s][A
 32%|███▏      | 32/100 [00:00<00:00, 314.58it/s][A
 64%|██████▍   | 64/100 [00:00<00:00, 304.31it/s][A
 96%|█████████▌| 96/100 [00:00<00:00, 310.29it/s][A
                                                 [A
Models:  20%|██        | 2/10 [00:00<00:02,  3.21it/s]
  0%|          | 0/100 [00:00<?, ?it/s][A
 31%|███       | 31/100 [00:00<00:00, 297.66it/s][A
 61%|██████    | 61/100 [00:00<00:00, 276.65it/s][A
 89%|████████▉ | 89/100 [00:00<00:00, 259.37it/s][A
                                                 [A
Models:  30%|███       | 3/10 [00:00<00:02,  2.94it/s]
  0%|          | 0/100 [00:00<?, ?it/s][A
 30%|███       | 30/100 [00:00<00:00, 288.77it/s][A
 59%|█████▉    | 59/100 [00:00<00:00, 263.34it/s][A
 89%|████████▉ | 89/100 [00:00<00:00, 277.67it/s][A
                                                 [A
Models:  40%|████      | 4/10 [00:01<00:02,  2.86it/s]
  0%|          | 0/100 [00:00<?, ?it/s][A
 27%|██▋       | 27/100 [00:00<00:00, 264.48it/s][A
 54%|█████▍    | 54/100 [00:00<00:00, 255.23it/s][A
 82%|████████▏ | 82/100 [00:00<00:00, 264.24it/s][A
                                                 [A
Models:  50%|█████     | 5/10 [00:01<00:01,  2.78it/s]
  0%|          | 0/100 [00:00<?, ?it/s][A
 29%|██▉       | 29/100 [00:00<00:00, 275.67it/s][A
 57%|█████▋    | 57/100 [00:00<00:00, 244.10it/s][A
 83%|████████▎ | 83/100 [00:00<00:00, 248.17it/s][A
                                                 [A
Models:  60%|██████    | 6/10 [00:02<00:01,  2.67it/s]
  0%|          | 0/100 [00:00<?, ?it/s][A
 29%|██▉       | 29/100 [00:00<00:00, 277.77it/s][A
 57%|█████▋    | 57/100 [00:00<00:00, 250.53it/s][A
 83%|████████▎ | 83/100 [00:00<00:00, 248.49it/s][A
                                                 [A
Models:  70%|███████   | 7/10 [00:02<00:01,  2.63it/s]
  0%|          | 0/100 [00:00<?, ?it/s][A
 26%|██▌       | 26/100 [00:00<00:00, 254.08it/s][A
 53%|█████▎    | 53/100 [00:00<00:00, 261.57it/s][A
 80%|████████  | 80/100 [00:00<00:00, 262.66it/s][A
                                                 [A
Models:  80%|████████  | 8/10 [00:02<00:00,  2.62it/s]
  0%|          | 0/100 [00:00<?, ?it/s][A
 31%|███       | 31/100 [00:00<00:00, 308.83it/s][A
 62%|██████▏   | 62/100 [00:00<00:00, 306.32it/s][A
 93%|█████████▎| 93/100 [00:00<00:00, 286.36it/s][A
                                                 [A
Models:  90%|█████████ | 9/10 [00:03<00:00,  2.69it/s]
  0%|          | 0/100 [00:00<?, ?it/s][A
 31%|███       | 31/100 [00:00<00:00, 299.64it/s][A
 61%|██████    | 61/100 [00:00<00:00, 299.62it/s][A
 93%|█████████▎| 93/100 [00:00<00:00, 306.07it/s][A
                                                 [A
Models: 100%|██████████| 10/10 [00:03<00:00,  2.78it/s]
Models: 100%|██████████| 10/10 [00:03<00:00,  2.78it/s]
[ FAIL 0 | WARN 0 | SKIP 0 | PASS 29 ]
> 
> proc.time()
   user  system elapsed 
 61.948   4.606  56.864 
/Users/biocbuild/.pyenv/versions/3.11.13/lib/python3.11/multiprocessing/resource_tracker.py:254: UserWarning: resource_tracker: There appear to be 1 leaked semaphore objects to clean up at shutdown
  warnings.warn('resource_tracker: There appear to be %d '
spatialDE.Rcheck/spatialDE-Ex.timings
| name | user | system | elapsed | |
| FSV_sig | 5.050 | 1.665 | 6.643 | |
| mockSVG | 0.906 | 0.120 | 1.032 | |
| modelSearch | 1.927 | 0.381 | 1.381 | |
| model_search | 1.645 | 0.354 | 1.104 | |
| multiGenePlots | 2.083 | 0.215 | 1.791 | |
| regress_out | 0.099 | 0.004 | 0.103 | |
| run | 0.867 | 0.159 | 0.651 | |
| spatialDE | 0.956 | 0.173 | 0.661 | |
| spatialPatterns | 1.419 | 0.309 | 0.982 | |
| spatial_patterns | 19.812 | 3.541 | 12.542 | |
| stabilize | 0.081 | 0.013 | 0.050 | |