| Back to Multiple platform build/check report for BioC 3.22: simplified long |
|
This page was generated on 2025-08-15 12:07 -0400 (Fri, 15 Aug 2025).
| Hostname | OS | Arch (*) | R version | Installed pkgs |
|---|---|---|---|---|
| nebbiolo2 | Linux (Ubuntu 24.04.3 LTS) | x86_64 | 4.5.1 (2025-06-13) -- "Great Square Root" | 4818 |
| palomino8 | Windows Server 2022 Datacenter | x64 | 4.5.1 (2025-06-13 ucrt) -- "Great Square Root" | 4554 |
| lconway | macOS 12.7.1 Monterey | x86_64 | 4.5.1 (2025-06-13) -- "Great Square Root" | 4595 |
| kjohnson3 | macOS 13.7.7 Ventura | arm64 | 4.5.1 Patched (2025-06-14 r88325) -- "Great Square Root" | 4537 |
| taishan | Linux (openEuler 24.03 LTS) | aarch64 | 4.5.0 (2025-04-11) -- "How About a Twenty-Six" | 4535 |
| Click on any hostname to see more info about the system (e.g. compilers) (*) as reported by 'uname -p', except on Windows and Mac OS X | ||||
| Package 2033/2317 | Hostname | OS / Arch | INSTALL | BUILD | CHECK | BUILD BIN | ||||||||
| sparseMatrixStats 1.21.0 (landing page) Constantin Ahlmann-Eltze
| nebbiolo2 | Linux (Ubuntu 24.04.3 LTS) / x86_64 | OK | OK | OK | |||||||||
| palomino8 | Windows Server 2022 Datacenter / x64 | OK | OK | OK | OK | |||||||||
| lconway | macOS 12.7.1 Monterey / x86_64 | OK | OK | OK | OK | |||||||||
| kjohnson3 | macOS 13.7.7 Ventura / arm64 | OK | OK | OK | OK | |||||||||
| taishan | Linux (openEuler 24.03 LTS) / aarch64 | OK | OK | OK | ||||||||||
|
To the developers/maintainers of the sparseMatrixStats package: - Allow up to 24 hours (and sometimes 48 hours) for your latest push to git@git.bioconductor.org:packages/sparseMatrixStats.git to reflect on this report. See Troubleshooting Build Report for more information. - Use the following Renviron settings to reproduce errors and warnings. - If 'R CMD check' started to fail recently on the Linux builder(s) over a missing dependency, add the missing dependency to 'Suggests:' in your DESCRIPTION file. See Renviron.bioc for more information. |
| Package: sparseMatrixStats |
| Version: 1.21.0 |
| Command: F:\biocbuild\bbs-3.22-bioc\R\bin\R.exe CMD check --no-multiarch --install=check:sparseMatrixStats.install-out.txt --library=F:\biocbuild\bbs-3.22-bioc\R\library --no-vignettes --timings sparseMatrixStats_1.21.0.tar.gz |
| StartedAt: 2025-08-15 08:08:18 -0400 (Fri, 15 Aug 2025) |
| EndedAt: 2025-08-15 08:09:56 -0400 (Fri, 15 Aug 2025) |
| EllapsedTime: 97.5 seconds |
| RetCode: 0 |
| Status: OK |
| CheckDir: sparseMatrixStats.Rcheck |
| Warnings: 0 |
##############################################################################
##############################################################################
###
### Running command:
###
### F:\biocbuild\bbs-3.22-bioc\R\bin\R.exe CMD check --no-multiarch --install=check:sparseMatrixStats.install-out.txt --library=F:\biocbuild\bbs-3.22-bioc\R\library --no-vignettes --timings sparseMatrixStats_1.21.0.tar.gz
###
##############################################################################
##############################################################################
* using log directory 'F:/biocbuild/bbs-3.22-bioc/meat/sparseMatrixStats.Rcheck'
* using R version 4.5.1 (2025-06-13 ucrt)
* using platform: x86_64-w64-mingw32
* R was compiled by
gcc.exe (GCC) 14.2.0
GNU Fortran (GCC) 14.2.0
* running under: Windows Server 2022 x64 (build 20348)
* using session charset: UTF-8
* using option '--no-vignettes'
* checking for file 'sparseMatrixStats/DESCRIPTION' ... OK
* checking extension type ... Package
* this is package 'sparseMatrixStats' version '1.21.0'
* package encoding: UTF-8
* checking package namespace information ... OK
* checking package dependencies ... OK
* checking if this is a source package ... OK
* checking if there is a namespace ... OK
* checking for hidden files and directories ... OK
* checking for portable file names ... OK
* checking whether package 'sparseMatrixStats' can be installed ... OK
* used C++ compiler: 'G__~1.EXE (GCC) 14.2.0'
* checking C++ specification ... NOTE
Specified C++11: please drop specification unless essential
* checking installed package size ... OK
* checking package directory ... OK
* checking 'build' directory ... OK
* checking DESCRIPTION meta-information ... OK
* checking top-level files ... OK
* checking for left-over files ... OK
* checking index information ... OK
* checking package subdirectories ... OK
* checking code files for non-ASCII characters ... OK
* checking R files for syntax errors ... OK
* checking whether the package can be loaded ... OK
* checking whether the package can be loaded with stated dependencies ... OK
* checking whether the package can be unloaded cleanly ... OK
* checking whether the namespace can be loaded with stated dependencies ... OK
* checking whether the namespace can be unloaded cleanly ... OK
* checking dependencies in R code ... OK
* checking S3 generic/method consistency ... OK
* checking replacement functions ... OK
* checking foreign function calls ... OK
* checking R code for possible problems ... OK
* checking Rd files ... OK
* checking Rd metadata ... OK
* checking Rd cross-references ... OK
* checking for missing documentation entries ... OK
* checking for code/documentation mismatches ... OK
* checking Rd \usage sections ... OK
* checking Rd contents ... OK
* checking for unstated dependencies in examples ... OK
* checking line endings in C/C++/Fortran sources/headers ... OK
* checking compiled code ... NOTE
Note: information on .o files for x64 is not available
File 'F:/biocbuild/bbs-3.22-bioc/R/library/sparseMatrixStats/libs/x64/sparseMatrixStats.dll':
Found '_exit', possibly from '_exit' (C)
Found 'abort', possibly from 'abort' (C), 'runtime' (Fortran)
Found 'exit', possibly from 'exit' (C), 'stop' (Fortran)
Compiled code should not call entry points which might terminate R nor
write to stdout/stderr instead of to the console, nor use Fortran I/O
nor system RNGs nor [v]sprintf. The detected symbols are linked into
the code but might come from libraries and not actually be called.
See 'Writing portable packages' in the 'Writing R Extensions' manual.
* checking files in 'vignettes' ... OK
* checking examples ... OK
* checking for unstated dependencies in 'tests' ... OK
* checking tests ...
Running 'testthat.R'
OK
* checking for unstated dependencies in vignettes ... OK
* checking package vignettes ... OK
* checking running R code from vignettes ... SKIPPED
* checking re-building of vignette outputs ... SKIPPED
* checking PDF version of manual ... OK
* DONE
Status: 2 NOTEs
See
'F:/biocbuild/bbs-3.22-bioc/meat/sparseMatrixStats.Rcheck/00check.log'
for details.
sparseMatrixStats.Rcheck/00install.out
##############################################################################
##############################################################################
###
### Running command:
###
### F:\biocbuild\bbs-3.22-bioc\R\bin\R.exe CMD INSTALL sparseMatrixStats
###
##############################################################################
##############################################################################
* installing to library 'F:/biocbuild/bbs-3.22-bioc/R/library'
* installing *source* package 'sparseMatrixStats' ...
** this is package 'sparseMatrixStats' version '1.21.0'
** using staged installation
** libs
using C++ compiler: 'G__~1.EXE (GCC) 14.2.0'
using C++11
g++ -std=gnu++11 -I"F:/biocbuild/bbs-3.22-bioc/R/include" -DNDEBUG -I'F:/biocbuild/bbs-3.22-bioc/R/library/Rcpp/include' -I"C:/rtools45/x86_64-w64-mingw32.static.posix/include" -O2 -Wall -mfpmath=sse -msse2 -mstackrealign -c RcppExports.cpp -o RcppExports.o
g++ -std=gnu++11 -I"F:/biocbuild/bbs-3.22-bioc/R/include" -DNDEBUG -I'F:/biocbuild/bbs-3.22-bioc/R/library/Rcpp/include' -I"C:/rtools45/x86_64-w64-mingw32.static.posix/include" -O2 -Wall -mfpmath=sse -msse2 -mstackrealign -c SparseMatrixView.cpp -o SparseMatrixView.o
g++ -std=gnu++11 -I"F:/biocbuild/bbs-3.22-bioc/R/include" -DNDEBUG -I'F:/biocbuild/bbs-3.22-bioc/R/library/Rcpp/include' -I"C:/rtools45/x86_64-w64-mingw32.static.posix/include" -O2 -Wall -mfpmath=sse -msse2 -mstackrealign -c methods.cpp -o methods.o
In file included from methods.cpp:6:
quantile.h: In instantiation of 'double quantile_sparse_impl(T, int, double) [with T = VectorSubsetView<14>]':
quantile.h:85:58: required from here
85 | return quantile_sparse_impl<VectorSubsetView<REALSXP> >(vsv, number_of_zeros, prob);
| ~~~~~~~~~~~~~~~~~~~~~~~~~~~~~~~~~~~~~~~~~~~~~~~~^~~~~~~~~~~~~~~~~~~~~~~~~~~~
quantile.h:35:20: warning: comparison of integer expressions of different signedness: 'int' and 'std::vector<double>::size_type' {aka 'long long unsigned int'} [-Wsign-compare]
35 | for(int i = 0; i < sorted_values.size() + number_of_zeros; i++){
| ~~^~~~~~~~~~~~~~~~~~~~~~~~~~~~~~~~~~~~~~~~
methods.cpp: In instantiation of 'double colOrderStats::operator()(V&, R&, int) const [with V = SkipNAVectorSubsetView<14>; R = SkipNAVectorSubsetView<13>]':
methods.cpp:25:18: required from 'Rcpp::NumericVector reduce_matrix_double(Rcpp::S4, bool, Functor) [with Functor = colOrderStats; Rcpp::NumericVector = Rcpp::Vector<14, Rcpp::PreserveStorage>; Rcpp::S4 = Rcpp::S4_Impl<Rcpp::PreserveStorage>]'
25 | return op(values_wrapper, row_indices_wrapper, col.number_of_zeros);
| ~~^~~~~~~~~~~~~~~~~~~~~~~~~~~~~~~~~~~~~~~~~~~~~~~~~~~~~~~~~~
methods.cpp:510:30: required from here
510 | return reduce_matrix_double(matrix, na_rm, colOrderStats(na_rm, which));
| ~~~~~~~~~~~~~~~~~~~~^~~~~~~~~~~~~~~~~~~~~~~~~~~~~~~~~~~~~~~~~~~~
methods.cpp:475:22: warning: comparison of integer expressions of different signedness: 'int' and 'std::vector<double>::size_type' {aka 'long long unsigned int'} [-Wsign-compare]
475 | for(int i = 0; i < sorted_values.size() + number_of_zeros; i++){
| ~~^~~~~~~~~~~~~~~~~~~~~~~~~~~~~~~~~~~~~~~~
methods.cpp: In instantiation of 'double colOrderStats::operator()(V&, R&, int) const [with V = VectorSubsetView<14>; R = VectorSubsetView<13>]':
methods.cpp:30:18: required from 'Rcpp::NumericVector reduce_matrix_double(Rcpp::S4, bool, Functor) [with Functor = colOrderStats; Rcpp::NumericVector = Rcpp::Vector<14, Rcpp::PreserveStorage>; Rcpp::S4 = Rcpp::S4_Impl<Rcpp::PreserveStorage>]'
30 | return op(col.values, col.row_indices, col.number_of_zeros);
| ~~^~~~~~~~~~~~~~~~~~~~~~~~~~~~~~~~~~~~~~~~~~~~~~~~~~
methods.cpp:510:30: required from here
510 | return reduce_matrix_double(matrix, na_rm, colOrderStats(na_rm, which));
| ~~~~~~~~~~~~~~~~~~~~^~~~~~~~~~~~~~~~~~~~~~~~~~~~~~~~~~~~~~~~~~~~
methods.cpp:475:22: warning: comparison of integer expressions of different signedness: 'int' and 'std::vector<double>::size_type' {aka 'long long unsigned int'} [-Wsign-compare]
475 | for(int i = 0; i < sorted_values.size() + number_of_zeros; i++){
| ~~^~~~~~~~~~~~~~~~~~~~~~~~~~~~~~~~~~~~~~~~
quantile.h: In instantiation of 'double quantile_sparse_impl(T, int, double) [with T = SkipNAVectorSubsetView<14>]':
methods.cpp:269:32: required from 'double colMedians::operator()(V&, R&, int) const [with V = SkipNAVectorSubsetView<14>; R = SkipNAVectorSubsetView<13>]'
269 | return quantile_sparse_impl(values, number_of_zeros, 0.5);
| ~~~~~~~~~~~~~~~~~~~~^~~~~~~~~~~~~~~~~~~~~~~~~~~~~~
methods.cpp:25:18: required from 'Rcpp::NumericVector reduce_matrix_double(Rcpp::S4, bool, Functor) [with Functor = colMedians; Rcpp::NumericVector = Rcpp::Vector<14, Rcpp::PreserveStorage>; Rcpp::S4 = Rcpp::S4_Impl<Rcpp::PreserveStorage>]'
25 | return op(values_wrapper, row_indices_wrapper, col.number_of_zeros);
| ~~^~~~~~~~~~~~~~~~~~~~~~~~~~~~~~~~~~~~~~~~~~~~~~~~~~~~~~~~~~
methods.cpp:277:30: required from here
277 | return reduce_matrix_double(matrix, na_rm, colMedians(na_rm));
| ~~~~~~~~~~~~~~~~~~~~^~~~~~~~~~~~~~~~~~~~~~~~~~~~~~~~~~
quantile.h:35:20: warning: comparison of integer expressions of different signedness: 'int' and 'std::vector<double>::size_type' {aka 'long long unsigned int'} [-Wsign-compare]
35 | for(int i = 0; i < sorted_values.size() + number_of_zeros; i++){
| ~~^~~~~~~~~~~~~~~~~~~~~~~~~~~~~~~~~~~~~~~~
g++ -std=gnu++11 -I"F:/biocbuild/bbs-3.22-bioc/R/include" -DNDEBUG -I'F:/biocbuild/bbs-3.22-bioc/R/library/Rcpp/include' -I"C:/rtools45/x86_64-w64-mingw32.static.posix/include" -O2 -Wall -mfpmath=sse -msse2 -mstackrealign -c row_methods.cpp -o row_methods.o
g++ -shared -s -static-libgcc -o sparseMatrixStats.dll tmp.def RcppExports.o SparseMatrixView.o methods.o row_methods.o -LC:/rtools45/x86_64-w64-mingw32.static.posix/lib/x64 -LC:/rtools45/x86_64-w64-mingw32.static.posix/lib -LF:/biocbuild/bbs-3.22-bioc/R/bin/x64 -lR
installing to F:/biocbuild/bbs-3.22-bioc/R/library/00LOCK-sparseMatrixStats/00new/sparseMatrixStats/libs/x64
** R
** byte-compile and prepare package for lazy loading
** help
*** installing help indices
*** copying figures
** building package indices
** installing vignettes
** testing if installed package can be loaded from temporary location
** testing if installed package can be loaded from final location
** testing if installed package keeps a record of temporary installation path
* DONE (sparseMatrixStats)
sparseMatrixStats.Rcheck/tests/testthat.Rout
R version 4.5.1 (2025-06-13 ucrt) -- "Great Square Root"
Copyright (C) 2025 The R Foundation for Statistical Computing
Platform: x86_64-w64-mingw32/x64
R is free software and comes with ABSOLUTELY NO WARRANTY.
You are welcome to redistribute it under certain conditions.
Type 'license()' or 'licence()' for distribution details.
R is a collaborative project with many contributors.
Type 'contributors()' for more information and
'citation()' on how to cite R or R packages in publications.
Type 'demo()' for some demos, 'help()' for on-line help, or
'help.start()' for an HTML browser interface to help.
Type 'q()' to quit R.
> library(testthat)
> library(sparseMatrixStats)
Loading required package: MatrixGenerics
Loading required package: matrixStats
Attaching package: 'MatrixGenerics'
The following objects are masked from 'package:matrixStats':
colAlls, colAnyNAs, colAnys, colAvgsPerRowSet, colCollapse,
colCounts, colCummaxs, colCummins, colCumprods, colCumsums,
colDiffs, colIQRDiffs, colIQRs, colLogSumExps, colMadDiffs,
colMads, colMaxs, colMeans2, colMedians, colMins, colOrderStats,
colProds, colQuantiles, colRanges, colRanks, colSdDiffs, colSds,
colSums2, colTabulates, colVarDiffs, colVars, colWeightedMads,
colWeightedMeans, colWeightedMedians, colWeightedSds,
colWeightedVars, rowAlls, rowAnyNAs, rowAnys, rowAvgsPerColSet,
rowCollapse, rowCounts, rowCummaxs, rowCummins, rowCumprods,
rowCumsums, rowDiffs, rowIQRDiffs, rowIQRs, rowLogSumExps,
rowMadDiffs, rowMads, rowMaxs, rowMeans2, rowMedians, rowMins,
rowOrderStats, rowProds, rowQuantiles, rowRanges, rowRanks,
rowSdDiffs, rowSds, rowSums2, rowTabulates, rowVarDiffs, rowVars,
rowWeightedMads, rowWeightedMeans, rowWeightedMedians,
rowWeightedSds, rowWeightedVars
>
> test_check("sparseMatrixStats")
[ FAIL 0 | WARN 0 | SKIP 22 | PASS 1763 ]
══ Skipped tests (22) ══════════════════════════════════════════════════════════
• MatrixGenerics::xxxOrderStats() does not support missing values (10):
'test-functions.R:284:5', 'test-functions.R:284:5', 'test-functions.R:284:5',
'test-functions.R:284:5', 'test-functions.R:284:5', 'test-functions.R:284:5',
'test-functions.R:284:5', 'test-functions.R:284:5', 'test-functions.R:284:5',
'test-row_functions.R:208:3'
• With R 4.3 (?) 'colQuantiles' on logical data suddenly produces an error. I
am unsure why. (1): 'test-logicals.R:88:3'
• different result than matrixStats version, because sparseMatrixStats uses
`interpolate=FALSE`. (10): 'test-functions.R:373:5',
'test-functions.R:373:5', 'test-functions.R:373:5', 'test-functions.R:373:5',
'test-functions.R:373:5', 'test-functions.R:373:5', 'test-functions.R:373:5',
'test-functions.R:373:5', 'test-functions.R:373:5',
'test-row_functions.R:274:3'
• matrixStats doesn't convert values to logical if mat is logical?! (1):
'test-logicals.R:102:3'
[ FAIL 0 | WARN 0 | SKIP 22 | PASS 1763 ]
>
> proc.time()
user system elapsed
10.59 0.82 11.40
sparseMatrixStats.Rcheck/sparseMatrixStats-Ex.timings
| name | user | system | elapsed | |
| colAlls-xgCMatrix-method | 0.02 | 0.00 | 0.01 | |
| colAnyNAs-xgCMatrix-method | 0 | 0 | 0 | |
| colAnys-xgCMatrix-method | 0 | 0 | 0 | |
| colAvgsPerRowSet-xgCMatrix-method | 0 | 0 | 0 | |
| colCollapse-xgCMatrix-method | 0 | 0 | 0 | |
| colCounts-xgCMatrix-method | 0.02 | 0.00 | 0.02 | |
| colCummaxs-dgCMatrix-method | 0 | 0 | 0 | |
| colCummins-dgCMatrix-method | 0 | 0 | 0 | |
| colCumprods-xgCMatrix-method | 0 | 0 | 0 | |
| colCumsums-xgCMatrix-method | 0 | 0 | 0 | |
| colDiffs-dgCMatrix-method | 0 | 0 | 0 | |
| colIQRDiffs-dgCMatrix-method | 0.00 | 0.01 | 0.01 | |
| colIQRs-xgCMatrix-method | 0 | 0 | 0 | |
| colLogSumExps-xgCMatrix-method | 0 | 0 | 0 | |
| colMadDiffs-dgCMatrix-method | 0 | 0 | 0 | |
| colMads-dgCMatrix-method | 0 | 0 | 0 | |
| colMaxs-dgCMatrix-method | 0 | 0 | 0 | |
| colMeans2-xgCMatrix-method | 0.01 | 0.00 | 0.02 | |
| colMedians-dgCMatrix-method | 0 | 0 | 0 | |
| colMins-dgCMatrix-method | 0 | 0 | 0 | |
| colOrderStats-dgCMatrix-method | 0 | 0 | 0 | |
| colProds-xgCMatrix-method | 0 | 0 | 0 | |
| colQuantiles-xgCMatrix-method | 0 | 0 | 0 | |
| colRanges-dgCMatrix-method | 0 | 0 | 0 | |
| colRanks-dgCMatrix-method | 0 | 0 | 0 | |
| colSdDiffs-dgCMatrix-method | 0 | 0 | 0 | |
| colSds-xgCMatrix-method | 0 | 0 | 0 | |
| colSums2-xgCMatrix-method | 0 | 0 | 0 | |
| colTabulates-xgCMatrix-method | 0 | 0 | 0 | |
| colVarDiffs-dgCMatrix-method | 0.02 | 0.00 | 0.01 | |
| colVars-xgCMatrix-method | 0 | 0 | 0 | |
| colWeightedMads-dgCMatrix-method | 0 | 0 | 0 | |
| colWeightedMeans-xgCMatrix-method | 0 | 0 | 0 | |
| colWeightedMedians-dgCMatrix-method | 0 | 0 | 0 | |
| colWeightedSds-xgCMatrix-method | 0 | 0 | 0 | |
| colWeightedVars-xgCMatrix-method | 0 | 0 | 0 | |