Back to Multiple platform build/check report for BioC 3.22:   simplified   long
ABCDEFGHIJKLMNOPQR[S]TUVWXYZ

This page was generated on 2025-10-24 12:07 -0400 (Fri, 24 Oct 2025).

HostnameOSArch (*)R versionInstalled pkgs
nebbiolo2Linux (Ubuntu 24.04.3 LTS)x86_644.5.1 Patched (2025-08-23 r88802) -- "Great Square Root" 4898
lconwaymacOS 12.7.6 Montereyx86_644.5.1 Patched (2025-09-10 r88807) -- "Great Square Root" 4688
kjohnson3macOS 13.7.7 Venturaarm644.5.1 Patched (2025-09-10 r88807) -- "Great Square Root" 4634
taishanLinux (openEuler 24.03 LTS)aarch644.5.0 (2025-04-11) -- "How About a Twenty-Six" 4658
Click on any hostname to see more info about the system (e.g. compilers)      (*) as reported by 'uname -p', except on Windows and Mac OS X

Package 1985/2359HostnameOS / ArchINSTALLBUILDCHECKBUILD BIN
seqsetvis 1.29.1  (landing page)
Joseph R Boyd
Snapshot Date: 2025-10-23 14:17 -0400 (Thu, 23 Oct 2025)
git_url: https://git.bioconductor.org/packages/seqsetvis
git_branch: devel
git_last_commit: c75429d
git_last_commit_date: 2025-07-23 17:50:06 -0400 (Wed, 23 Jul 2025)
nebbiolo2Linux (Ubuntu 24.04.3 LTS) / x86_64  OK    OK    OK  UNNEEDED, same version is already published
lconwaymacOS 12.7.6 Monterey / x86_64  OK    OK    OK    OK  UNNEEDED, same version is already published
kjohnson3macOS 13.7.7 Ventura / arm64  OK    OK    OK    OK  UNNEEDED, same version is already published
taishanLinux (openEuler 24.03 LTS) / aarch64  OK    OK    NA  


CHECK results for seqsetvis on kjohnson3

To the developers/maintainers of the seqsetvis package:
- Allow up to 24 hours (and sometimes 48 hours) for your latest push to git@git.bioconductor.org:packages/seqsetvis.git to reflect on this report. See Troubleshooting Build Report for more information.
- Use the following Renviron settings to reproduce errors and warnings.
- If 'R CMD check' started to fail recently on the Linux builder(s) over a missing dependency, add the missing dependency to 'Suggests:' in your DESCRIPTION file. See Renviron.bioc for more information.

raw results


Summary

Package: seqsetvis
Version: 1.29.1
Command: /Library/Frameworks/R.framework/Resources/bin/R CMD check --install=check:seqsetvis.install-out.txt --library=/Library/Frameworks/R.framework/Resources/library --no-vignettes --timings seqsetvis_1.29.1.tar.gz
StartedAt: 2025-10-23 22:09:54 -0400 (Thu, 23 Oct 2025)
EndedAt: 2025-10-23 22:13:29 -0400 (Thu, 23 Oct 2025)
EllapsedTime: 215.8 seconds
RetCode: 0
Status:   OK  
CheckDir: seqsetvis.Rcheck
Warnings: 0

Command output

##############################################################################
##############################################################################
###
### Running command:
###
###   /Library/Frameworks/R.framework/Resources/bin/R CMD check --install=check:seqsetvis.install-out.txt --library=/Library/Frameworks/R.framework/Resources/library --no-vignettes --timings seqsetvis_1.29.1.tar.gz
###
##############################################################################
##############################################################################


* using log directory ‘/Users/biocbuild/bbs-3.22-bioc/meat/seqsetvis.Rcheck’
* using R version 4.5.1 Patched (2025-09-10 r88807)
* using platform: aarch64-apple-darwin20
* R was compiled by
    Apple clang version 16.0.0 (clang-1600.0.26.6)
    GNU Fortran (GCC) 14.2.0
* running under: macOS Ventura 13.7.7
* using session charset: UTF-8
* using option ‘--no-vignettes’
* checking for file ‘seqsetvis/DESCRIPTION’ ... OK
* checking extension type ... Package
* this is package ‘seqsetvis’ version ‘1.29.1’
* package encoding: UTF-8
* checking package namespace information ... OK
* checking package dependencies ... OK
* checking if this is a source package ... OK
* checking if there is a namespace ... OK
* checking for hidden files and directories ... OK
* checking for portable file names ... OK
* checking for sufficient/correct file permissions ... OK
* checking whether package ‘seqsetvis’ can be installed ... OK
* checking installed package size ... OK
* checking package directory ... OK
* checking ‘build’ directory ... OK
* checking DESCRIPTION meta-information ... OK
* checking top-level files ... OK
* checking for left-over files ... OK
* checking index information ... OK
* checking package subdirectories ... OK
* checking code files for non-ASCII characters ... OK
* checking R files for syntax errors ... OK
* checking whether the package can be loaded ... OK
* checking whether the package can be loaded with stated dependencies ... OK
* checking whether the package can be unloaded cleanly ... OK
* checking whether the namespace can be loaded with stated dependencies ... OK
* checking whether the namespace can be unloaded cleanly ... OK
* checking dependencies in R code ... OK
* checking S3 generic/method consistency ... OK
* checking replacement functions ... OK
* checking foreign function calls ... OK
* checking R code for possible problems ... OK
* checking Rd files ... OK
* checking Rd metadata ... OK
* checking Rd cross-references ... OK
* checking for missing documentation entries ... OK
* checking for code/documentation mismatches ... OK
* checking Rd \usage sections ... OK
* checking Rd contents ... OK
* checking for unstated dependencies in examples ... OK
* checking contents of ‘data’ directory ... OK
* checking data for non-ASCII characters ... OK
* checking data for ASCII and uncompressed saves ... OK
* checking files in ‘vignettes’ ... OK
* checking examples ... OK
* checking for unstated dependencies in ‘tests’ ... OK
* checking tests ...
  Running ‘testthat.R’
 OK
* checking for unstated dependencies in vignettes ... OK
* checking package vignettes ... OK
* checking running R code from vignettes ... SKIPPED
* checking re-building of vignette outputs ... SKIPPED
* checking PDF version of manual ... OK
* DONE

Status: OK


Installation output

seqsetvis.Rcheck/00install.out

##############################################################################
##############################################################################
###
### Running command:
###
###   /Library/Frameworks/R.framework/Resources/bin/R CMD INSTALL seqsetvis
###
##############################################################################
##############################################################################


* installing to library ‘/Library/Frameworks/R.framework/Versions/4.5-arm64/Resources/library’
* installing *source* package ‘seqsetvis’ ...
** this is package ‘seqsetvis’ version ‘1.29.1’
** using staged installation
** R
** data
** inst
** byte-compile and prepare package for lazy loading
** help
*** installing help indices
** building package indices
** installing vignettes
** testing if installed package can be loaded from temporary location
** testing if installed package can be loaded from final location
** testing if installed package keeps a record of temporary installation path
* DONE (seqsetvis)

Tests output

seqsetvis.Rcheck/tests/testthat.Rout


R version 4.5.1 Patched (2025-09-10 r88807) -- "Great Square Root"
Copyright (C) 2025 The R Foundation for Statistical Computing
Platform: aarch64-apple-darwin20

R is free software and comes with ABSOLUTELY NO WARRANTY.
You are welcome to redistribute it under certain conditions.
Type 'license()' or 'licence()' for distribution details.

R is a collaborative project with many contributors.
Type 'contributors()' for more information and
'citation()' on how to cite R or R packages in publications.

Type 'demo()' for some demos, 'help()' for on-line help, or
'help.start()' for an HTML browser interface to help.
Type 'q()' to quit R.

> 
> ## load dependencies
> library(testthat)
> library(seqsetvis)
Loading required package: ggplot2
> library(data.table)
> 
> ## test package
> test_check(package = "seqsetvis")
[ FAIL 0 | WARN 3 | SKIP 0 | PASS 1291 ]

[ FAIL 0 | WARN 3 | SKIP 0 | PASS 1291 ]
> 
> proc.time()
   user  system elapsed 
 80.900   1.817  85.855 

Example timings

seqsetvis.Rcheck/seqsetvis-Ex.timings

nameusersystemelapsed
add_cluster_annotation1.2160.0251.299
append_ynorm0.0180.0020.020
applyMovingAverage0.2950.0030.303
applySpline0.1490.0050.163
assemble_heatmap_cluster_bars0.2870.0040.300
calc_norm_factors0.0100.0010.012
centerAtMax0.0780.0030.082
centerFixedSizeGRanges0.0460.0030.049
centerGRangesAtMax0.1760.0060.181
clusteringKmeans0.0110.0020.013
clusteringKmeansNestedHclust0.0110.0020.014
col2hex000
collapse_gr0.2210.0040.226
convert_collapsed_coord0.0690.0040.086
copy_clust_info0.5480.0080.578
crossCorrByRle0.1320.0040.138
easyLoad_FUN0.0160.0010.016
easyLoad_IDRmerged0.0130.0010.013
easyLoad_bed0.0370.0000.037
easyLoad_broadPeak0.0180.0010.018
easyLoad_narrowPeak0.0130.0000.014
easyLoad_seacr0.0130.0000.014
expandCigar0.0470.0030.071
findMaxPos0.0150.0040.023
fragLen_calcStranded0.4890.0050.511
fragLen_fromMacs2Xls0.0010.0000.001
getReadLength0.0180.0010.021
get_mapped_reads0.0030.0010.004
ggellipse0.2760.0020.280
harmonize_seqlengths0.0360.0030.040
make_clustering_matrix0.0270.0020.043
merge_clusters1.3110.0231.459
prepare_fetch_GRanges0.0080.0010.009
prepare_fetch_GRanges_names0.0240.0010.024
prepare_fetch_GRanges_width0.0080.0010.010
quantileGRangesWidth0.0000.0010.001
reorder_clusters_hclust0.7220.0060.753
reorder_clusters_manual0.8380.0080.920
reorder_clusters_stepdown0.6830.0080.728
reverse_clusters0.7710.0110.822
safeBrew0.0080.0010.009
split_cluster0.6670.0090.719
ssvAnnotateSubjectGRanges0.2820.0100.292
ssvConsensusIntervalSets0.1060.0030.121
ssvFactorizeMembTable0.0050.0020.007
ssvFeatureBars0.2650.0030.272
ssvFeatureBinaryHeatmap3.1220.2053.397
ssvFeatureEuler0.2560.0070.264
ssvFeaturePie0.2000.0030.202
ssvFeatureUpset1.0100.0151.027
ssvFeatureVenn0.4510.0050.465
ssvFetchBam1.7120.0601.816
ssvFetchBamPE0.5710.0300.605
ssvFetchBamPE.RNA0.4550.0200.475
ssvFetchBigwig0.3980.0060.405
ssvFetchGRanges0.2110.0020.213
ssvFetchSignal0.4510.0140.469
ssvMakeMembTable-methods0.1550.0030.160
ssvOverlapIntervalSets0.0740.0020.078
ssvSignalBandedQuantiles1.2260.0281.382
ssvSignalClustering0.9890.0201.227
ssvSignalHeatmap.ClusterBars1.3320.0201.783
ssvSignalHeatmap1.8890.0592.358
ssvSignalLineplot0.8690.0060.894
ssvSignalLineplotAgg0.3150.0050.328
ssvSignalScatterplot0.3510.0060.390
viewGRangesWinSample_dt0.3460.0100.372
viewGRangesWinSummary_dt0.3440.0100.361
within_clust_sort0.5310.0080.637